BEGIN:VCALENDAR
VERSION:2.0
PRODID:-// - ECPv6.14.2//NONSGML v1.0//EN
CALSCALE:GREGORIAN
METHOD:PUBLISH
X-ORIGINAL-URL:https://nativepeoplesaction.org
X-WR-CALDESC:Events for 
REFRESH-INTERVAL;VALUE=DURATION:PT1H
X-Robots-Tag:noindex
X-PUBLISHED-TTL:PT1H
BEGIN:VTIMEZONE
TZID:America/Anchorage
BEGIN:DAYLIGHT
TZOFFSETFROM:-0900
TZOFFSETTO:-0800
TZNAME:AKDT
DTSTART:20250309T110000
END:DAYLIGHT
BEGIN:STANDARD
TZOFFSETFROM:-0800
TZOFFSETTO:-0900
TZNAME:AKST
DTSTART:20251102T100000
END:STANDARD
END:VTIMEZONE
BEGIN:VEVENT
DTSTART;VALUE=DATE:20250203
DTEND;VALUE=DATE:20250212
DTSTAMP:20260422T170231
CREATED:20241108T200642Z
LAST-MODIFIED:20250923T195057Z
UID:3968-1738540800-1739318399@nativepeoplesaction.org
SUMMARY:NPFMC Meeting - Chum Bycatch EIS
DESCRIPTION:February 3-11\, 2025\, NPFMC will be holding a special meeting\, in-person in Anchorage at the Egan Center\, exclusively to review the second Initial Review Draft of the Chum Bycatch EIS. Based on preliminary planning\, the SSC will meet from February 3-5\, and is the only group that may also take up other agenda items. The AP will meet from February 4-7\, and the Council will meet from February 7-11\, 2025.
URL:https://nativepeoplesaction.org/event/npfmc-special-meeting-chum-bycatch-eis/
LOCATION:William A. Egan Civic & Convention Center\, 555 W 5th Ave\, Anchorage\, AK\, 99501\, United States
END:VEVENT
END:VCALENDAR