BEGIN:VCALENDAR
VERSION:2.0
PRODID:-// - ECPv6.14.2//NONSGML v1.0//EN
CALSCALE:GREGORIAN
METHOD:PUBLISH
X-ORIGINAL-URL:https://nativepeoplesaction.org
X-WR-CALDESC:Events for 
REFRESH-INTERVAL;VALUE=DURATION:PT1H
X-Robots-Tag:noindex
X-PUBLISHED-TTL:PT1H
BEGIN:VTIMEZONE
TZID:America/Anchorage
BEGIN:DAYLIGHT
TZOFFSETFROM:-0900
TZOFFSETTO:-0800
TZNAME:AKDT
DTSTART:20260308T110000
END:DAYLIGHT
BEGIN:STANDARD
TZOFFSETFROM:-0800
TZOFFSETTO:-0900
TZNAME:AKST
DTSTART:20261101T100000
END:STANDARD
BEGIN:DAYLIGHT
TZOFFSETFROM:-0900
TZOFFSETTO:-0800
TZNAME:AKDT
DTSTART:20270314T110000
END:DAYLIGHT
BEGIN:STANDARD
TZOFFSETFROM:-0800
TZOFFSETTO:-0900
TZNAME:AKST
DTSTART:20271107T100000
END:STANDARD
END:VTIMEZONE
BEGIN:VEVENT
DTSTART;VALUE=DATE:20260429
DTEND;VALUE=DATE:20260430
DTSTAMP:20260422T180514
CREATED:20250923T194949Z
LAST-MODIFIED:20250923T194949Z
UID:6080-1777420800-1777507199@nativepeoplesaction.org
SUMMARY:Alaska Bycatch Advisory Council Meeting
DESCRIPTION:
URL:https://nativepeoplesaction.org/event/alaska-bycatch-advisory-council-meeting/
CATEGORIES:Meetings
END:VEVENT
BEGIN:VEVENT
DTSTART;TZID=America/Anchorage:20260501T235900
DTEND;TZID=America/Anchorage:20260501T235900
DTSTAMP:20260422T180514
CREATED:20260420T182818Z
LAST-MODIFIED:20260420T182826Z
UID:7044-1777679940-1777679940@nativepeoplesaction.org
SUMMARY:PROPOSAL DEADLINE: Board of Game 2026/27
DESCRIPTION:Call for proposals: https://www.adfg.alaska.gov/static/regulations/regprocess/gameboard/pdfs/2026-2027/call_26-27.pdf \nSubmit proposals here: https://survey123.arcgis.com/share/aaff9bcb773049d3a064508611eb69f6
URL:https://nativepeoplesaction.org/event/proposal-deadline-board-of-game-2026-27/
CATEGORIES:Board of Game,Deadline
END:VEVENT
BEGIN:VEVENT
DTSTART;VALUE=DATE:20260504
DTEND;VALUE=DATE:20260507
DTSTAMP:20260422T180514
CREATED:20260420T223225Z
LAST-MODIFIED:20260420T223225Z
UID:7049-1777852800-1778111999@nativepeoplesaction.org
SUMMARY:Yukon River Intertribal Fish Commission Annual Meeting
DESCRIPTION:
URL:https://nativepeoplesaction.org/event/yukon-river-intertribal-fish-commission-annual-meeting/
LOCATION:Pikes Waterfront Lodge\, 1850 Hoselton Rd.\, Faribanks\, Alaska\, 99709
CATEGORIES:Meetings
END:VEVENT
BEGIN:VEVENT
DTSTART;VALUE=DATE:20260721
DTEND;VALUE=DATE:20260726
DTSTAMP:20260422T180514
CREATED:20260202T231448Z
LAST-MODIFIED:20260202T231448Z
UID:6554-1784592000-1785023999@nativepeoplesaction.org
SUMMARY:ICC General Assembly
DESCRIPTION:Held in Iqaluit\, Nunavut\, Canada \nSee press release here: https://iccalaska.org/wp-icc/wp-content/uploads/2025/10/30-09-2025-ICC-General-Assembly-2026.pdf
URL:https://nativepeoplesaction.org/event/icc-general-assembly/
CATEGORIES:Events
END:VEVENT
BEGIN:VEVENT
DTSTART;VALUE=DATE:20260804
DTEND;VALUE=DATE:20260806
DTSTAMP:20260422T180514
CREATED:20251203T234228Z
LAST-MODIFIED:20251203T234228Z
UID:6332-1785801600-1785974399@nativepeoplesaction.org
SUMMARY:FSB Summer Work Session
DESCRIPTION:
URL:https://nativepeoplesaction.org/event/fsb-summer-work-session/
CATEGORIES:Federal Subsistence,Meetings
END:VEVENT
BEGIN:VEVENT
DTSTART;VALUE=DATE:20270525
DTEND;VALUE=DATE:20270528
DTSTAMP:20260422T180514
CREATED:20260420T174956Z
LAST-MODIFIED:20260420T174956Z
UID:6953-1811203200-1811462399@nativepeoplesaction.org
SUMMARY:Native Americans in Philanthropy Annual Conference
DESCRIPTION:2027 conference will be held in Anchorage\, AK
URL:https://nativepeoplesaction.org/event/native-americans-in-philanthropy-annual-conference/
CATEGORIES:Events
END:VEVENT
END:VCALENDAR