BEGIN:VCALENDAR
VERSION:2.0
PRODID:-// - ECPv6.14.2//NONSGML v1.0//EN
CALSCALE:GREGORIAN
METHOD:PUBLISH
X-ORIGINAL-URL:https://nativepeoplesaction.org
X-WR-CALDESC:Events for 
REFRESH-INTERVAL;VALUE=DURATION:PT1H
X-Robots-Tag:noindex
X-PUBLISHED-TTL:PT1H
BEGIN:VTIMEZONE
TZID:America/Anchorage
BEGIN:DAYLIGHT
TZOFFSETFROM:-0900
TZOFFSETTO:-0800
TZNAME:AKDT
DTSTART:20250309T110000
END:DAYLIGHT
BEGIN:STANDARD
TZOFFSETFROM:-0800
TZOFFSETTO:-0900
TZNAME:AKST
DTSTART:20251102T100000
END:STANDARD
BEGIN:DAYLIGHT
TZOFFSETFROM:-0900
TZOFFSETTO:-0800
TZNAME:AKDT
DTSTART:20260308T110000
END:DAYLIGHT
BEGIN:STANDARD
TZOFFSETFROM:-0800
TZOFFSETTO:-0900
TZNAME:AKST
DTSTART:20261101T100000
END:STANDARD
END:VTIMEZONE
BEGIN:VEVENT
DTSTART;VALUE=DATE:20260202
DTEND;VALUE=DATE:20260212
DTSTAMP:20260421T192426
CREATED:20250821T235400Z
LAST-MODIFIED:20260127T025313Z
UID:5710-1769990400-1770854399@nativepeoplesaction.org
SUMMARY:NPFMC Meeting (Chum Bycatch)
DESCRIPTION:Final action on chum bycatch \nAnchorage\, AK
URL:https://nativepeoplesaction.org/event/npfmc-meeting-chum-bycatch/
CATEGORIES:NPFMC
END:VEVENT
BEGIN:VEVENT
DTSTART;VALUE=DATE:20260130
DTEND;VALUE=DATE:20260131
DTSTAMP:20260421T192426
CREATED:20260127T025440Z
LAST-MODIFIED:20260127T025535Z
UID:6540-1769731200-1769817599@nativepeoplesaction.org
SUMMARY:DEADLINE: Comments to NPFMC
DESCRIPTION:Comments due for February NPFMC meeting on chum bycatch at 12pm AKST
URL:https://nativepeoplesaction.org/event/deadline-comments-to-npfmc-2/
CATEGORIES:Deadline,NPFMC
END:VEVENT
BEGIN:VEVENT
DTSTART;VALUE=DATE:20251201
DTEND;VALUE=DATE:20251210
DTSTAMP:20260421T192426
CREATED:20250220T213138Z
LAST-MODIFIED:20250813T184238Z
UID:4715-1764547200-1765324799@nativepeoplesaction.org
SUMMARY:NPFMC Meeting
DESCRIPTION:*VIRTUAL MEETING* \nhttps://www.npfmc.org/wp-content/PDFdocuments/meetings/SCHEDULE_1025.pdf
URL:https://nativepeoplesaction.org/event/npfmc-meeting-5/
LOCATION:William A. Egan Civic & Convention Center\, 555 W 5th Ave\, Anchorage\, AK\, 99501\, United States
CATEGORIES:NPFMC
END:VEVENT
BEGIN:VEVENT
DTSTART;VALUE=DATE:20250929
DTEND;VALUE=DATE:20251010
DTSTAMP:20260421T192426
CREATED:20250220T213059Z
LAST-MODIFIED:20250813T215755Z
UID:4713-1759104000-1760054399@nativepeoplesaction.org
SUMMARY:NPFMC Meeting *Virtual*
DESCRIPTION:See draft schedule here: https://www.npfmc.org/wp-content/PDFdocuments/meetings/SCHEDULE_1025.pdf \nTune into meetings at https://www.youtube.com/@NPFMC \nComments are due September 26th at 12pm
URL:https://nativepeoplesaction.org/event/npfmc-meeting-4/
LOCATION:William A. Egan Civic & Convention Center\, 555 W 5th Ave\, Anchorage\, AK\, 99501\, United States
CATEGORIES:NPFMC
END:VEVENT
BEGIN:VEVENT
DTSTART;TZID=America/Anchorage:20250926T120000
DTEND;TZID=America/Anchorage:20250926T120000
DTSTAMP:20260421T192426
CREATED:20250813T215934Z
LAST-MODIFIED:20250813T215934Z
UID:5569-1758888000-1758888000@nativepeoplesaction.org
SUMMARY:DEADLINE: Comments to NPFMC
DESCRIPTION:COMMENTS ARE DUE AT 12PM ON SEPT. 26 \nSubmit comments to SSC here: https://meetings.npfmc.org/Meeting/Details/3096 \nSubmit comments to AP & Council here: https://meetings.npfmc.org/Meeting/Details/3095
URL:https://nativepeoplesaction.org/event/deadline-comments-to-npfmc/
CATEGORIES:Deadline,NPFMC
END:VEVENT
BEGIN:VEVENT
DTSTART;TZID=America/Anchorage:20250905T060000
DTEND;TZID=America/Anchorage:20250905T060000
DTSTAMP:20260421T192426
CREATED:20250813T220039Z
LAST-MODIFIED:20250813T220039Z
UID:5571-1757052000-1757052000@nativepeoplesaction.org
SUMMARY:NPFMC Comment Period Opens
DESCRIPTION:COMMENTS ARE DUE AT 12PM ON SEPT. 26 \nSubmit comments to SSC here: https://meetings.npfmc.org/Meeting/Details/3096 \nSubmit comments to AP & Council here: https://meetings.npfmc.org/Meeting/Details/3095
URL:https://nativepeoplesaction.org/event/npfmc-comment-period-opens/
CATEGORIES:NPFMC
END:VEVENT
BEGIN:VEVENT
DTSTART;VALUE=DATE:20250602
DTEND;VALUE=DATE:20250611
DTSTAMP:20260421T192426
CREATED:20250220T213025Z
LAST-MODIFIED:20250812T192954Z
UID:4711-1748822400-1749599999@nativepeoplesaction.org
SUMMARY:NPFMC Meeting
DESCRIPTION:Agate Beach BW\, Newport\, Oregon
URL:https://nativepeoplesaction.org/event/npfmc-meeting-3/
CATEGORIES:NPFMC
END:VEVENT
END:VCALENDAR