BEGIN:VCALENDAR
VERSION:2.0
PRODID:-// - ECPv6.14.2//NONSGML v1.0//EN
CALSCALE:GREGORIAN
METHOD:PUBLISH
X-ORIGINAL-URL:https://nativepeoplesaction.org
X-WR-CALDESC:Events for 
REFRESH-INTERVAL;VALUE=DURATION:PT1H
X-Robots-Tag:noindex
X-PUBLISHED-TTL:PT1H
BEGIN:VTIMEZONE
TZID:America/Anchorage
BEGIN:DAYLIGHT
TZOFFSETFROM:-0900
TZOFFSETTO:-0800
TZNAME:AKDT
DTSTART:20250309T110000
END:DAYLIGHT
BEGIN:STANDARD
TZOFFSETFROM:-0800
TZOFFSETTO:-0900
TZNAME:AKST
DTSTART:20251102T100000
END:STANDARD
END:VTIMEZONE
BEGIN:VEVENT
DTSTART;TZID=America/Anchorage:20251125T180000
DTEND;TZID=America/Anchorage:20251125T193000
DTSTAMP:20260421T193426
CREATED:20251112T222532Z
LAST-MODIFIED:20251112T222532Z
UID:6309-1764093600-1764099000@nativepeoplesaction.org
SUMMARY:Petersburg AC Meeting
DESCRIPTION:The Petersburg Fish and Game Advisory Committee will be holding a public meeting on Tuesday November 25\, 2025 at 6 pm. Location: Petersburg Borough Assembly Chambers Address: 12 South Nordic Drive\, Petersburg\, AK 99833 Join the meeting online: https://us06web.zoom.us/j/84976902443?pwd=lSOOTaKNbWdjTB4BGHoE7aFeoZoeaE.1 Meeting ID: 849 7690 2443 Passcode: PETERSBURG Dial in: +1 253 215 8782 Agenda items will include the following: * Elections for expired and vacant seats (see online roster for specific seats at: https://www.adfg.alaska.gov/index.cfm?adfg=process.acinfo&ac=petersburg * Officer Elections * Scheduling the review and discussion of Board of Game Southeast Region Proposals. * Other fishery and wildlife business as needed. Election Information: To be eligible to make nominations or vote in an election of a Fish & Game Advisory Committee\, you must be a voting-age resident of the area served by the committee as defined in 5 AAC 96.910(10) and attending the election meeting. The areas served by the Petersburg Fish and Game Advisory Committee as defined in 5 AAC 97.005 are Game Management Units 1B\, 1C\, 2\, 3\, and 4. For updates to this agenda or to view the minutes following a meeting please see the Petersburg AC meeting page link above\, or contact Sam Kirby from ADF&G Boards Support Section at (907) 269-6977. Advisory Committees are intended to provide a local forum on fish and wildlife issues. Their purpose includes: 1) developing regulatory proposals\, 2) evaluating regulatory proposals and making recommendations to the appropriate board\, 3) providing a local forum for fish and wildlife conservation and use\, including matters relating to habitat\, and 4) cooperating and consulting with interested persons and organizations\, including government agencies\, and encourage youth and elder involvement in committee activities. If you are a person who needs a special accommodation in order to participate in any of these public meetings\, please contact the Boards Support Section at 907-269-6977 no later than 48 hours prior to the meeting\, to make any necessary arrangements.
URL:https://nativepeoplesaction.org/event/petersburg-ac-meeting/
LOCATION:Alaska
CATEGORIES:Board of Fish,Board of Game,Meetings
END:VEVENT
BEGIN:VEVENT
DTSTART;TZID=America/Anchorage:20251125T183000
DTEND;TZID=America/Anchorage:20251125T220000
DTSTAMP:20260421T193426
CREATED:20251112T222659Z
LAST-MODIFIED:20251112T222659Z
UID:6313-1764095400-1764108000@nativepeoplesaction.org
SUMMARY:Bethel AC Meeting
DESCRIPTION:Bethel Fish & Game Advisory Committee will meet and hold elections. When: Tuesday\, November 25th\, 2025 beginning at 6:30 PM Agenda Items include: * Board of Game proposal ideas discussion * Other Business as necessary For updates to this agenda or to view the minutes following a meeting please see the Bethel AC page here: Bethel Advisory Committee\, Alaska Department of Fish and Game To Join by Zoom Meeting: https://us06web.zoom.us/j/85656387964?pwd=pEiskbQLATj3v523z2nH7rSQ88lbfH.1 Meeting ID: 856 5638 7964 Passcode: BETH To join by teleconference dial one of the following numbers: 1-253-215-8782 Meeting ID: 833 9330 1543 Participant ID:# For further information on this meeting or to be added to the electronic email notices for this committee\, please contact the Western Region Coordinator who’s contact information can be found at the bottom of this notice. Advisory committees are local groups that meet to discuss fishing and wildlife issues and to provide recommendations to Alaska Board of Fisheries and Alaska Board of Game. All meetings are open to the public. Advisory Committees are intended to provide a local forum on fish and wildlife issues. Their purpose includes: 1) developing regulatory proposals\, 2) evaluating regulatory proposals and making recommendations to the appropriate board\, 3) providing a local forum for fish and wildlife conservation and use\, including matters relating to habitat\, and 4) cooperating and consulting with interested persons and organizations\, including government agencies\, and encourage youth and elder involvement in committee activities. If you are a person experiencing a disability who needs a special accommodation to participate in these public meetings\, please contact the regional coordinator no later than 48 hours prior to the meeting to make any necessary arrangements. If a toll-free number is required\, please contact: Savannah Hollingworth Board Support Section PO Box 1467 Bethel\, AK 99559 Cell: 907.545.8166 Phone: 907.543.2931 Fax: 907.543.2021 savannah.hollingworth@alaska.gov Topic: Bethel AC Meeting Time: Nov 25\, 2025 06:30 PM Alaska Join Zoom Meeting https://us06web.zoom.us/j/85656387964?pwd=pEiskbQLATj3v523z2nH7rSQ88lbfH.1 Meeting ID: 856 5638 7964 Passcode: BETH — One tap mobile +12532050468\,\,85656387964# US +12532158782\,\,85656387964# US (Tacoma) Join instructions https://us06web.zoom.us/meetings/85656387964/invitations?signature=ubiBJ1zEzpV1SARUWrPnhK8k5BHJCno4vNg7SvFwmVA ________________________________________________________________________________ Microsoft Teams Need help? Join the meeting now Meeting ID: 242 132 915 096 4 Passcode: 2kk3e3PZ ________________________________ Dial in by phone +1 907-202-7104\,\,2825465# United States\, Anchorage Find a local number Phone conference ID: 282 546 5# Join on a video conferencing device Tenant key: 260748889@t.plcm.vc Video ID: 116 816 687 7 More info For organizers: Meeting options | Reset dial-in PIN ________________________________________________________________________________
URL:https://nativepeoplesaction.org/event/bethel-ac-meeting/
LOCATION:Alaska
CATEGORIES:Board of Fish,Board of Game,Meetings
END:VEVENT
END:VCALENDAR