BEGIN:VCALENDAR
VERSION:2.0
PRODID:-// - ECPv6.14.2//NONSGML v1.0//EN
CALSCALE:GREGORIAN
METHOD:PUBLISH
X-ORIGINAL-URL:https://nativepeoplesaction.org
X-WR-CALDESC:Events for 
REFRESH-INTERVAL;VALUE=DURATION:PT1H
X-Robots-Tag:noindex
X-PUBLISHED-TTL:PT1H
BEGIN:VTIMEZONE
TZID:America/Anchorage
BEGIN:DAYLIGHT
TZOFFSETFROM:-0900
TZOFFSETTO:-0800
TZNAME:AKDT
DTSTART:20250309T110000
END:DAYLIGHT
BEGIN:STANDARD
TZOFFSETFROM:-0800
TZOFFSETTO:-0900
TZNAME:AKST
DTSTART:20251102T100000
END:STANDARD
END:VTIMEZONE
BEGIN:VEVENT
DTSTART;TZID=America/Anchorage:20251114T170000
DTEND;TZID=America/Anchorage:20251114T220000
DTSTAMP:20260421T211659
CREATED:20251112T221721Z
LAST-MODIFIED:20251112T221734Z
UID:6289-1763139600-1763157600@nativepeoplesaction.org
SUMMARY:Minto/Nenana AC Meeting
DESCRIPTION:The Minto-Nenana Fish and Game will hold a public meeting on Friday Nov. 14th\, 2025\, at 5pm. The meeting will be held over Zoom/Teleconference. This is a public meeting. Agenda items include the following: Discussion: Discussion of the Board of Fisheries Proposals – Arctic Yukon and Kuskokwim proposals Other fish and wildlife topics if needed. Join via Zoom at: https://us06web.zoom.us/j/82012627221?pwd=RPVtP4i74BayGgkNfGV2O46C8RSaBZ.1 Meeting ID: 820 1262 7221 Password: BOFAYK By phone: +1-253-215-8782 For more information about this meeting and the Minto-Nenana AC\, visit the website at Fish and Game Advisory Committees page\, or contact the Chair or Boards Support Section. You can also email kyle.campbell@alaska.gov or art.nelson@alaska.gov. Advisory Committees established to provide a local forum on fish and wildlife issues. Their purpose includes: 1) developing regulatory proposals\, 2) evaluating regulatory proposals and making recommendations to the appropriate board\, 3) providing a local forum for fish and wildlife conservation and use\, including matters relating to habitat\, 4) advising the appropriate regional council on resources\, and 5) consulting with individuals\, organizations\, and agencies. If you are a person who needs special accommodation in order to participate in any of these public meetings\, please contact Kyle Campbell at 907.459.7263 or Art Nelson 907.267.2292 at no later than 48 hours prior to the meeting\, to make any necessary arrangements. ________________________________________________________________________________ Microsoft Teams Need help? Join the meeting now Meeting ID: 253 079 494 616 44 Passcode: V7jN6kV3 ________________________________ Dial in by phone +1 907-202-7104\,\,240241354# United States\, Anchorage Find a local number Phone conference ID: 240 241 354# Join on a video conferencing device Tenant key: 260748889@t.plcm.vc Video ID: 118 103 898 6 More info For organizers: Meeting options | Reset dial-in PIN
URL:https://nativepeoplesaction.org/event/minto-nenana-ac-meeting/
LOCATION:Alaska
CATEGORIES:Board of Fish,Board of Game,Meetings
END:VEVENT
END:VCALENDAR