BEGIN:VCALENDAR
VERSION:2.0
PRODID:-// - ECPv6.14.2//NONSGML v1.0//EN
CALSCALE:GREGORIAN
METHOD:PUBLISH
X-ORIGINAL-URL:https://nativepeoplesaction.org
X-WR-CALDESC:Events for 
REFRESH-INTERVAL;VALUE=DURATION:PT1H
X-Robots-Tag:noindex
X-PUBLISHED-TTL:PT1H
BEGIN:VTIMEZONE
TZID:America/Anchorage
BEGIN:DAYLIGHT
TZOFFSETFROM:-0900
TZOFFSETTO:-0800
TZNAME:AKDT
DTSTART:20250309T110000
END:DAYLIGHT
BEGIN:STANDARD
TZOFFSETFROM:-0800
TZOFFSETTO:-0900
TZNAME:AKST
DTSTART:20251102T100000
END:STANDARD
END:VTIMEZONE
BEGIN:VEVENT
DTSTART;VALUE=DATE:20250304
DTEND;VALUE=DATE:20250306
DTSTAMP:20260422T091725
CREATED:20241109T022332Z
LAST-MODIFIED:20250225T233614Z
UID:4051-1741046400-1741219199@nativepeoplesaction.org
SUMMARY:Yukon-Kuskokwim Delta Subsistence RAC
DESCRIPTION:Yukon-Kuskokwim Delta Regional Advisory Council to the Federal Subsistence Board meeting at Yupiit Piciryarait Cultural Center in Bethel\, AK \nCall in number: 1-833-436-1163.  Conference ID: 203 328 214#\nMicrosoft Teams Meeting Link:  Click here to join meeting 
URL:https://nativepeoplesaction.org/event/yukon-kuskokwim-delta-rac-federal-subsistence-board/
LOCATION:Alaska
CATEGORIES:Meetings
END:VEVENT
BEGIN:VEVENT
DTSTART;VALUE=DATE:20250306
DTEND;VALUE=DATE:20250308
DTSTAMP:20260422T091725
CREATED:20241109T022443Z
LAST-MODIFIED:20250225T233720Z
UID:4053-1741219200-1741391999@nativepeoplesaction.org
SUMMARY:Kodiak/Aleutians Subsistence RAC
DESCRIPTION:Kodiak/Aleutians Regional Advisory Council to the Federal Subsistence Board meeting at Kodiak National Wildlife Refuge Visitor Center in Kodiak\, AK \nCall in number: 1-833-436-1163\, Conference ID: 412 420 049#\nMicrosoft Teams Meeting Link:  Click here to join meeting  
URL:https://nativepeoplesaction.org/event/kodiak-aleutians-rac-federal-subsistence-board/
LOCATION:Alaska
CATEGORIES:Meetings
END:VEVENT
BEGIN:VEVENT
DTSTART;VALUE=DATE:20250311
DTEND;VALUE=DATE:20250317
DTSTAMP:20260422T091725
CREATED:20241016T183831Z
LAST-MODIFIED:20241016T192431Z
UID:3942-1741651200-1742169599@nativepeoplesaction.org
SUMMARY:BOF Statewide Shellfish\, Prince William Sound Shrimp\, & Supplemental Issues
DESCRIPTION:Comment due date: February 25\, 2025 11:59 p.m. (AKST) \nhttps://survey123.arcgis.com/share/c80f892b05d645929208b680901f42ee \nHeld in Anchorage\, Alaska at the Egan Civic & Convention Center
URL:https://nativepeoplesaction.org/event/bof-statewide-shellfish-prince-william-sound-shrimp-supplemental-issues/
LOCATION:Alaska
CATEGORIES:Meetings
END:VEVENT
BEGIN:VEVENT
DTSTART;VALUE=DATE:20250312
DTEND;VALUE=DATE:20250314
DTSTAMP:20260422T091725
CREATED:20241109T022526Z
LAST-MODIFIED:20250225T233805Z
UID:4055-1741737600-1741910399@nativepeoplesaction.org
SUMMARY:Southcentral Alaska Subsistence RAC
DESCRIPTION:Federal Subsistence Management Program \nSouthcentral Regional Advisory Council meeting at the Cordova Center in Cordova\, AK \nCall in number: 1-833-436-1163\, Conference ID: 912 598 298#\nMicrosoft Teams Meeting Link:  Click here to join meeting 
URL:https://nativepeoplesaction.org/event/southcentral-rac-federal-subsistence-board/
LOCATION:Alaska
CATEGORIES:Meetings
END:VEVENT
BEGIN:VEVENT
DTSTART;VALUE=DATE:20250318
DTEND;VALUE=DATE:20250321
DTSTAMP:20260422T091725
CREATED:20241109T022627Z
LAST-MODIFIED:20250225T233851Z
UID:4058-1742256000-1742515199@nativepeoplesaction.org
SUMMARY:Southeast Alaska Subsistence RAC
DESCRIPTION:Federal Subsistence Management Program \nSoutheast Alaska Regional Advisory Council meeting at Harrigan Centennial Hall (Raven Room) in Sitka\, AK \nCall in number 1-833-436-1163.  Conference ID:  584 213 541#\nMicrosoft Teams Meeting Link:  Click here to join meeting  
URL:https://nativepeoplesaction.org/event/southeast-alaska-rac-federal-subsistence-board/
LOCATION:Alaska
CATEGORIES:Meetings
END:VEVENT
BEGIN:VEVENT
DTSTART;VALUE=DATE:20250321
DTEND;VALUE=DATE:20250329
DTSTAMP:20260422T091725
CREATED:20241016T184319Z
LAST-MODIFIED:20241112T182915Z
UID:3948-1742515200-1743206399@nativepeoplesaction.org
SUMMARY:BOG Statewide Regulations
DESCRIPTION:Board of Game Statewide Regulations meeting \nOn-time comments due: 3/7/2025 \nHeld in Anchorage\, Alaska at the Egan Civic & Convention Center
URL:https://nativepeoplesaction.org/event/board-of-game-statewide-regulations/
LOCATION:Alaska
CATEGORIES:Meetings
END:VEVENT
BEGIN:VEVENT
DTSTART;VALUE=DATE:20250327
DTEND;VALUE=DATE:20250329
DTSTAMP:20260422T091725
CREATED:20241109T022710Z
LAST-MODIFIED:20250225T233943Z
UID:4061-1743033600-1743206399@nativepeoplesaction.org
SUMMARY:Northwest Arctic Subsistence RAC
DESCRIPTION:Federal Subsistence Management Program \nNorthwest Arctic Regional Advisory Council meeting at Northwest Arctic Heritage Center in Kotzebue\, AK \nCall in number: 1-833-436-1163.  Conference ID:  334 822 160#\nMicrosoft Teams Meeting Link: Click here to join meeting
URL:https://nativepeoplesaction.org/event/northwest-arctic-rac-federal-subsistence-board-2/
LOCATION:Alaska
CATEGORIES:Meetings
END:VEVENT
END:VCALENDAR