BEGIN:VCALENDAR
VERSION:2.0
PRODID:-// - ECPv6.14.2//NONSGML v1.0//EN
CALSCALE:GREGORIAN
METHOD:PUBLISH
X-ORIGINAL-URL:https://nativepeoplesaction.org
X-WR-CALDESC:Events for 
REFRESH-INTERVAL;VALUE=DURATION:PT1H
X-Robots-Tag:noindex
X-PUBLISHED-TTL:PT1H
BEGIN:VTIMEZONE
TZID:America/Anchorage
BEGIN:DAYLIGHT
TZOFFSETFROM:-0900
TZOFFSETTO:-0800
TZNAME:AKDT
DTSTART:20250309T110000
END:DAYLIGHT
BEGIN:STANDARD
TZOFFSETFROM:-0800
TZOFFSETTO:-0900
TZNAME:AKST
DTSTART:20251102T100000
END:STANDARD
END:VTIMEZONE
BEGIN:VEVENT
DTSTART;VALUE=DATE:20250128
DTEND;VALUE=DATE:20250210
DTSTAMP:20260422T111650
CREATED:20241016T183537Z
LAST-MODIFIED:20241016T192504Z
UID:3938-1738022400-1739145599@nativepeoplesaction.org
SUMMARY:BOF Southeast & Yakutat Finfish & Shellfish
DESCRIPTION:Comment due date: January 14\, 2025 11:59 p.m. (AKST) \nhttps://survey123.arcgis.com/share/ff76ff8fe4e14a0b93e758eb38fd360a \nHeld in Ketchikan\, Alaska at the Ted Ferry Civic Center
URL:https://nativepeoplesaction.org/event/bof-southeast-yakutat-finfish-shellfish/
LOCATION:Alaska
CATEGORIES:Meetings
END:VEVENT
BEGIN:VEVENT
DTSTART;VALUE=DATE:20250218
DTEND;VALUE=DATE:20250220
DTSTAMP:20260422T111650
CREATED:20241109T021935Z
LAST-MODIFIED:20241112T184859Z
UID:4043-1739836800-1740009599@nativepeoplesaction.org
SUMMARY:Bristol Bay Subsistence RAC
DESCRIPTION:Federal Subsistence Management Program \nBristol Bay Regional Advisory Council meeting in Naknek
URL:https://nativepeoplesaction.org/event/bristol-bay-rac-federal-subsistence-board/
LOCATION:Alaska
CATEGORIES:Meetings
END:VEVENT
BEGIN:VEVENT
DTSTART;VALUE=DATE:20250219
DTEND;VALUE=DATE:20250221
DTSTAMP:20260422T111650
CREATED:20241109T022028Z
LAST-MODIFIED:20241112T184920Z
UID:4045-1739923200-1740095999@nativepeoplesaction.org
SUMMARY:Eastern Interior Subsistence RAC
DESCRIPTION:Federal Subsistence Management Program \nEastern Interior Regional Advisory Council meeting in Fairbanks\, AK
URL:https://nativepeoplesaction.org/event/eastern-interior-rac-federal-subsistence-board/
LOCATION:Alaska
CATEGORIES:Meetings
END:VEVENT
BEGIN:VEVENT
DTSTART;VALUE=DATE:20250227
DTEND;VALUE=DATE:20250301
DTSTAMP:20260422T111650
CREATED:20241109T022216Z
LAST-MODIFIED:20250225T233454Z
UID:4049-1740614400-1740787199@nativepeoplesaction.org
SUMMARY:North Slope Subsistence RAC
DESCRIPTION:Federal Subsistence Management Program \nNorth Slope Regional Advisory Council meeting in Utqiagvik\, AK \nCall in number 1-833-436-1163.  Conference ID:  408 934 094#\nMicrosoft Teams Meeting Link: Click here to join meeting 
URL:https://nativepeoplesaction.org/event/north-slope-rac-federal-subsistence-board/
LOCATION:Alaska
CATEGORIES:Meetings
END:VEVENT
END:VCALENDAR