BEGIN:VCALENDAR
VERSION:2.0
PRODID:-// - ECPv6.14.2//NONSGML v1.0//EN
CALSCALE:GREGORIAN
METHOD:PUBLISH
X-ORIGINAL-URL:https://nativepeoplesaction.org
X-WR-CALDESC:Events for 
REFRESH-INTERVAL;VALUE=DURATION:PT1H
X-Robots-Tag:noindex
X-PUBLISHED-TTL:PT1H
BEGIN:VTIMEZONE
TZID:America/Anchorage
BEGIN:DAYLIGHT
TZOFFSETFROM:-0900
TZOFFSETTO:-0800
TZNAME:AKDT
DTSTART:20250309T110000
END:DAYLIGHT
BEGIN:STANDARD
TZOFFSETFROM:-0800
TZOFFSETTO:-0900
TZNAME:AKST
DTSTART:20251102T100000
END:STANDARD
END:VTIMEZONE
BEGIN:VEVENT
DTSTART;VALUE=DATE:20250109
DTEND;VALUE=DATE:20250110
DTSTAMP:20260422T131335
CREATED:20241016T184058Z
LAST-MODIFIED:20241112T203403Z
UID:3944-1736380800-1736467199@nativepeoplesaction.org
SUMMARY:BOG Work Session
DESCRIPTION:Board of Game Work Session \nOn-time comments due: TBD \nHeld in Wasilla\, Alaska at Best Western Lake Lucille Inn
URL:https://nativepeoplesaction.org/event/board-of-game-work-session/
LOCATION:Alaska
CATEGORIES:Meetings
END:VEVENT
BEGIN:VEVENT
DTSTART;VALUE=DATE:20250110
DTEND;VALUE=DATE:20250118
DTSTAMP:20260422T131335
CREATED:20241016T184222Z
LAST-MODIFIED:20241112T203353Z
UID:3946-1736467200-1737158399@nativepeoplesaction.org
SUMMARY:BOG Central & Southwest Region Meeting
DESCRIPTION:Board of Game Central & Southwest Region Meeting \nOn-time comments due: 12/27/2024 \nHeld in Wasilla\, Alaska at Best Western Lake Lucille Inn
URL:https://nativepeoplesaction.org/event/board-of-game-central-southwest-region-meeting/
LOCATION:Alaska
CATEGORIES:Meetings
END:VEVENT
BEGIN:VEVENT
DTSTART;TZID=America/Anchorage:20250122T140000
DTEND;TZID=America/Anchorage:20250122T153000
DTSTAMP:20260422T131335
CREATED:20250114T173442Z
LAST-MODIFIED:20250114T200718Z
UID:4545-1737554400-1737559800@nativepeoplesaction.org
SUMMARY:POWOL Working Group Meeting
DESCRIPTION:1. Regional Updates \n2. NPFMC February Meeting – Chum EIS Second Draft \n3. Preparing for the next administration and legislative session \n4. How can we best serve the POWOL Working Group? \n5. Next meeting
URL:https://nativepeoplesaction.org/event/powol-working-group-meeting-3/
LOCATION:Alaska
CATEGORIES:Meetings
ORGANIZER;CN="Native Peoples Action":MAILTO:info@aknpa.org
END:VEVENT
BEGIN:VEVENT
DTSTART;VALUE=DATE:20250128
DTEND;VALUE=DATE:20250210
DTSTAMP:20260422T131335
CREATED:20241016T183537Z
LAST-MODIFIED:20241016T192504Z
UID:3938-1738022400-1739145599@nativepeoplesaction.org
SUMMARY:BOF Southeast & Yakutat Finfish & Shellfish
DESCRIPTION:Comment due date: January 14\, 2025 11:59 p.m. (AKST) \nhttps://survey123.arcgis.com/share/ff76ff8fe4e14a0b93e758eb38fd360a \nHeld in Ketchikan\, Alaska at the Ted Ferry Civic Center
URL:https://nativepeoplesaction.org/event/bof-southeast-yakutat-finfish-shellfish/
LOCATION:Alaska
CATEGORIES:Meetings
END:VEVENT
END:VCALENDAR