BEGIN:VCALENDAR
VERSION:2.0
PRODID:-// - ECPv6.14.2//NONSGML v1.0//EN
CALSCALE:GREGORIAN
METHOD:PUBLISH
X-ORIGINAL-URL:https://nativepeoplesaction.org
X-WR-CALDESC:Events for 
REFRESH-INTERVAL;VALUE=DURATION:PT1H
X-Robots-Tag:noindex
X-PUBLISHED-TTL:PT1H
BEGIN:VTIMEZONE
TZID:America/Anchorage
BEGIN:DAYLIGHT
TZOFFSETFROM:-0900
TZOFFSETTO:-0800
TZNAME:AKDT
DTSTART:20240310T110000
END:DAYLIGHT
BEGIN:STANDARD
TZOFFSETFROM:-0800
TZOFFSETTO:-0900
TZNAME:AKST
DTSTART:20241103T100000
END:STANDARD
END:VTIMEZONE
BEGIN:VEVENT
DTSTART;VALUE=DATE:20241202
DTEND;VALUE=DATE:20241211
DTSTAMP:20260422T150434
CREATED:20241016T182337Z
LAST-MODIFIED:20241112T203550Z
UID:3923-1733097600-1733875199@nativepeoplesaction.org
SUMMARY:NPFMC December 2024 Meeting
DESCRIPTION:The SSC will meet December 2-4\, 2024. The AP will meet December 3-6\, 2024\, and the Council will meet December 5-10\, 2024.
URL:https://nativepeoplesaction.org/event/npfmc-meeting/
LOCATION:William A. Egan Civic & Convention Center\, 555 W 5th Ave\, Anchorage\, AK\, 99501\, United States
CATEGORIES:Meetings
END:VEVENT
BEGIN:VEVENT
DTSTART;TZID=America/Anchorage:20241203T180000
DTEND;TZID=America/Anchorage:20241203T200000
DTSTAMP:20260422T150434
CREATED:20241109T020613Z
LAST-MODIFIED:20241109T020613Z
UID:4035-1733248800-1733256000@nativepeoplesaction.org
SUMMARY:Anchorage F&G Advisory Committee Meeting
DESCRIPTION:The Anchorage AC will be meeting at this time to continue discussing BOG proposals.
URL:https://nativepeoplesaction.org/event/anchorage-fg-advisory-committee-meeting-2/
LOCATION:Alaska
CATEGORIES:Meetings
END:VEVENT
BEGIN:VEVENT
DTSTART;VALUE=DATE:20241210
DTEND;VALUE=DATE:20241217
DTSTAMP:20260422T150434
CREATED:20241016T183341Z
LAST-MODIFIED:20241112T203441Z
UID:3934-1733788800-1734393599@nativepeoplesaction.org
SUMMARY:BOF Prince William Sound & Upper Copper/Upper Susitna Finfish & Shellfish (except shrimp)
DESCRIPTION:Comment due date: November 26\, 2024 11:59 p.m. (AKST) \nhttps://survey123.arcgis.com/share/20e8915cafba4530ba3d5710da8dac3f \nHeld in Cordova\, Alaska at the Cordova Center
URL:https://nativepeoplesaction.org/event/bof-prince-william-sound-and-upper-copper-upper-susitna-finfish-and-shellfish-except-shrimp/
LOCATION:Alaska
CATEGORIES:Meetings
END:VEVENT
BEGIN:VEVENT
DTSTART;TZID=America/Anchorage:20241210T140000
DTEND;TZID=America/Anchorage:20241210T153000
DTSTAMP:20260422T150434
CREATED:20241121T092535Z
LAST-MODIFIED:20241121T092535Z
UID:4489-1733839200-1733844600@nativepeoplesaction.org
SUMMARY:POWOL Working Group Meeting
DESCRIPTION:Email communications@aknpa.org if you’d like to be on this email list to attend.
URL:https://nativepeoplesaction.org/event/powol-working-group-meeting/
LOCATION:Alaska
CATEGORIES:Meetings
ORGANIZER;CN="Native Peoples Action":MAILTO:info@aknpa.org
END:VEVENT
BEGIN:VEVENT
DTSTART;VALUE=DATE:20241211
DTEND;VALUE=DATE:20241213
DTSTAMP:20260422T150434
CREATED:20241016T182434Z
LAST-MODIFIED:20241112T203454Z
UID:3925-1733875200-1734047999@nativepeoplesaction.org
SUMMARY:Western Arctic Caribou Herd Working Group
DESCRIPTION:Held in Anchorage\, Alaska
URL:https://nativepeoplesaction.org/event/western-arctic-caribou-herd-working-group/
LOCATION:Alaska
CATEGORIES:Meetings
END:VEVENT
BEGIN:VEVENT
DTSTART;TZID=America/Anchorage:20241217T170000
DTEND;TZID=America/Anchorage:20241217T190000
DTSTAMP:20260422T150434
CREATED:20241109T020845Z
LAST-MODIFIED:20241112T184805Z
UID:4037-1734454800-1734462000@nativepeoplesaction.org
SUMMARY:Susitna Valley F&G Advisory Committee Meeting
DESCRIPTION:The Susitna Valley Fish and Game Advisory Committee will meet Tuesday\, December 17th at 5:00pm\nLocation: Talkeetna Library\nZoom: https://us06web.zoom.us/j/85893060051?pwd=lkthOaXuvCdWAHlajNAWD7SdlgykTJ.1\nMeeting ID: 858 9306 0051\nPasscode: Susitna\nTeleconference #: (833) 548-0282 \nAgenda Items Include:\nCurrent Board of Game Proposals\nReview of Tabled Board of Game Proposals with Additional ADFG Biologist Research Information\nOther Game and Fish Business as Necessary \nThe Susitna Valley Fish and Game Advisory Committee is a collection of community members from all user groups that come together\, discuss Fish and Game issues and recommend changes to current regulations. They also represent their community before the Board of Fisheries and Board of Game at board meetings. This meeting is open to the public. \nFor more information contact:\nAlaska Department of Fish and Game Leila Williams – Regional Coordinator (907) 267-2354 Or Chair Bryan Kirby\, (907) 232-8111 \n________________________________________________________________________________ \nMicrosoft Teams Need help?\nJoin the meeting now\nMeeting ID: 234 450 445 99\nPasscode: dRKVgv \n________________________________ \nDial in by phone +1 907-202-7104\,\,419649738# United States\, Anchorage\nFind a local number Phone conference ID: 419 649 738#\nJoin on a video conferencing device Tenant key: 260748889@t.plcm.vc Video ID: 111 553 479 5\nMore info For organizers: Meeting options | Reset dial-in PIN ________________________________________________________________________________
URL:https://nativepeoplesaction.org/event/susitna-valley-advisory-committee-meeting/
LOCATION:Alaska
CATEGORIES:Meetings
END:VEVENT
END:VCALENDAR