BEGIN:VCALENDAR
VERSION:2.0
PRODID:-// - ECPv6.14.2//NONSGML v1.0//EN
CALSCALE:GREGORIAN
METHOD:PUBLISH
X-ORIGINAL-URL:https://nativepeoplesaction.org
X-WR-CALDESC:Events for 
REFRESH-INTERVAL;VALUE=DURATION:PT1H
X-Robots-Tag:noindex
X-PUBLISHED-TTL:PT1H
BEGIN:VTIMEZONE
TZID:America/Anchorage
BEGIN:DAYLIGHT
TZOFFSETFROM:-0900
TZOFFSETTO:-0800
TZNAME:AKDT
DTSTART:20260308T110000
END:DAYLIGHT
BEGIN:STANDARD
TZOFFSETFROM:-0800
TZOFFSETTO:-0900
TZNAME:AKST
DTSTART:20261101T100000
END:STANDARD
END:VTIMEZONE
BEGIN:VEVENT
DTSTART;VALUE=DATE:20260113
DTEND;VALUE=DATE:20260115
DTSTAMP:20260422T144837
CREATED:20250515T204203Z
LAST-MODIFIED:20260107T200208Z
UID:4823-1768262400-1768435199@nativepeoplesaction.org
SUMMARY:Southcentral RAC
DESCRIPTION:Meeting in Anchorage\, AK
URL:https://nativepeoplesaction.org/event/southcentral-rac/
CATEGORIES:Federal Subsistence
END:VEVENT
BEGIN:VEVENT
DTSTART;VALUE=DATE:20260120
DTEND;VALUE=DATE:20260123
DTSTAMP:20260422T144837
CREATED:20250515T204005Z
LAST-MODIFIED:20260107T195948Z
UID:4817-1768867200-1769126399@nativepeoplesaction.org
SUMMARY:Seward Peninsula RAC
DESCRIPTION:Meeting in Nome\, AK
URL:https://nativepeoplesaction.org/event/seward-peninsula-rac/
CATEGORIES:Federal Subsistence
END:VEVENT
BEGIN:VEVENT
DTSTART;VALUE=DATE:20260120
DTEND;VALUE=DATE:20260123
DTSTAMP:20260422T144837
CREATED:20250515T204343Z
LAST-MODIFIED:20260107T200027Z
UID:4827-1768867200-1769126399@nativepeoplesaction.org
SUMMARY:Yukon-Kuskokwim Delta RAC
DESCRIPTION:Meeting in Bethel\, AK
URL:https://nativepeoplesaction.org/event/yukon-kuskokwim-delta-rac/
CATEGORIES:Federal Subsistence
END:VEVENT
BEGIN:VEVENT
DTSTART;TZID=America/Anchorage:20260203T150000
DTEND;TZID=America/Anchorage:20260203T190000
DTSTAMP:20260422T144837
CREATED:20260127T030120Z
LAST-MODIFIED:20260127T030246Z
UID:6544-1770130800-1770145200@nativepeoplesaction.org
SUMMARY:Federal Subsistence Open House
DESCRIPTION:Open House:  February 3\, 2026\, 3-7 p.m. in the Gordon Watson Conference Room at 1011 E Tudor Road\, Anchorage \nMicrosoft Teams link:  Click here to join event \nCall-in number:  (833) 436-1163;  conference ID: 829 130 64# \nAction Being Taken:  Under Title VIII of the Alaska National Interest Lands Conservation Act\, 16 U.S.C. § 3111-3126\, the Secretary of the Interior and the Secretary of Agriculture (“the Secretaries”) jointly implement the Federal Subsistence Management Program. The Secretaries are undertaking a limited review of this Program to ensure it is meeting the needs of subsistence users and the Secretaries’ obligations under Title VIII. \nA public scoping process will inform the Secretaries’ review.  The regulations applicable to the Federal Subsistence Management Program are set forth at 36 C.F.R. Part 242 (Agriculture) and 43 C.F.R. Part 51 (Interior).  The Secretaries intend to focus this review on the following topics: \n\nThe 2024 move of the Office of Subsistence Management\, from within the U.S. Fish and Wildlife Service of the Department of the Interior\, to the Office of the Assistant Secretary for Policy\, Management and Budget of the Department of the Interior;\nCriteria for regional advisory council membership;\nMembership of the Federal Subsistence Board;\nFederal regulations and state regulations for duplication and inconsistency;\nRegulations applicable to special actions;\nRole of the State of Alaska and its Department of Fish and Game in the Federal Subsistence Management Program; and\nBoard policies and procedures for rural determinations.\n\nInput is requested on these topics and on other topics that may benefit from review.   A 60-day public scoping period will begin following a published notice in the Federal Register.  A joint open house is scheduled in Anchorage during the public scoping period (see above).  A report with a scoping summary and recommendations for responsive action will be developed in early 2026. There will be further notice in the Federal Register and opportunity to comment on any changes to regulations that are proposed as a result of this review. \nHow to Comment (public):  written comments and materials concerning this review or an appointment request to provide oral comments can be emailed to subsistence@ios.doi.gov or mailed to Office of the Secretary\, Senior Advisor for Alaska Affairs\, 4230 University Drive\, Suite 300\, Anchorage\, AK 99508. All comments must be received or postmarked by Friday February 13\, 2026.
URL:https://nativepeoplesaction.org/event/federal-subsistence-open-house/
CATEGORIES:Federal Subsistence
END:VEVENT
BEGIN:VEVENT
DTSTART;VALUE=DATE:20260205
DTEND;VALUE=DATE:20260206
DTSTAMP:20260422T144837
CREATED:20250813T215022Z
LAST-MODIFIED:20260107T195704Z
UID:5557-1770249600-1770335999@nativepeoplesaction.org
SUMMARY:FSB FRMP Work Session
DESCRIPTION:Fisheries Resource Monitoring Program Work Session
URL:https://nativepeoplesaction.org/event/fsb-frmp-work-session/
CATEGORIES:Federal Subsistence
END:VEVENT
BEGIN:VEVENT
DTSTART;VALUE=DATE:20260224
DTEND;VALUE=DATE:20260226
DTSTAMP:20260422T144837
CREATED:20250610T165617Z
LAST-MODIFIED:20250811T230151Z
UID:5131-1771891200-1772063999@nativepeoplesaction.org
SUMMARY:North Slope RAC
DESCRIPTION:Point Hope
URL:https://nativepeoplesaction.org/event/north-slope-rac-2/
CATEGORIES:Federal Subsistence
END:VEVENT
BEGIN:VEVENT
DTSTART;VALUE=DATE:20260224
DTEND;VALUE=DATE:20260226
DTSTAMP:20260422T144837
CREATED:20250610T165648Z
LAST-MODIFIED:20250811T230145Z
UID:5133-1771891200-1772063999@nativepeoplesaction.org
SUMMARY:Western Interior RAC
DESCRIPTION:Fairbanks
URL:https://nativepeoplesaction.org/event/western-interior-rac-2/
CATEGORIES:Federal Subsistence
END:VEVENT
BEGIN:VEVENT
DTSTART;VALUE=DATE:20260303
DTEND;VALUE=DATE:20260306
DTSTAMP:20260422T144837
CREATED:20250610T165720Z
LAST-MODIFIED:20250811T230130Z
UID:5135-1772496000-1772755199@nativepeoplesaction.org
SUMMARY:Eastern Interior RAC
DESCRIPTION:Fairbanks
URL:https://nativepeoplesaction.org/event/eastern-interior-rac-2/
CATEGORIES:Federal Subsistence
END:VEVENT
BEGIN:VEVENT
DTSTART;VALUE=DATE:20260304
DTEND;VALUE=DATE:20260306
DTSTAMP:20260422T144837
CREATED:20250610T165750Z
LAST-MODIFIED:20250811T230123Z
UID:5137-1772582400-1772755199@nativepeoplesaction.org
SUMMARY:Kodiak Area RAC
DESCRIPTION:Kodiak
URL:https://nativepeoplesaction.org/event/kodiak-area-rac/
CATEGORIES:Federal Subsistence
END:VEVENT
BEGIN:VEVENT
DTSTART;VALUE=DATE:20260309
DTEND;VALUE=DATE:20260311
DTSTAMP:20260422T144837
CREATED:20250610T165543Z
LAST-MODIFIED:20260127T021455Z
UID:5129-1773014400-1773187199@nativepeoplesaction.org
SUMMARY:Bristol Bay RAC
DESCRIPTION:Naknek
URL:https://nativepeoplesaction.org/event/bristol-bay-rac-2/
CATEGORIES:Federal Subsistence
END:VEVENT
BEGIN:VEVENT
DTSTART;VALUE=DATE:20260310
DTEND;VALUE=DATE:20260314
DTSTAMP:20260422T144837
CREATED:20250610T165838Z
LAST-MODIFIED:20260127T021405Z
UID:5139-1773100800-1773446399@nativepeoplesaction.org
SUMMARY:Southeast Alaska RAC
DESCRIPTION:Juneau
URL:https://nativepeoplesaction.org/event/southeast-alaska-rac-2/
CATEGORIES:Federal Subsistence
END:VEVENT
BEGIN:VEVENT
DTSTART;TZID=America/Anchorage:20260310T133000
DTEND;TZID=America/Anchorage:20260310T153000
DTSTAMP:20260422T144837
CREATED:20260225T223108Z
LAST-MODIFIED:20260225T223634Z
UID:6636-1773149400-1773156600@nativepeoplesaction.org
SUMMARY:FSMP Tribal Consultations
DESCRIPTION:Tribes & ANC’s can email subsistence@ios.doi.gov to request a consultation
URL:https://nativepeoplesaction.org/event/fsmp-tribal-consultations/
CATEGORIES:Federal Subsistence
END:VEVENT
BEGIN:VEVENT
DTSTART;VALUE=DATE:20260317
DTEND;VALUE=DATE:20260319
DTSTAMP:20260422T144837
CREATED:20250610T165911Z
LAST-MODIFIED:20250811T211934Z
UID:5141-1773705600-1773878399@nativepeoplesaction.org
SUMMARY:Southcentral RAC
DESCRIPTION:Anchorage
URL:https://nativepeoplesaction.org/event/southcentral-rac-2/
CATEGORIES:Federal Subsistence
END:VEVENT
BEGIN:VEVENT
DTSTART;VALUE=DATE:20260317
DTEND;VALUE=DATE:20260320
DTSTAMP:20260422T144837
CREATED:20250610T165949Z
LAST-MODIFIED:20250811T211922Z
UID:5143-1773705600-1773964799@nativepeoplesaction.org
SUMMARY:Yukon-Kuskokwim Delta RAC
DESCRIPTION:Bethel
URL:https://nativepeoplesaction.org/event/yukon-kuskokwim-delta-rac-2/
CATEGORIES:Federal Subsistence
END:VEVENT
BEGIN:VEVENT
DTSTART;TZID=America/Anchorage:20260317T133000
DTEND;TZID=America/Anchorage:20260317T153000
DTSTAMP:20260422T144837
CREATED:20260225T223315Z
LAST-MODIFIED:20260225T223651Z
UID:6639-1773754200-1773761400@nativepeoplesaction.org
SUMMARY:FSMP Tribal Consultations
DESCRIPTION:Tribes & ANC’s can email subsistence@ios.doi.gov to request a consultation
URL:https://nativepeoplesaction.org/event/fsmp-tribal-consultations-2/
CATEGORIES:Federal Subsistence
END:VEVENT
BEGIN:VEVENT
DTSTART;VALUE=DATE:20260330
DTEND;VALUE=DATE:20260331
DTSTAMP:20260422T144837
CREATED:20260127T025918Z
LAST-MODIFIED:20260225T225857Z
UID:6542-1774828800-1774915199@nativepeoplesaction.org
SUMMARY:SUBSISTENCE MGMT COMMENTS DUE
DESCRIPTION:Comments for scoping process of Federal Subsistence Board due. Submit on federal register linked.
URL:https://nativepeoplesaction.org/event/subsistence-mgmt-comments-due/
CATEGORIES:Deadline,Federal Subsistence
END:VEVENT
BEGIN:VEVENT
DTSTART;VALUE=DATE:20260330
DTEND;VALUE=DATE:20260401
DTSTAMP:20260422T144837
CREATED:20250610T170029Z
LAST-MODIFIED:20260127T021315Z
UID:5145-1774828800-1775001599@nativepeoplesaction.org
SUMMARY:Seward Peninsula RAC
DESCRIPTION:Nome
URL:https://nativepeoplesaction.org/event/seward-peninsula-rac-2/
CATEGORIES:Federal Subsistence
END:VEVENT
BEGIN:VEVENT
DTSTART;VALUE=DATE:20260331
DTEND;VALUE=DATE:20260402
DTSTAMP:20260422T144837
CREATED:20250610T170103Z
LAST-MODIFIED:20260127T021253Z
UID:5147-1774915200-1775087999@nativepeoplesaction.org
SUMMARY:Northwest Arctic RAC
DESCRIPTION:Kotzebue
URL:https://nativepeoplesaction.org/event/northwest-arctic-rac-2/
CATEGORIES:Federal Subsistence
END:VEVENT
BEGIN:VEVENT
DTSTART;VALUE=DATE:20260421
DTEND;VALUE=DATE:20260425
DTSTAMP:20260422T144837
CREATED:20250813T215054Z
LAST-MODIFIED:20260420T183057Z
UID:5559-1776729600-1777075199@nativepeoplesaction.org
SUMMARY:FSB Wildlife Regulatory Meeting
DESCRIPTION:Wildlife Regulatory Meeting\nWHEN:  April 21 – 24\, 2026 @ 9 a.m. \nWHERE: The William A. Egan Civic & Convention Center.  555 W 5th Ave\, Anchorage \nCall in number 1-833-436-1163.  Conference ID:  294 062 777#\nMicrosoft Teams Meeting Link:  Click here to join meeting  \nHow to submit public comments\nMeeting Materials\nMeeting Agenda \nConsensus/NonConsensus Agenda Table \nConsensus Agenda materials  (These are proposals for which there is agreement concerning Board action; there generally will not be detailed discussion of these proposals during the meeting\, unless there is a request to move a proposal from the consensus agenda to the regular agenda). \nNonConsensus Agenda Materials  (*Board actions will be noted on this page throughout the meeting).  \n**The Board will take up regional wildlife proposals and closure reviews beginning with Region 10 (North Slope) and ending with Region 1 (Southeast) \nOther/Supplemental Materials: \n–Fisheries Proposal FP25-02\n–Request for Reconsideration RFR25-01 Ketchikan Rural Status CTA\n–Request for Reconsideration RFR25-02 Ketchikan Rural Status Shaan Seet Inc.\n–WP26-01: Statewide Delegation of Authorities \nPublic Comments on Proposals and Closure Reviews\nAlaska Department of Fish and Game Comments on Proposals and Closure Reviews
URL:https://nativepeoplesaction.org/event/fsb-wildlife-regulatory-meeting/
CATEGORIES:Federal Subsistence
END:VEVENT
BEGIN:VEVENT
DTSTART;VALUE=DATE:20260804
DTEND;VALUE=DATE:20260806
DTSTAMP:20260422T144837
CREATED:20251203T234228Z
LAST-MODIFIED:20251203T234228Z
UID:6332-1785801600-1785974399@nativepeoplesaction.org
SUMMARY:FSB Summer Work Session
DESCRIPTION:
URL:https://nativepeoplesaction.org/event/fsb-summer-work-session/
CATEGORIES:Federal Subsistence,Meetings
END:VEVENT
END:VCALENDAR