BEGIN:VCALENDAR
VERSION:2.0
PRODID:-// - ECPv6.14.2//NONSGML v1.0//EN
CALSCALE:GREGORIAN
METHOD:PUBLISH
X-ORIGINAL-URL:https://nativepeoplesaction.org
X-WR-CALDESC:Events for 
REFRESH-INTERVAL;VALUE=DURATION:PT1H
X-Robots-Tag:noindex
X-PUBLISHED-TTL:PT1H
BEGIN:VTIMEZONE
TZID:America/Anchorage
BEGIN:DAYLIGHT
TZOFFSETFROM:-0900
TZOFFSETTO:-0800
TZNAME:AKDT
DTSTART:20250309T110000
END:DAYLIGHT
BEGIN:STANDARD
TZOFFSETFROM:-0800
TZOFFSETTO:-0900
TZNAME:AKST
DTSTART:20251102T100000
END:STANDARD
END:VTIMEZONE
BEGIN:VEVENT
DTSTART;VALUE=DATE:20250916
DTEND;VALUE=DATE:20250918
DTSTAMP:20260422T023553
CREATED:20250515T203919Z
LAST-MODIFIED:20250812T190736Z
UID:4815-1757980800-1758153599@nativepeoplesaction.org
SUMMARY:North Slope RAC
DESCRIPTION:Meeting in Utqiagvik\, AK
URL:https://nativepeoplesaction.org/event/north-slope-rac/
CATEGORIES:Federal Subsistence
END:VEVENT
BEGIN:VEVENT
DTSTART;VALUE=DATE:20250917
DTEND;VALUE=DATE:20250919
DTSTAMP:20260422T023553
CREATED:20250515T203818Z
LAST-MODIFIED:20251203T234105Z
UID:4813-1758067200-1758239999@nativepeoplesaction.org
SUMMARY:Kodiak/Aleutians RAC
DESCRIPTION:Meeting in Cold Bay\, AK
URL:https://nativepeoplesaction.org/event/kodiak-aleutians-rac/
CATEGORIES:Federal Subsistence
END:VEVENT
END:VCALENDAR