BEGIN:VCALENDAR
VERSION:2.0
PRODID:-// - ECPv6.14.2//NONSGML v1.0//EN
CALSCALE:GREGORIAN
METHOD:PUBLISH
X-ORIGINAL-URL:https://nativepeoplesaction.org
X-WR-CALDESC:Events for 
REFRESH-INTERVAL;VALUE=DURATION:PT1H
X-Robots-Tag:noindex
X-PUBLISHED-TTL:PT1H
BEGIN:VTIMEZONE
TZID:America/Anchorage
BEGIN:DAYLIGHT
TZOFFSETFROM:-0900
TZOFFSETTO:-0800
TZNAME:AKDT
DTSTART:20240310T110000
END:DAYLIGHT
BEGIN:STANDARD
TZOFFSETFROM:-0800
TZOFFSETTO:-0900
TZNAME:AKST
DTSTART:20241103T100000
END:STANDARD
END:VTIMEZONE
BEGIN:VEVENT
DTSTART;VALUE=DATE:20241017
DTEND;VALUE=DATE:20241020
DTSTAMP:20260421T043033
CREATED:20241016T181423Z
LAST-MODIFIED:20241016T192307Z
UID:3905-1729123200-1729382399@nativepeoplesaction.org
SUMMARY:AFN Convention
DESCRIPTION:Alaska Federation of Natives Annual Convention. This year’s theme is “Our Children – Our Future Ancestors”.
URL:https://nativepeoplesaction.org/event/afn-convention/
LOCATION:Dena’ina Civic & Convention Center\, Anchorage\, Alaska
CATEGORIES:Events
END:VEVENT
END:VCALENDAR