BEGIN:VCALENDAR
VERSION:2.0
PRODID:-// - ECPv6.14.2//NONSGML v1.0//EN
CALSCALE:GREGORIAN
METHOD:PUBLISH
X-ORIGINAL-URL:https://nativepeoplesaction.org
X-WR-CALDESC:Events for 
REFRESH-INTERVAL;VALUE=DURATION:PT1H
X-Robots-Tag:noindex
X-PUBLISHED-TTL:PT1H
BEGIN:VTIMEZONE
TZID:America/Anchorage
BEGIN:DAYLIGHT
TZOFFSETFROM:-0900
TZOFFSETTO:-0800
TZNAME:AKDT
DTSTART:20240310T110000
END:DAYLIGHT
BEGIN:STANDARD
TZOFFSETFROM:-0800
TZOFFSETTO:-0900
TZNAME:AKST
DTSTART:20241103T100000
END:STANDARD
BEGIN:DAYLIGHT
TZOFFSETFROM:-0900
TZOFFSETTO:-0800
TZNAME:AKDT
DTSTART:20250309T110000
END:DAYLIGHT
BEGIN:STANDARD
TZOFFSETFROM:-0800
TZOFFSETTO:-0900
TZNAME:AKST
DTSTART:20251102T100000
END:STANDARD
BEGIN:DAYLIGHT
TZOFFSETFROM:-0900
TZOFFSETTO:-0800
TZNAME:AKDT
DTSTART:20260308T110000
END:DAYLIGHT
BEGIN:STANDARD
TZOFFSETFROM:-0800
TZOFFSETTO:-0900
TZNAME:AKST
DTSTART:20261101T100000
END:STANDARD
END:VTIMEZONE
BEGIN:VEVENT
DTSTART;VALUE=DATE:20260330
DTEND;VALUE=DATE:20260331
DTSTAMP:20260421T171832
CREATED:20260127T025918Z
LAST-MODIFIED:20260225T225857Z
UID:6542-1774828800-1774915199@nativepeoplesaction.org
SUMMARY:SUBSISTENCE MGMT COMMENTS DUE
DESCRIPTION:Comments for scoping process of Federal Subsistence Board due. Submit on federal register linked.
URL:https://nativepeoplesaction.org/event/subsistence-mgmt-comments-due/
CATEGORIES:Deadline,Federal Subsistence
END:VEVENT
BEGIN:VEVENT
DTSTART;VALUE=DATE:20260302
DTEND;VALUE=DATE:20260303
DTSTAMP:20260421T171832
CREATED:20250728T172849Z
LAST-MODIFIED:20250813T220306Z
UID:5528-1772409600-1772495999@nativepeoplesaction.org
SUMMARY:COMMENT DEADLINE: BOF Statewide Finfish
DESCRIPTION:Statewide finfish & supplemental issues
URL:https://nativepeoplesaction.org/event/comment-deadline-bof-statewide-finfish/
CATEGORIES:Board of Fish,Deadline
END:VEVENT
BEGIN:VEVENT
DTSTART;VALUE=DATE:20260203
DTEND;VALUE=DATE:20260204
DTSTAMP:20260421T171832
CREATED:20250728T172802Z
LAST-MODIFIED:20260127T025628Z
UID:5526-1770076800-1770163199@nativepeoplesaction.org
SUMMARY:COMMENT DEADLINE: BOF AP/AI/C Finfish
DESCRIPTION:Alaska Peninsula\, Aleutian Islands\, Chignik Finfish
URL:https://nativepeoplesaction.org/event/comment-deadline-bof-ap-ai-c-finfish/
CATEGORIES:Board of Fish,Deadline
END:VEVENT
BEGIN:VEVENT
DTSTART;VALUE=DATE:20260130
DTEND;VALUE=DATE:20260131
DTSTAMP:20260421T171832
CREATED:20260127T025440Z
LAST-MODIFIED:20260127T025535Z
UID:6540-1769731200-1769817599@nativepeoplesaction.org
SUMMARY:DEADLINE: Comments to NPFMC
DESCRIPTION:Comments due for February NPFMC meeting on chum bycatch at 12pm AKST
URL:https://nativepeoplesaction.org/event/deadline-comments-to-npfmc-2/
CATEGORIES:Deadline,NPFMC
END:VEVENT
BEGIN:VEVENT
DTSTART;VALUE=DATE:20251229
DTEND;VALUE=DATE:20251230
DTSTAMP:20260421T171832
CREATED:20250728T172630Z
LAST-MODIFIED:20250813T220337Z
UID:5524-1766966400-1767052799@nativepeoplesaction.org
SUMMARY:COMMENT DEADLINE: BOF Bristol Bay Finfish
DESCRIPTION:
URL:https://nativepeoplesaction.org/event/comment-deadline-bof-bristol-bay-finfish/
CATEGORIES:Board of Fish,Deadline
END:VEVENT
BEGIN:VEVENT
DTSTART;VALUE=DATE:20251103
DTEND;VALUE=DATE:20251104
DTSTAMP:20260421T171832
CREATED:20250728T172504Z
LAST-MODIFIED:20250813T220351Z
UID:5522-1762128000-1762214399@nativepeoplesaction.org
SUMMARY:COMMENT DEADLINE: BOF AYK Finfish
DESCRIPTION:Arctic/Yukon/Kuskokwim Finfish
URL:https://nativepeoplesaction.org/event/comment-deadline-bof-ayk-finfish/
CATEGORIES:Deadline
END:VEVENT
BEGIN:VEVENT
DTSTART;VALUE=DATE:20251015
DTEND;VALUE=DATE:20251016
DTSTAMP:20260421T171832
CREATED:20250728T172356Z
LAST-MODIFIED:20250729T195806Z
UID:5520-1760486400-1760572799@nativepeoplesaction.org
SUMMARY:COMMENT DEADLINE: BOF Pacific Cod
DESCRIPTION:Alaska Peninsula\, Aleutian Islands\, Bering Sea\, & Chignik
URL:https://nativepeoplesaction.org/event/comment-deadline-bof-pacific-cod/
CATEGORIES:Deadline
END:VEVENT
BEGIN:VEVENT
DTSTART;VALUE=DATE:20251013
DTEND;VALUE=DATE:20251014
DTSTAMP:20260421T171832
CREATED:20250728T172131Z
LAST-MODIFIED:20250729T195813Z
UID:5518-1760313600-1760399999@nativepeoplesaction.org
SUMMARY:COMMENT DEADLINE: BOF Work Session
DESCRIPTION:
URL:https://nativepeoplesaction.org/event/comment-deadline-bof-work-session/
CATEGORIES:Deadline
END:VEVENT
BEGIN:VEVENT
DTSTART;TZID=America/Anchorage:20250926T120000
DTEND;TZID=America/Anchorage:20250926T120000
DTSTAMP:20260421T171832
CREATED:20250813T215934Z
LAST-MODIFIED:20250813T215934Z
UID:5569-1758888000-1758888000@nativepeoplesaction.org
SUMMARY:DEADLINE: Comments to NPFMC
DESCRIPTION:COMMENTS ARE DUE AT 12PM ON SEPT. 26 \nSubmit comments to SSC here: https://meetings.npfmc.org/Meeting/Details/3096 \nSubmit comments to AP & Council here: https://meetings.npfmc.org/Meeting/Details/3095
URL:https://nativepeoplesaction.org/event/deadline-comments-to-npfmc/
CATEGORIES:Deadline,NPFMC
END:VEVENT
BEGIN:VEVENT
DTSTART;TZID=America/Anchorage:20250530T120000
DTEND;TZID=America/Anchorage:20250530T120000
DTSTAMP:20260421T171832
CREATED:20250515T202755Z
LAST-MODIFIED:20250729T195908Z
UID:4797-1748606400-1748606400@nativepeoplesaction.org
SUMMARY:NPFMC Comment Deadline for June Meeting
DESCRIPTION:SSC: https://meetings.npfmc.org/Meeting/Details/3088 \nAP & Council: https://meetings.npfmc.org/Meeting/Details/3087
URL:https://nativepeoplesaction.org/event/npfmc-comment-deadline-for-june-meeting/
CATEGORIES:Deadline
END:VEVENT
BEGIN:VEVENT
DTSTART;VALUE=DATE:20250501
DTEND;VALUE=DATE:20250502
DTSTAMP:20260421T171832
CREATED:20250326T180959Z
LAST-MODIFIED:20250728T214004Z
UID:4771-1746057600-1746143999@nativepeoplesaction.org
SUMMARY:BOG Proposal Deadline (2025/26)
DESCRIPTION:The Alaska Board of Game (board) is accepting proposed changes for hunting and trapping regulations for the Southeast Region (Game Management Units 1\, 2\, 3\, 4\, and 5) and the Southcentral Region (Game Management Units 6\, 7\, 8\, 14C\, and 15) including the following topics:\nHunting seasons and bag limits including subsistence and general hunts for all species; trapping seasons and bag limits; big game prey populations and objectives for intensive management; predation control areas implementation plans; restricted areas including controlled use areas\, management areas\, closed areas\, and closures in state game refuges.\nProposed changes to 5 AAC Chapter 92\, Statewide Provisions\, specific to Game Management Units (GMUs) within the Southeast and Southcentral Regions will also be accepted\, excluding changes to Game Management Unit Boundaries. This includes regulations under the categories of general provisions\, permits\, permit conditions and provisions\, methods and means\, possession and transportation\, and the use of game. Proposed changes to these provisions must specify the applicable Game Management Units in order to be accepted. \nThe following topics will be considered for all Game Management Units: Brown Bear Tag Fee Exemptions Reauthorization of Antlerless Moose Hunts (State statute requires all antlerless moose hunts be reauthorized annually.) \nProposals may be submitted by mail\, fax\, or online: \nOnline: boardofgame.adfg.alaska.gov\nMail: ADF&G\, Boards Support Section P.O. Box 115526 Juneau\, AK 99811-5526\nFax: (907) 465-6094 \nProposals must be received by Thursday\, May 1\, 2025\, at the Boards Support Section office in Juneau. (A postmark is NOT sufficient for timely receipt).
URL:https://nativepeoplesaction.org/event/bog-proposal-deadline-2025-26/
CATEGORIES:Deadline
END:VEVENT
BEGIN:VEVENT
DTSTART;VALUE=DATE:20250410
DTEND;VALUE=DATE:20250411
DTSTAMP:20260421T171832
CREATED:20250106T182201Z
LAST-MODIFIED:20250728T214022Z
UID:4542-1744243200-1744329599@nativepeoplesaction.org
SUMMARY:BOF Proposals Deadline (Finfish)
DESCRIPTION:The Alaska Board of Fisheries (board) is accepting proposed changes to the subsistence\, personal use\, sport\, guided sport\, and commercial fishing regulations for the Bristol Bay; Arctic\, Yukon\, Kuskokwim; Alaska Peninsula\, Aleutian Islands\, Chignik; and Statewide finfish management areas. Finfish includes salmon\, herring\, trout\, other freshwater finfishes\, and groundfish\, including Pacific cod\, for consideration by the board in its 2025–2026 meeting cycle. The board may also consider subsistence proposals for other topics (including other areas) under the subsistence proposal policy\, 5 AAC 96.615\, if proposals are submitted within this deadline and the board determines they meet the criteria in either 5 AAC 96.615(a)(1) or (2). \nTo ensure the proposal book is finished in advance of the board meetings\, the board sets Thursday\, April 10\, 2025\, as the proposal deadline. \nProposals must be received by Thursday\, April 10\, 2025 at the Boards Support Section office in Juneau. A postmark is NOT sufficient for timely receipt. \nInterested parties are encouraged to submit proposals at the earliest possible date. The Board of Fisheries proposal form\, including the on-line proposal form\, is available at the Boards Support website\, http://www.adfg.alaska.gov/index.cfm?adfg=fisheriesboard.forms. Proposal forms are also available at any Boards Support office. Proposals must be submitted on the current approved form. Any additional information provided with the form\, such as pictures\, tables\, Internet web links\, or charts/maps will not be included in the proposal book. \nThe completed proposal form must contain a contact telephone number and address. Email addresses are appreciated. Please print or type the individual’s or organization’s name as appropriate. \nAll proposals are reviewed prior to publication. Language that is emotionally charged detracts from the substance of the proposal and may draw opposition not germane to the element(s) of the proposal. Such language may be edited or deleted prior to publication. Proposals that do not meet this call will not be accepted. Proposals must pertain to the region\, species\, and uses in this call. Proposals that do not request a regulatory change or are outside the authority of the board will not be accepted. If duplicative proposals are received by the same individual or group only one will be included in the proposal book. \nProposals published in the proposal book will be referenced with the appropriate Alaska Administrative Code citation and include a brief description of the action requested. \nProposal books are sent to advisory committees and the public for review and comment. Proposals are online at http://www.adfg.alaska.gov/index.cfm?adfg=fisheriesboard.proposalbook. Those submitting proposals are encouraged to review the proposal book at their earliest convenience to ensure proposals are included and accurate. Noted errors and omissions should be reported to Boards Support immediately. The public is encouraged to visit the Board of Fisheries website frequently for news and information regarding the upcoming cycle. \nResponsive proposals received by the proposal deadline will be considered during the board’s 2025/2026 meeting schedule. \nFor more information\, please contact the Art Nelson\, Executive Director for the Board of Fisheries at art.nelson@alaska.gov or (907) 267-2292.
URL:https://nativepeoplesaction.org/event/bof-proposals-deadline-finfish/
CATEGORIES:Deadline
END:VEVENT
BEGIN:VEVENT
DTSTART;VALUE=DATE:20250307
DTEND;VALUE=DATE:20250308
DTSTAMP:20260421T171832
CREATED:20250220T011551Z
LAST-MODIFIED:20250728T214010Z
UID:4705-1741305600-1741391999@nativepeoplesaction.org
SUMMARY:BOG Comment Deadline for Statewide Regulations
DESCRIPTION:Comment Deadline for Statewide Regulations 5 AAC Chapters 92 & 98 https://www.adfg.alaska.gov/index.cfm?adfg=process.commentoptions&ontimeinfo On-Time Comments (prior to the comment deadline): Comment deadlines are generally two weeks prior to each meeting. Please see Board of Fisheries\, Board of Game\, or Joint Board of Fisheries and Game meeting information to verify comment deadlines. On-time comments will be included in materials provided to the board prior to the meeting. Online Comment Form Select the relevant meeting from the menu on the Board of Fisheries or Board of Game home page\, or visit the relevant meeting web page for a link to the comment form. Follow the directions on the online form to submit comments to the board. You may either type your comments directly into the form or upload a Word document or PDF file. If you have technical difficulties\, questions\, or other issues\, please contact the Board Support section at 907-465-4110 Mail Alaska Department of Fish and Game Boards Support Section P.O. Box 115526 Juneau\, AK 99811-5526 Comments via mail must be received (not postmarked) by the due date. Fax (907) 465-6094 In Person Alaska Department of Fish and Game Boards Support Section 1255 W. 8th Street Juneau\, AK 99811-5526 Commenting Guidelines 1. Verify the comment deadline for the relevant meeting. If the deadline has passed\, see “Record Copies” above. 2. Include your name and/or organization at the top of your comments. 3. Include the proposal number(s) you are commenting on. Feel free to comment on multiple proposals in a single comment. 4. Clearly indicate your support or opposition to each proposal. 5. Describe your reasoning. 6. Limit comments to 100 single-sided pages or the equivalent. 1. Comments with personal or inflammatory remarks or inappropriate language may not be accepted. Special Notes Information on comments should be available in the meeting notice and meeting info page on this site\, or contact Boards Support at 907-465-4110. The Board of Fisheries applies various statutes and policies when considering fisheries allocations and when addressing salmon proposals. When addressing proposals affecting subsistence uses\, the board provides for a reasonable opportunity for subsistence consistent with AS 16.05.258 and 5 AAC 99.010(b). When addressing allocations among commercial\, sport\, guided sport\, and/or personal use fisheries\, the board applies its Allocation Criteria (AS 16.05.251(e)). When addressing salmon fisheries it applies its Mixed Stock Salmon Policy (5 AAC 39.220) and its Sustainable Salmon Fisheries Policy (5 AAC 39.222). You may wish to review these statutes and policies as you prepare comments for the board.
URL:https://nativepeoplesaction.org/event/bog-comment-deadline-for-statewide-regulations/
CATEGORIES:Deadline
END:VEVENT
BEGIN:VEVENT
DTSTART;TZID=America/Anchorage:20250225T235900
DTEND;TZID=America/Anchorage:20250225T235900
DTSTAMP:20260421T171832
CREATED:20250220T011018Z
LAST-MODIFIED:20250728T214016Z
UID:4693-1740527940-1740527940@nativepeoplesaction.org
SUMMARY:BOF Comment Deadline for Statewide Shellfish\, PWS Shrimp & Supplemental Issues
DESCRIPTION:Comment Deadline for Statewide Shellfish\, PWS Shrimp & Supplemental Issues https://www.adfg.alaska.gov/index.cfm?adfg=process.commentoptions&ontimeinfo On-Time Comments (prior to the comment deadline): Comment deadlines are generally two weeks prior to each meeting. Please see Board of Fisheries\, Board of Game\, or Joint Board of Fisheries and Game meeting information to verify comment deadlines. On-time comments will be included in materials provided to the board prior to the meeting. Online Comment Form Select the relevant meeting from the menu on the Board of Fisheries or Board of Game home page\, or visit the relevant meeting web page for a link to the comment form. Follow the directions on the online form to submit comments to the board. You may either type your comments directly into the form or upload a Word document or PDF file. If you have technical difficulties\, questions\, or other issues\, please contact the Board Support section at 907-465-4110 Mail Alaska Department of Fish and Game Boards Support Section P.O. Box 115526 Juneau\, AK 99811-5526 Comments via mail must be received (not postmarked) by the due date. Fax (907) 465-6094 In Person Alaska Department of Fish and Game Boards Support Section 1255 W. 8th Street Juneau\, AK 99811-5526 Commenting Guidelines 1. Verify the comment deadline for the relevant meeting. If the deadline has passed\, see “Record Copies” above. 2. Include your name and/or organization at the top of your comments. 3. Include the proposal number(s) you are commenting on. Feel free to comment on multiple proposals in a single comment. 4. Clearly indicate your support or opposition to each proposal. 5. Describe your reasoning. 6. Limit comments to 100 single-sided pages or the equivalent. 1. Comments with personal or inflammatory remarks or inappropriate language may not be accepted. Special Notes Information on comments should be available in the meeting notice and meeting info page on this site\, or contact Boards Support at 907-465-4110. The Board of Fisheries applies various statutes and policies when considering fisheries allocations and when addressing salmon proposals. When addressing proposals affecting subsistence uses\, the board provides for a reasonable opportunity for subsistence consistent with AS 16.05.258 and 5 AAC 99.010(b). When addressing allocations among commercial\, sport\, guided sport\, and/or personal use fisheries\, the board applies its Allocation Criteria (AS 16.05.251(e)). When addressing salmon fisheries it applies its Mixed Stock Salmon Policy (5 AAC 39.220) and its Sustainable Salmon Fisheries Policy (5 AAC 39.222). You may wish to review these statutes and policies as you prepare comments for the board.
URL:https://nativepeoplesaction.org/event/bof-comment-deadline-for-statewide-shellfish-pws-shrimp-supplemental-issues/
CATEGORIES:Deadline
END:VEVENT
BEGIN:VEVENT
DTSTART;TZID=America/Anchorage:20250131T120000
DTEND;TZID=America/Anchorage:20250131T120000
DTSTAMP:20260421T171832
CREATED:20250114T173546Z
LAST-MODIFIED:20250114T173746Z
UID:4547-1738324800-1738324800@nativepeoplesaction.org
SUMMARY:NPFMC Written Comment Deadline
DESCRIPTION:Written comment deadline for the February NPFMC meeting to review the draft EIS for chum bycatch \nThe meeting will be held February 6-11\, 2025 in Anchorage\, Alaska
URL:https://nativepeoplesaction.org/event/npfmc-written-comment-deadline/
CATEGORIES:Deadline
END:VEVENT
BEGIN:VEVENT
DTSTART;VALUE=DATE:20241227
DTEND;VALUE=DATE:20241228
DTSTAMP:20260421T171832
CREATED:20241109T021111Z
LAST-MODIFIED:20241109T021111Z
UID:4039-1735257600-1735343999@nativepeoplesaction.org
SUMMARY:BOG Comment Deadline for Central & SW Region
DESCRIPTION:Comment Deadline for Central & Southwest Region\, GMUs 9\, 10\, 11\, 13\, 14A\, 14B\, 16 & 17 \nhttps://www.adfg.alaska.gov/index.cfm?adfg=process.commentoptions&ontimeinfo \nOn-Time Comments (prior to the comment deadline):\nComment deadlines are generally two weeks prior to each meeting. \nPlease see Board of Fisheries<https://www.adfg.alaska.gov/index.cfm?adfg=fisheriesboard.meetinginfo>\, Board of Game<https://www.adfg.alaska.gov/index.cfm?adfg=gameboard.meetinginfo>\, or Joint Board of Fisheries and Game<https://www.adfg.alaska.gov/index.cfm?adfg=process.jbmeetinginfo> meeting information to verify comment deadlines. On-time comments will be included in materials provided to the board prior to the meeting. \nOnline Comment Form\nSelect the relevant meeting from the menu on the Board of Fisheries or Board of Game home page\, or visit the relevant meeting web page for a link to the comment form. Follow the directions on the online form to submit comments to the board. You may either type your comments directly into the form or upload a Word document or PDF file. If you have technical difficulties\, questions\, or other issues\, please contact the Board Support section at 907-465-4110 \nMail\nAlaska Department of Fish and Game Boards Support Section\nP.O. Box 115526\nJuneau\, AK 99811-5526\nComments via mail must be received (not postmarked) by the due date. \nFax\n(907) 465-6094 \nIn Person\nAlaska Department of Fish and Game Boards Support Section\n1255 W. 8th Street\nJuneau\, AK 99811-5526 \nCommenting Guidelines\n1. Verify the comment deadline for the relevant meeting. If the deadline has passed\, see “Record Copies” above.\n2. Include your name and/or organization at the top of your comments.\n3. Include the proposal number(s) you are commenting on. Feel free to comment on multiple proposals in a single comment.\n4. Clearly indicate your support or opposition to each proposal.\n5. Describe your reasoning.\n6. Limit comments to 100 single-sided pages or the equivalent. \nComments with personal or inflammatory remarks or inappropriate language may not be accepted. \nSpecial Notes\nInformation on comments should be available in the meeting notice and meeting info page on this site\, or contact Boards Support at 907-465-4110. The Board of Fisheries applies various statutes and policies when considering fisheries allocations and when addressing salmon proposals. When addressing proposals affecting subsistence uses\, the board provides for a reasonable opportunity for subsistence consistent with AS 16.05.258 and 5 AAC 99.010(b). When addressing allocations among commercial\, sport\, guided sport\, and/or personal use fisheries\, the board applies its Allocation Criteria (AS 16.05.251(e)). When addressing salmon fisheries it applies its Mixed Stock Salmon Policy (5 AAC 39.220) and its Sustainable Salmon Fisheries Policy (5 AAC 39.222). You may wish to review these statutes and policies as you prepare comments for the board.
URL:https://nativepeoplesaction.org/event/bog-comment-deadline-for-central-sw-region/
CATEGORIES:Deadline
END:VEVENT
BEGIN:VEVENT
DTSTART;TZID=America/Anchorage:20241129T120000
DTEND;TZID=America/Anchorage:20241129T120000
DTSTAMP:20260421T171832
CREATED:20241112T203012Z
LAST-MODIFIED:20241112T203242Z
UID:4106-1732881600-1732881600@nativepeoplesaction.org
SUMMARY:Comment Deadline for December NPFMC Meeting
DESCRIPTION:Comment period begins at 11/15/2024 06:00 AM AKST and ends 11/29/2024 12:00 PM AKST
URL:https://nativepeoplesaction.org/event/comment-deadline-for-npfmc-council-ap-december-meeting/
CATEGORIES:Deadline
END:VEVENT
BEGIN:VEVENT
DTSTART;VALUE=DATE:20241126
DTEND;VALUE=DATE:20241127
DTSTAMP:20260421T171832
CREATED:20241109T020214Z
LAST-MODIFIED:20241109T020222Z
UID:4030-1732579200-1732665599@nativepeoplesaction.org
SUMMARY:BOF Comment Deadline for PWS & Upper Copper/Upper Susitna Finfish & Shellfish (except Shrimp)
DESCRIPTION:Board of Fisheries PWS & Upper Copper/Upper Susitna Finfish & Shellfish (except Shrimp) \nhttps://www.adfg.alaska.gov/index.cfm?adfg=process.commentoptions&ontimeinfo \nOn-Time Comments (prior to the comment deadline):\nComment deadlines are generally two weeks prior to each meeting.\nPlease see Board of Fisheries<https://www.adfg.alaska.gov/index.cfm?adfg=fisheriesboard.meetinginfo>\, Board of Game<https://www.adfg.alaska.gov/index.cfm?adfg=gameboard.meetinginfo>\, or Joint Board of Fisheries and Game<https://www.adfg.alaska.gov/index.cfm?adfg=process.jbmeetinginfo> meeting information to verify comment deadlines. On-time comments will be included in materials provided to the board prior to the meeting. \nOnline Comment Form\nSelect the relevant meeting from the menu on the Board of Fisheries or Board of Game home page\, or visit the relevant meeting web page for a link to the comment form. Follow the directions on the online form to submit comments to the board. You may either type your comments directly into the form or upload a Word document or PDF file. If you have technical difficulties\, questions\, or other issues\, please contact the Board Support section at 907-465-4110 \nMail\nAlaska Department of Fish and Game Boards Support Section\nP.O. Box 115526\nJuneau\, AK 99811-5526\nComments via mail must be received (not postmarked) by the due date. \nFax\n(907) 465-6094 \nIn Person\nAlaska Department of Fish and Game Boards Support Section\n1255 W. 8th Street\nJuneau\, AK 99811-5526 \nCommenting Guidelines\n1. Verify the comment deadline for the relevant meeting. If the deadline has passed\, see “Record Copies” above.\n2. Include your name and/or organization at the top of your comments.\n3. Include the proposal number(s) you are commenting on. Feel free to comment on multiple proposals in a single comment.\n4. Clearly indicate your support or opposition to each proposal.\n5. Describe your reasoning.\n6. Limit comments to 100 single-sided pages or the equivalent. \nComments with personal or inflammatory remarks or inappropriate language may not be accepted. \nSpecial Notes\nInformation on comments should be available in the meeting notice and meeting info page on this site\, or contact Boards Support at 907-465-4110.\nThe Board of Fisheries applies various statutes and policies when considering fisheries allocations and when addressing salmon proposals.\nWhen addressing proposals affecting subsistence uses\, the board provides for a reasonable opportunity for subsistence consistent with AS 16.05.258 and 5 AAC 99.010(b).\nWhen addressing allocations among commercial\, sport\, guided sport\, and/or personal use fisheries\, the board applies its Allocation Criteria (AS 16.05.251(e)).\nWhen addressing salmon fisheries it applies its Mixed Stock Salmon Policy (5 AAC 39.220) and its Sustainable Salmon Fisheries Policy (5 AAC 39.222).\nYou may wish to review these statutes and policies as you prepare comments for the board.
URL:https://nativepeoplesaction.org/event/bof-comment-deadline-for-pws-upper-copper-upper-susitna-finfish-shellfish-except-shrimp/
CATEGORIES:Deadline
END:VEVENT
BEGIN:VEVENT
DTSTART;TZID=America/Anchorage:20241115T060000
DTEND;TZID=America/Anchorage:20241115T060000
DTSTAMP:20260421T171832
CREATED:20241112T203055Z
LAST-MODIFIED:20241112T203701Z
UID:4108-1731650400-1731650400@nativepeoplesaction.org
SUMMARY:Comment Period Begins for December NPFMC Meeting
DESCRIPTION:Comment period begins at 11/15/2024 06:00 AM AKST and ends 11/29/2024 12:00 PM AKST
URL:https://nativepeoplesaction.org/event/comment-period-begins-for-december-npfmc-meeting/
CATEGORIES:Deadline
END:VEVENT
END:VCALENDAR