BEGIN:VCALENDAR
VERSION:2.0
PRODID:-// - ECPv6.14.2//NONSGML v1.0//EN
CALSCALE:GREGORIAN
METHOD:PUBLISH
X-ORIGINAL-URL:https://nativepeoplesaction.org
X-WR-CALDESC:Events for 
REFRESH-INTERVAL;VALUE=DURATION:PT1H
X-Robots-Tag:noindex
X-PUBLISHED-TTL:PT1H
BEGIN:VTIMEZONE
TZID:America/Anchorage
BEGIN:DAYLIGHT
TZOFFSETFROM:-0900
TZOFFSETTO:-0800
TZNAME:AKDT
DTSTART:20250309T110000
END:DAYLIGHT
BEGIN:STANDARD
TZOFFSETFROM:-0800
TZOFFSETTO:-0900
TZNAME:AKST
DTSTART:20251102T100000
END:STANDARD
BEGIN:DAYLIGHT
TZOFFSETFROM:-0900
TZOFFSETTO:-0800
TZNAME:AKDT
DTSTART:20260308T110000
END:DAYLIGHT
BEGIN:STANDARD
TZOFFSETFROM:-0800
TZOFFSETTO:-0900
TZNAME:AKST
DTSTART:20261101T100000
END:STANDARD
END:VTIMEZONE
BEGIN:VEVENT
DTSTART;TZID=America/Anchorage:20251219T180000
DTEND;TZID=America/Anchorage:20251219T210000
DTSTAMP:20260422T164611
CREATED:20251112T223042Z
LAST-MODIFIED:20251112T223042Z
UID:6323-1766167200-1766178000@nativepeoplesaction.org
SUMMARY:Seldovia AC Meeting & Elections
DESCRIPTION:Seldovia Fish and Game Advisory Committee Election & Meeting Announcement [cid:c52c94c4-1921-4823-8dc1-c0edc8b99e18] The Seldovia Fish and Game Advisory Committee will meet Friday\, December 19th\, 2025 at 6:00pm Location: Seldovia Multipurpose Room and via Zoom https://us06web.zoom.us/j/86975318035?pwd=ysJ3SwcpQvbBpvd3PXxGgiEftqMErZ.1 Meeting ID: 869 7531 8035 Passcode: Seldovia Teleconference Number: (253) 215-8782 Agenda Items Include: Elections for 4 expiring seats\, 4 vacant seats\, 2 alternates Board of Game Southcentral Region proposals Other Fish and Game Business as Needed The Seldovia Fish and Game Advisory Committee is a collection of community members from all user groups that come together\, discuss Fish and Game issues and recommend changes to current regulations. They also represent their community before the Board of Fisheries and Board of Game at board meetings. This meeting is open to the public. For more information contact: Alaska Department of Fish and Game Leila Williams– Regional Coordinator (907) 267-2354 Or Chair Michael Opheim\, (907)240-0568
URL:https://nativepeoplesaction.org/event/seldovia-ac-meeting-elections/
CATEGORIES:Board of Fish,Board of Game,Meetings
END:VEVENT
BEGIN:VEVENT
DTSTART;VALUE=DATE:20251229
DTEND;VALUE=DATE:20251230
DTSTAMP:20260422T164611
CREATED:20250728T172630Z
LAST-MODIFIED:20250813T220337Z
UID:5524-1766966400-1767052799@nativepeoplesaction.org
SUMMARY:COMMENT DEADLINE: BOF Bristol Bay Finfish
DESCRIPTION:
URL:https://nativepeoplesaction.org/event/comment-deadline-bof-bristol-bay-finfish/
CATEGORIES:Board of Fish,Deadline
END:VEVENT
BEGIN:VEVENT
DTSTART;VALUE=DATE:20260113
DTEND;VALUE=DATE:20260119
DTSTAMP:20260422T164611
CREATED:20250220T004453Z
LAST-MODIFIED:20251112T220434Z
UID:4668-1768262400-1768780799@nativepeoplesaction.org
SUMMARY:BOF Bristol Bay Finfish
DESCRIPTION:Comment Deadline: December 29\, 2025
URL:https://nativepeoplesaction.org/event/bof-bristol-bay-finfish/
LOCATION:William A. Egan Civic & Convention Center\, 555 W 5th Ave\, Anchorage\, AK\, 99501\, United States
CATEGORIES:Board of Fish
END:VEVENT
BEGIN:VEVENT
DTSTART;VALUE=DATE:20260203
DTEND;VALUE=DATE:20260204
DTSTAMP:20260422T164611
CREATED:20250728T172802Z
LAST-MODIFIED:20260127T025628Z
UID:5526-1770076800-1770163199@nativepeoplesaction.org
SUMMARY:COMMENT DEADLINE: BOF AP/AI/C Finfish
DESCRIPTION:Alaska Peninsula\, Aleutian Islands\, Chignik Finfish
URL:https://nativepeoplesaction.org/event/comment-deadline-bof-ap-ai-c-finfish/
CATEGORIES:Board of Fish,Deadline
END:VEVENT
BEGIN:VEVENT
DTSTART;VALUE=DATE:20260218
DTEND;VALUE=DATE:20260225
DTSTAMP:20260422T164611
CREATED:20250220T004616Z
LAST-MODIFIED:20250811T230205Z
UID:4670-1771372800-1771977599@nativepeoplesaction.org
SUMMARY:BOF Alaska Peninsula / Aleutian Island / Chignik Finfish
DESCRIPTION:Comment Deadline: February 3\, 2026
URL:https://nativepeoplesaction.org/event/bof-alaska-peninsula-aleutian-island-chignik-finfish/
LOCATION:William A. Egan Civic & Convention Center\, 555 W 5th Ave\, Anchorage\, AK\, 99501\, United States
CATEGORIES:Board of Fish
END:VEVENT
BEGIN:VEVENT
DTSTART;VALUE=DATE:20260302
DTEND;VALUE=DATE:20260303
DTSTAMP:20260422T164611
CREATED:20250728T172849Z
LAST-MODIFIED:20250813T220306Z
UID:5528-1772409600-1772495999@nativepeoplesaction.org
SUMMARY:COMMENT DEADLINE: BOF Statewide Finfish
DESCRIPTION:Statewide finfish & supplemental issues
URL:https://nativepeoplesaction.org/event/comment-deadline-bof-statewide-finfish/
CATEGORIES:Board of Fish,Deadline
END:VEVENT
BEGIN:VEVENT
DTSTART;VALUE=DATE:20260317
DTEND;VALUE=DATE:20260322
DTSTAMP:20260422T164611
CREATED:20250220T004656Z
LAST-MODIFIED:20251112T220505Z
UID:4672-1773705600-1774137599@nativepeoplesaction.org
SUMMARY:BOF Statewide Finfish & Supplemental Issues
DESCRIPTION:Comment Deadline: March 2\, 2026
URL:https://nativepeoplesaction.org/event/bof-statewide-finfish-and-supplemental-issues/
LOCATION:William A. Egan Civic & Convention Center\, 555 W 5th Ave\, Anchorage\, AK\, 99501\, United States
CATEGORIES:Board of Fish
END:VEVENT
END:VCALENDAR