BEGIN:VCALENDAR
VERSION:2.0
PRODID:-// - ECPv6.14.2//NONSGML v1.0//EN
CALSCALE:GREGORIAN
METHOD:PUBLISH
X-ORIGINAL-URL:https://nativepeoplesaction.org
X-WR-CALDESC:Events for 
REFRESH-INTERVAL;VALUE=DURATION:PT1H
X-Robots-Tag:noindex
X-PUBLISHED-TTL:PT1H
BEGIN:VTIMEZONE
TZID:America/Anchorage
BEGIN:DAYLIGHT
TZOFFSETFROM:-0900
TZOFFSETTO:-0800
TZNAME:AKDT
DTSTART:20250309T110000
END:DAYLIGHT
BEGIN:STANDARD
TZOFFSETFROM:-0800
TZOFFSETTO:-0900
TZNAME:AKST
DTSTART:20251102T100000
END:STANDARD
END:VTIMEZONE
BEGIN:VEVENT
DTSTART;TZID=America/Anchorage:20251216T170000
DTEND;TZID=America/Anchorage:20251216T190000
DTSTAMP:20260421T235651
CREATED:20251203T235431Z
LAST-MODIFIED:20251203T235431Z
UID:6354-1765904400-1765911600@nativepeoplesaction.org
SUMMARY:Susitna Valley AC Meeting & Elections
DESCRIPTION:Susitna Valley Fish & Game Advisory Committee Meeting & Elections Announcement [A close up of a sign Description automatically generated] The Susitna Valley Fish and Game Advisory Committee will meet and have elections on Tuesday\, December 16 at 5:00pm Location: Talkeetna Library Agenda Items Include: Elections for 2 expiring seats and 2 alternates Guest Speaker Morgan Urquia Set January Meeting Date for BOF/BOG Proposals The Susitna Valley Fish and Game Advisory Committee is a collection of community members from all user groups that come together\, discuss Fish and Game issues and recommend changes to current regulations. They also represent their community before the Board of Fisheries and Board of Game at board meetings. This meeting is open to the public. For more information contact: Alaska Department of Fish and Game Leila Williams – Regional Coordinator\, (907) 267-2354 Or Chair Bryan Kirby\, (907) 232-8111
URL:https://nativepeoplesaction.org/event/susitna-valley-ac-meeting-elections/
CATEGORIES:Board of Fish,Board of Game,Meetings
END:VEVENT
BEGIN:VEVENT
DTSTART;TZID=America/Anchorage:20251216T190000
DTEND;TZID=America/Anchorage:20251216T210000
DTSTAMP:20260421T235651
CREATED:20251210T201838Z
LAST-MODIFIED:20251210T201838Z
UID:6364-1765911600-1765918800@nativepeoplesaction.org
SUMMARY:Upper Tanana Fortymile AC Meeting
DESCRIPTION:The Upper Tanana Fortymile Fish and Game Advisory Committee will meet on Tuesday\, December 16th\, 2025 at 7:00 pm at the Tok ADF&G Conference Room and by web/teleconference. This meeting is open to the public. Agenda items will include the following: * Tok ADG&G Staff Updates – Moose\, Caribou\, Sheep and IM * Initial discussion about BOG Proposals for 2026-2027 Interior/Northeast Region Cycle * Discussion/planning for elections for members with expired terms * Other fisheries\, wildlife\, and committee business as needed A copy of the full agenda\, minutes from the previous meeting\, and other materials will be posted to this Online Public Notice (http://notice.alaska.gov/221918) prior to the start of the meeting. Minutes and audio recordings will be posted to archived meeting notices\, which can be found on the Upper Tanana Fortymile Advisory Committee’s website: https://bit.ly/UT40AdvisoryCommittee To join the meeting from a computer or your mobile phone\, use the meeting link below or dial in by calling (669) 444-9171 and enter the meeting ID. Alternatively\, by providing your phone number to the regional coordinator you may request to be connected to the meeting directly. When joining a meeting by phone\, please remember to press *6 to mute/unmute yourself. If your background noise is interrupting the meeting the meeting host will mute you. Join the meeting online: https://bit.ly/uppertananafortymileACdec16 (full link for SOA employees: https://us06web.zoom.us/j/84311084688?pwd=coWNemTcakKdo3TKMZhZ42fD0REvTA.1 ) Dial in: (669) 444-9171 Meeting ID: 843 1108 4688 Passcode: 769572 Advisory committees are local groups that meet to discuss fishing and wildlife issues and to provide recommendations to Alaska Board of Fisheries and Alaska Board of Game. All meetings are open to the public. Advisory Committees are intended to provide a local forum on fish and wildlife issues. Their purpose includes: 1) developing regulatory proposals\, 2) evaluating regulatory proposals and making recommendations to the appropriate board\, 3) providing a local forum for fish and wildlife conservation and use\, including matters relating to habitat\, and 4) cooperating and consulting with interested persons and organizations\, including government agencies\, and encourage youth and elder involvement in committee activities. The Department of Fish and Game is committed to building a working environment based on mutual trust and respect between the department and the public\, and among department staff. Fish and Game Advisory Committee members and staff are expected to conduct themselves in a respectful\, appropriate\, courteous\, and professional manner at all times. If you are a person experiencing a disability who needs a special accommodation to participate in these public meetings\, please contact the regional coordinator no later than 48 hours prior to the meeting to make any necessary arrangements. For further information on this meeting or to be added to the electronic email notices for this committee\, please contact the Interior Region Coordinator who’s contact information can be found at the bottom of this notice. Kyle Campbell Interior Region Coordinator Boards Support Section Department of Fish and Game 1300 College Road Fairbanks AK 99701 (907) 459-7263 – phone (907) 251-0204 – text (888) 920-3307 – fax kyle.campbell@alaska.gov
URL:https://nativepeoplesaction.org/event/upper-tanana-fortymile-ac-meeting/
CATEGORIES:Board of Fish,Board of Game,Meetings
END:VEVENT
END:VCALENDAR