BEGIN:VCALENDAR
VERSION:2.0
PRODID:-// - ECPv6.14.2//NONSGML v1.0//EN
CALSCALE:GREGORIAN
METHOD:PUBLISH
X-ORIGINAL-URL:https://nativepeoplesaction.org
X-WR-CALDESC:Events for 
REFRESH-INTERVAL;VALUE=DURATION:PT1H
X-Robots-Tag:noindex
X-PUBLISHED-TTL:PT1H
BEGIN:VTIMEZONE
TZID:America/Anchorage
BEGIN:DAYLIGHT
TZOFFSETFROM:-0900
TZOFFSETTO:-0800
TZNAME:AKDT
DTSTART:20250309T110000
END:DAYLIGHT
BEGIN:STANDARD
TZOFFSETFROM:-0800
TZOFFSETTO:-0900
TZNAME:AKST
DTSTART:20251102T100000
END:STANDARD
END:VTIMEZONE
BEGIN:VEVENT
DTSTART;VALUE=DATE:20251118
DTEND;VALUE=DATE:20251123
DTSTAMP:20260422T015752
CREATED:20250220T004305Z
LAST-MODIFIED:20250812T190455Z
UID:4665-1763424000-1763855999@nativepeoplesaction.org
SUMMARY:BOF Arctic / Yukon / Kuskokwim Finfish
DESCRIPTION:Comment deadline: November 3\, 2025 \nLocation: Pikes Waterfront Lodge in Fairbanks\, AK
URL:https://nativepeoplesaction.org/event/bof-arctic-yukon-kuskokwim-finfish/
LOCATION:Pikes Waterfront Lodge\, 1850 Hoselton Rd.\, Faribanks\, Alaska\, 99709
CATEGORIES:Board of Fish
END:VEVENT
BEGIN:VEVENT
DTSTART;TZID=America/Anchorage:20251119T180000
DTEND;TZID=America/Anchorage:20251119T213000
DTSTAMP:20260422T015752
CREATED:20251112T222035Z
LAST-MODIFIED:20251112T222035Z
UID:6297-1763575200-1763587800@nativepeoplesaction.org
SUMMARY:Kenai/Soldotna AC Meeting
DESCRIPTION:Kenai/Soldotna Fish and Game Advisory Committee Meeting Announcement [A close up of a sign Description automatically generated] The Kenai/Soldotna Fish and Game Advisory Committee will meet Wednesday\, November 19th\, 2025 at 6pm Location: Kenai Peninsula Borough Building\, 144 N. Binkley Street\, Soldotna\, AK Agenda Items Include: Board of Game Agenda Change Requests Board of Game Southcentral Region Proposals Board of Fisheries Statewide Finfish Proposals Other Fish and Game Business as Needed The Kenai/Soldotna Fish and Game Advisory Committee is a collection of community members from all user groups that come together\, discuss Fish and Game issues and recommend changes to current regulations. They also represent their community before the Board of Fisheries and Board of Game at board meetings. This meeting is open to the public. For more information contact: Alaska Department of Fish and Game Leila Williams – Regional Coordinator (907) 267-2354                                                          Or Chair Monte Roberts\, (907) 398-7461
URL:https://nativepeoplesaction.org/event/kenai-soldotna-ac-meeting/
CATEGORIES:Board of Fish,Board of Game,Meetings
END:VEVENT
BEGIN:VEVENT
DTSTART;TZID=America/Anchorage:20251119T190000
DTEND;TZID=America/Anchorage:20251119T213000
DTSTAMP:20260422T015752
CREATED:20251112T222110Z
LAST-MODIFIED:20251112T222110Z
UID:6299-1763578800-1763587800@nativepeoplesaction.org
SUMMARY:Mat Valley AC Meeting
DESCRIPTION:Matanuska Valley Fish & Game Advisory Committee Meeting Notice The Matanuska Valley Fish & Game Advisory Committee will be holding a meeting on Wednesday\, November 19th at 7pm Location: Over Zoom Join Zoom Meeting https://us06web.zoom.us/j/82894763766?pwd=BrbLK2lBOnCJfkgmmRPe8KQAyqbLEU.1 Meeting ID: 828 9476 3766 Passcode: Palmer Agenda Items: Board of Game Agenda Change Requests Other Fish and Game Business as Needed The Matanuska Valley Fish and Game Advisory Committee is a collection of community members from all user groups that come together\, discuss Fish and Game issues and recommend changes to current regulations. They also represent their community before the Board of Fisheries and Board of Game at board meetings. This meeting is open to the public. For more information contact: Alaska Department of Fish and Game Leila Williams – Regional Coordinator (907) 267-2354                             Or Herb Mansavage- Chair (907) 841-8928
URL:https://nativepeoplesaction.org/event/mat-valley-ac-meeting/
CATEGORIES:Board of Fish,Board of Game,Meetings
END:VEVENT
END:VCALENDAR