BEGIN:VCALENDAR
VERSION:2.0
PRODID:-// - ECPv6.14.2//NONSGML v1.0//EN
CALSCALE:GREGORIAN
METHOD:PUBLISH
X-ORIGINAL-URL:https://nativepeoplesaction.org
X-WR-CALDESC:Events for 
REFRESH-INTERVAL;VALUE=DURATION:PT1H
X-Robots-Tag:noindex
X-PUBLISHED-TTL:PT1H
BEGIN:VTIMEZONE
TZID:America/Anchorage
BEGIN:DAYLIGHT
TZOFFSETFROM:-0900
TZOFFSETTO:-0800
TZNAME:AKDT
DTSTART:20250309T110000
END:DAYLIGHT
BEGIN:STANDARD
TZOFFSETFROM:-0800
TZOFFSETTO:-0900
TZNAME:AKST
DTSTART:20251102T100000
END:STANDARD
END:VTIMEZONE
BEGIN:VEVENT
DTSTART;VALUE=DATE:20251028
DTEND;VALUE=DATE:20251030
DTSTAMP:20260422T015549
CREATED:20250220T004100Z
LAST-MODIFIED:20250812T190601Z
UID:4661-1761609600-1761782399@nativepeoplesaction.org
SUMMARY:BOF Work Session
DESCRIPTION:ACRs\, cycle organization\, Stocks of Concern \nComment Deadline: October 13\, 2025
URL:https://nativepeoplesaction.org/event/bof-work-session/
LOCATION:William A. Egan Civic & Convention Center\, 555 W 5th Ave\, Anchorage\, AK\, 99501\, United States
CATEGORIES:Board of Fish
END:VEVENT
END:VCALENDAR