BEGIN:VCALENDAR
VERSION:2.0
PRODID:-// - ECPv6.14.2//NONSGML v1.0//EN
CALSCALE:GREGORIAN
METHOD:PUBLISH
X-ORIGINAL-URL:https://nativepeoplesaction.org
X-WR-CALDESC:Events for 
REFRESH-INTERVAL;VALUE=DURATION:PT1H
X-Robots-Tag:noindex
X-PUBLISHED-TTL:PT1H
BEGIN:VTIMEZONE
TZID:America/Anchorage
BEGIN:DAYLIGHT
TZOFFSETFROM:-0900
TZOFFSETTO:-0800
TZNAME:AKDT
DTSTART:20260308T110000
END:DAYLIGHT
BEGIN:STANDARD
TZOFFSETFROM:-0800
TZOFFSETTO:-0900
TZNAME:AKST
DTSTART:20261101T100000
END:STANDARD
END:VTIMEZONE
BEGIN:VEVENT
DTSTART;TZID=America/Anchorage:20260410T090000
DTEND;TZID=America/Anchorage:20260410T170000
DTSTAMP:20260422T041813
CREATED:20260420T180252Z
LAST-MODIFIED:20260420T180252Z
UID:6984-1775811600-1775840400@nativepeoplesaction.org
SUMMARY:Grayling/Anvik/Shageluk/Holy Cross AC Meeting
DESCRIPTION:The Grayling Anvik Shageluk Holy Cross Fish and Game Advisory Committee will meet on Friday\, April 10th\, 2026 at 9:00 am in the Native Movement building in downtown Fairbanks located at 60 Hall Street\, Fairbanks\, AK 99701 and by web/teleconference. This meeting is open to the public. Agenda items will include the following: * ADFG Staff Updates and Reports * 2026-2027 Board of Game Call for Proposals (due May 1st\, 2026) * Other fisheries\, wildlife\, and committee business as needed A copy of the full agenda\, minutes from the previous meeting\, and other materials will be posted to this Online Public Notice (http://notice.alaska.gov/223264) prior to the start of the meeting. Minutes and audio recordings will be posted to archived meeting notices\, which can be found on the Grayling Anvik Shageluk Holy Cross Advisory Committee’s website: bit.ly/gashAC. To join the meeting from a computer or your mobile phone\, use the meeting link below or dial in by calling (669) 444-9171 and enter the meeting ID. Alternatively\, by providing your phone number to the regional coordinator you may request to be connected to the meeting directly. When joining a meeting by phone\, please remember to press *6 to mute/unmute yourself. If your background noise is interrupting the meeting the meeting host will mute you. Join the meeting online: https://bit.ly/gashACapril10 (full link for SOA employees: https://us06web.zoom.us/j/86880593277?pwd=D889Ubji2MW6toTDuhw0C6MHLfpaMF.1 ) Dial in: (669) 444-9171 OR (888) 475-4499 (Toll Free) Meeting ID: 868 8059 3277 Passcode: GASH Advisory committees are local groups that meet to discuss fishing and wildlife issues and to provide recommendations to Alaska Board of Fisheries and Alaska Board of Game. All meetings are open to the public. Advisory Committees are intended to provide a local forum on fish and wildlife issues. Their purpose includes: 1) developing regulatory proposals\, 2) evaluating regulatory proposals and making recommendations to the appropriate board\, 3) providing a local forum for fish and wildlife conservation and use\, including matters relating to habitat\, and 4) cooperating and consulting with interested persons and organizations\, including government agencies\, and encourage youth and elder involvement in committee activities. The Department of Fish and Game is committed to building a working environment based on mutual trust and respect between the department and the public\, and among department staff. Fish and Game Advisory Committee members and staff are expected to conduct themselves in a respectful\, appropriate\, courteous\, and professional manner at all times. If you are a person experiencing a disability who needs a special accommodation to participate in these public meetings\, please contact the regional coordinator no later than 48 hours prior to the meeting to make any necessary arrangements. For further information on this meeting or to be added to the electronic email notices for this committee\, please contact the Interior Region Coordinator who’s contact information can be found at the bottom of this notice. Kyle Campbell Interior Region Coordinator Boards Support Section Department of Fish and Game 1300 College Road Fairbanks AK 99701 (907) 459-7263 – phone (907) 251-0204 – text (888) 920-3307 – fax kyle.campbell@alaska.gov
URL:https://nativepeoplesaction.org/event/grayling-anvik-shageluk-holy-cross-ac-meeting/
CATEGORIES:ADF&G Advisory Committees
END:VEVENT
BEGIN:VEVENT
DTSTART;TZID=America/Anchorage:20260410T133000
DTEND;TZID=America/Anchorage:20260410T163000
DTSTAMP:20260422T041813
CREATED:20260420T180325Z
LAST-MODIFIED:20260420T180325Z
UID:6986-1775827800-1775838600@nativepeoplesaction.org
SUMMARY:Kodiak AC Meeting
DESCRIPTION:The Kodiak Fish and Game Advisory Committee will be holding a public meeting at the ADF&G Chiniak conference room\, at 351 Research Court\, Kodiak\, AK on Friday\, April 10th\, at 1:30 pm. Agenda items will include the following: * Statewide BOF and South Central/Kodiak BOG meeting updates * Elections for x8 seats: * Undesignated seats x3 (Concerned citizen\, South end Setnet\, Transporter/Sport fish charter) * Kodiak designated seats x3 (Small boat Crab/Herring/Salmon\, Subsistence\, Alternate) * Undesignated alternate seats x2 * Elections for AC officers as necessary * Bylaw Discussion * Other miscellaneous business Join the meeting online: https://us06web.zoom.us/j/84641531702?pwd=xwixpmLHudvcpWiqOcWEI1xkMBh0sI.1  By Phone: 253.215.8782 or Toll Free: 888.475.4499 Meeting ID: 846 4153 1702 Password: SWR For updates to this agenda or to view the minutes following a meeting please see the Kodiak AC meeting notice page here: Kodiak ADF&G Advisory Committee For further information or to be added to the electronic email notices for Southwest Region AC meetings contact Natalie Romo at 907.842.5142 or natalie.romo@alaska.gov Advisory committees are local groups that meet to discuss fishing and wildlife issues and to provide recommendations to the Alaska Board of Fisheries and Alaska Board of Game. All meetings are open to the public. Advisory Committees are intended to provide a local forum on fish and wildlife issues. Their purpose includes: 1) developing regulatory proposals\, 2) evaluating regulatory proposals and making recommendations to the appropriate board\, 3) providing a local forum for fish and wildlife conservation and use\, including matters relating to habitat\, 4) advising the appropriate regional council on resources\, and 5) consulting with individuals\, organizations\, and agencies. If you are a person who needs a special accommodation in order to participate in any of these public meetings\, please contact Natalie at (907) 842-5142 or (907) 843-9491 no later than 48 hours prior to the meeting\, to make any necessary arrangements.
URL:https://nativepeoplesaction.org/event/kodiak-ac-meeting/
CATEGORIES:ADF&G Advisory Committees
END:VEVENT
END:VCALENDAR