BEGIN:VCALENDAR
VERSION:2.0
PRODID:-// - ECPv6.14.2//NONSGML v1.0//EN
CALSCALE:GREGORIAN
METHOD:PUBLISH
X-ORIGINAL-URL:https://nativepeoplesaction.org
X-WR-CALDESC:Events for 
REFRESH-INTERVAL;VALUE=DURATION:PT1H
X-Robots-Tag:noindex
X-PUBLISHED-TTL:PT1H
BEGIN:VTIMEZONE
TZID:America/Anchorage
BEGIN:DAYLIGHT
TZOFFSETFROM:-0900
TZOFFSETTO:-0800
TZNAME:AKDT
DTSTART:20260308T110000
END:DAYLIGHT
BEGIN:STANDARD
TZOFFSETFROM:-0800
TZOFFSETTO:-0900
TZNAME:AKST
DTSTART:20261101T100000
END:STANDARD
END:VTIMEZONE
BEGIN:VEVENT
DTSTART;TZID=America/Anchorage:20260407T180000
DTEND;TZID=America/Anchorage:20260407T203000
DTSTAMP:20260421T223748
CREATED:20260420T180625Z
LAST-MODIFIED:20260420T180625Z
UID:6992-1775584800-1775593800@nativepeoplesaction.org
SUMMARY:Anchorage AC Meeting
DESCRIPTION:Anchorage Advisory Committee Meeting Announcement [A close up of a sign Description automatically generated] The Anchorage Fish & Game Advisory Committee will meet Tuesday\, April 7th\, 2026 at 6:00pm Location: William Jack Hernandez Hatchery\, 941 N. Reeve Blvd Agenda Items Include: General Elections for 5 expiring seats and 2 alternates Final AC Proposals to Submit to Board of Fisheries/Board of Game Other Game and Fish Business as Necessary The Anchorage Fish and Game Advisory Committee is a collection of community members from all user groups that come together\, discuss Fish and Game issues and recommend changes to current regulations. They also represent their community before the Board of Fisheries and Board of Game at board meetings. This meeting is open to the public. For more information contact: Alaska Department of Fish and Game Leila Williams – ADF&G Boards Support Section (907) 267-2354 Or Chair Kevin Taylor (907) 244-7437
URL:https://nativepeoplesaction.org/event/anchorage-ac-meeting-6/
CATEGORIES:ADF&G Advisory Committees
END:VEVENT
BEGIN:VEVENT
DTSTART;TZID=America/Anchorage:20260407T180000
DTEND;TZID=America/Anchorage:20260407T213000
DTSTAMP:20260421T223749
CREATED:20260420T180718Z
LAST-MODIFIED:20260420T180718Z
UID:6994-1775584800-1775597400@nativepeoplesaction.org
SUMMARY:Homer AC Meeting
DESCRIPTION:Homer Fish and Game Advisory Committee Meeting Announcement [A close up of a sign Description automatically generated] The Homer Fish and Game Advisory Committee will meet Tuesday\, April 7th at 6:00pm Location: Kachemak Bay Research Reserve at 2181 Kachemak Drive Also Over Zoom: https://us06web.zoom.us/j/84696842256?pwd=vF0dg4RjLNWwndK4CPFdmw7a81vPoe.1 Meeting ID: 846 9684 2256 Passcode: Homer Teleconference Number (253) 205-0468 Callers can mute and unmute themselves by pressing *6 Agenda Items Include: Board of Fisheries Cook Inlet Committee-Generated Proposals Other Fish and Game Business as Brought Forward in Advance The Homer Fish and Game Advisory Committee is a collection of community members from all user groups that come together\, discuss Fish and Game issues and recommend changes to current regulations. They also represent their community before the Board of Fisheries and Board of Game at board meetings. This meeting is open to the public. For more information contact: Alaska Department of Fish and Game Leila Williams – Regional Coordinator (907) 267-2354 Or Chair Doug Malone (907) 399-7689
URL:https://nativepeoplesaction.org/event/homer-ac-meeting-6/
CATEGORIES:ADF&G Advisory Committees
END:VEVENT
END:VCALENDAR