BEGIN:VCALENDAR
VERSION:2.0
PRODID:-// - ECPv6.14.2//NONSGML v1.0//EN
CALSCALE:GREGORIAN
METHOD:PUBLISH
X-ORIGINAL-URL:https://nativepeoplesaction.org
X-WR-CALDESC:Events for 
REFRESH-INTERVAL;VALUE=DURATION:PT1H
X-Robots-Tag:noindex
X-PUBLISHED-TTL:PT1H
BEGIN:VTIMEZONE
TZID:America/Anchorage
BEGIN:DAYLIGHT
TZOFFSETFROM:-0900
TZOFFSETTO:-0800
TZNAME:AKDT
DTSTART:20260308T110000
END:DAYLIGHT
BEGIN:STANDARD
TZOFFSETFROM:-0800
TZOFFSETTO:-0900
TZNAME:AKST
DTSTART:20261101T100000
END:STANDARD
END:VTIMEZONE
BEGIN:VEVENT
DTSTART;TZID=America/Anchorage:20260406T100000
DTEND;TZID=America/Anchorage:20260406T120000
DTSTAMP:20260421T204437
CREATED:20260420T180758Z
LAST-MODIFIED:20260420T180758Z
UID:6996-1775469600-1775476800@nativepeoplesaction.org
SUMMARY:Togiak AC Meeting
DESCRIPTION:The Togiak Fish and Game Advisory Committee will be holding a public meeting online and via teleconference\, Alaska on Monday\, April 6th at 10am. This meeting is open to the public. Agenda items will include the following: * Correct minutes from Nov\, 24th 2025 * Miscellaneous Business Join the meeting online: https://us06web.zoom.us/j/87695178299?pwd=IFawDa0ktGugz6bH9ysjBJd4lgImlD.1  By Phone: 253.215.8782 or Toll Free: 888.475.4499 Meeting ID: 876 9517 8299 Password: SWR For updates to this agenda or to view the minutes following a meeting please see the Togiak AC meeting notice page here: Togiak Advisory Committee\, ADF&G For further information or to be added to the electronic email notices for Southwest Region AC meetings contact Natalie Romo at 907.842.5142 or natalie.romo@alaska.gov Advisory committees are local groups that meet to discuss fishing and wildlife issues and to provide recommendations to the Alaska Board of Fisheries and Alaska Board of Game. All meetings are open to the public. Advisory Committees are intended to provide a local forum on fish and wildlife issues. Their purpose includes: 1) developing regulatory proposals\, 2) evaluating regulatory proposals and making recommendations to the appropriate board\, 3) providing a local forum for fish and wildlife conservation and use\, including matters relating to habitat\, 4) advising the appropriate regional council on resources\, and 5) consulting with individuals\, organizations\, and agencies. If you are a person who needs a special accommodation in order to participate in any of these public meetings\, please contact Natalie at (907) 842-5142 or (907) 843-9491 no later than 48 hours prior to the meeting\, to make any necessary arrangements.
URL:https://nativepeoplesaction.org/event/togiak-ac-meeting/
CATEGORIES:ADF&G Advisory Committees
END:VEVENT
BEGIN:VEVENT
DTSTART;TZID=America/Anchorage:20260406T180000
DTEND;TZID=America/Anchorage:20260406T220000
DTSTAMP:20260421T204437
CREATED:20260420T180842Z
LAST-MODIFIED:20260420T180842Z
UID:6998-1775498400-1775512800@nativepeoplesaction.org
SUMMARY:Fairbanks AC Fisheries Subcommittee Meeting
DESCRIPTION:The Fisheries Subcommittee of the Fairbanks Fish and Game Advisory Committee will meet on Monday\, April 6th\, 2026 at 6:00 pm by web/teleconference only. This meeting is open to the public. Agenda items will include the following: * 2026-2027 Board of Fisheries Call for Proposals due April 10th\, 2026 * Board of Fisheries Special Meeting on Proposals 189-192 to be held May 1st\, 2026 * Other fisheries subcommittee business as needed A copy of the full agenda\, minutes from the previous meeting\, and other materials will be posted to this Online Public Notice (http://notice.alaska.gov/223265) prior to the start of the meeting. Minutes and audio recordings will be posted to archived meeting notices\, which can be found on the Fairbanks Advisory Committee’s website: https://bit.ly/FairbanksAC To join the meeting from a computer or your mobile phone\, use the meeting link below or dial in by calling (669) 444-9171 and enter the meeting ID. Alternatively\, by providing your phone number to the regional coordinator you may request to be connected to the meeting directly. When joining a meeting by phone\, please remember to press *6 to mute/unmute yourself. If your background noise is interrupting the meeting the meeting host will mute you. Join the meeting online: https://bit.ly/FACapril6 (full link for SOA employees: https://us06web.zoom.us/j/83379571854?pwd=UyeloMNEeF1ZVlfZzbM0deDsrUfs8O.1 ) Dial in: (669) 444-9171 Meeting ID: 833 7957 1854 Passcode: 730963 Advisory committees are local groups that meet to discuss fishing and wildlife issues and to provide recommendations to Alaska Board of Fisheries and Alaska Board of Game. All meetings are open to the public. Advisory Committees are intended to provide a local forum on fish and wildlife issues. Their purpose includes: 1) developing regulatory proposals\, 2) evaluating regulatory proposals and making recommendations to the appropriate board\, 3) providing a local forum for fish and wildlife conservation and use\, including matters relating to habitat\, and 4) cooperating and consulting with interested persons and organizations\, including government agencies\, and encourage youth and elder involvement in committee activities. The Department of Fish and Game is committed to building a working environment based on mutual trust and respect between the department and the public\, and among department staff. Fish and Game Advisory Committee members and staff are expected to conduct themselves in a respectful\, appropriate\, courteous\, and professional manner at all times. If you are a person experiencing a disability who needs a special accommodation to participate in these public meetings\, please contact the regional coordinator no later than 48 hours prior to the meeting to make any necessary arrangements. For further information on this meeting or to be added to the electronic email notices for this committee\, please contact the Interior Region Coordinator who’s contact information can be found at the bottom of this notice. Kyle Campbell Interior Region Coordinator Boards Support Section Department of Fish and Game 1300 College Road Fairbanks AK 99701 (907) 459-7263 – phone (907) 251-0204 – text (888) 920-3307 – fax kyle.campbell@alaska.gov
URL:https://nativepeoplesaction.org/event/fairbanks-ac-fisheries-subcommittee-meeting-2/
CATEGORIES:ADF&G Advisory Committees
END:VEVENT
END:VCALENDAR