BEGIN:VCALENDAR
VERSION:2.0
PRODID:-// - ECPv6.14.2//NONSGML v1.0//EN
CALSCALE:GREGORIAN
METHOD:PUBLISH
X-ORIGINAL-URL:https://nativepeoplesaction.org
X-WR-CALDESC:Events for 
REFRESH-INTERVAL;VALUE=DURATION:PT1H
X-Robots-Tag:noindex
X-PUBLISHED-TTL:PT1H
BEGIN:VTIMEZONE
TZID:America/Anchorage
BEGIN:DAYLIGHT
TZOFFSETFROM:-0900
TZOFFSETTO:-0800
TZNAME:AKDT
DTSTART:20260308T110000
END:DAYLIGHT
BEGIN:STANDARD
TZOFFSETFROM:-0800
TZOFFSETTO:-0900
TZNAME:AKST
DTSTART:20261101T100000
END:STANDARD
END:VTIMEZONE
BEGIN:VEVENT
DTSTART;TZID=America/Anchorage:20260401T120000
DTEND;TZID=America/Anchorage:20260403T150000
DTSTAMP:20260421T150504
CREATED:20260420T181016Z
LAST-MODIFIED:20260420T181016Z
UID:7000-1775044800-1775228400@nativepeoplesaction.org
SUMMARY:Tyonek AC Meeting
DESCRIPTION:Tyonek Fish & Game Advisory Committee Meeting & Special Election Announcement [A close up of a sign Description automatically generated] The Tyonek Fish & Game Advisory Committee will meet Wednesday\, April 1st; Thursday\, April 2nd; and Friday\, April 3rd\, 2026 Location: Tyonek Tribal Hall 100 A Street in Tyonek Or Fish & Game Office in Anchorage\, Aerie Conference Room 333 Raspberry Road in Anchorage\, Upstairs Or Over Zoom (Same Link for Each Meeting) https://us06web.zoom.us/j/83437127484?pwd=FNZYldXallzFLSMMaFIaazmNHY7jq7.1 Meeting ID: 834 3712 7484 Passcode: Tyonek Teleconference Number: (253) 205-0468 Callers can mute and unmute themselves by pressing *6 Agenda Items Include: Special Election for 3 Vacant Seats Final Drafts/Considerations for Potential AC Proposals Final Votes for Tyonek AC to Accept and Submit Proposals with Tyonek AC Name A-RED Update? Coho/Other Salmon Species Enhancement Proposal? Other Fish & Game Business as Needed The Tyonek Fish and Game Advisory Committee is a collection of community members from all user groups that come together\, discuss Fish and Game issues and recommend changes to current regulations. They also represent their community before the Board of Fisheries and Board of Game at board meetings. This meeting is open to the public. For more information contact: Alaska Department of Fish and Game Leila Williams – Regional Coordinator (907) 267-2354 Chair- Donald Standifer Jr. at donniestandifer@hotmail.com
URL:https://nativepeoplesaction.org/event/tyonek-ac-meeting-4/
CATEGORIES:ADF&G Advisory Committees
END:VEVENT
BEGIN:VEVENT
DTSTART;TZID=America/Anchorage:20260401T180000
DTEND;TZID=America/Anchorage:20260401T220000
DTSTAMP:20260421T150504
CREATED:20260420T181107Z
LAST-MODIFIED:20260420T181107Z
UID:7002-1775066400-1775080800@nativepeoplesaction.org
SUMMARY:Matanuska Valley AC Meeting
DESCRIPTION:Matanuska Valley Fish & Game Advisory Committee Meeting & Elections Notice The Matanuska Valley Fish & Game Advisory Committee will be holding a meeting and elections on Wednesday\, April 1st at 6pm Location: In-Person: Mat-Su College Campus Room FSM202 Zoom Link: https://us06web.zoom.us/j/88932030623?pwd=f1ozSvAwFzuA6X1XNnLhNv6gbp8afE.1 Meeting ID: 889 3203 0623 Passcode: Palmer Teleconference Number: (669) 900-6833 Callers can mute and unmute themselves by pressing *6 Agenda Items: Presentation from Wild Salmon Center by Morgan Urquia General Elections for 3 expiring seats and 2 alternates Board of Fisheries-Generated Proposals for May 1st Special Session Final AC Proposals for Board of Fisheries/Board of Game Cycle AC Board Meeting Travel Questions House Bills 33\, 93\, and 203 & Senate Bill 216 Discussions Federal Wildlife Regulation WP26-15 Discussion Other Fish and Game Business as Needed The Matanuska Valley Fish and Game Advisory Committee is a collection of community members from all user groups that come together\, discuss Fish and Game issues and recommend changes to current regulations. They also represent their community before the Board of Fisheries and Board of Game at board meetings. This meeting is open to the public. For more information contact: Alaska Department of Fish and Game Leila Williams – Regional Coordinator (907) 267-2354 Or Herb Mansavage- Chair (907) 841-8928
URL:https://nativepeoplesaction.org/event/matanuska-valley-ac-meeting-2/
CATEGORIES:ADF&G Advisory Committees
END:VEVENT
END:VCALENDAR