BEGIN:VCALENDAR
VERSION:2.0
PRODID:-// - ECPv6.14.2//NONSGML v1.0//EN
CALSCALE:GREGORIAN
METHOD:PUBLISH
X-ORIGINAL-URL:https://nativepeoplesaction.org
X-WR-CALDESC:Events for 
REFRESH-INTERVAL;VALUE=DURATION:PT1H
X-Robots-Tag:noindex
X-PUBLISHED-TTL:PT1H
BEGIN:VTIMEZONE
TZID:America/Anchorage
BEGIN:DAYLIGHT
TZOFFSETFROM:-0900
TZOFFSETTO:-0800
TZNAME:AKDT
DTSTART:20260308T110000
END:DAYLIGHT
BEGIN:STANDARD
TZOFFSETFROM:-0800
TZOFFSETTO:-0900
TZNAME:AKST
DTSTART:20261101T100000
END:STANDARD
END:VTIMEZONE
BEGIN:VEVENT
DTSTART;TZID=America/Anchorage:20260327T100000
DTEND;TZID=America/Anchorage:20260327T160000
DTSTAMP:20260421T211537
CREATED:20260420T181508Z
LAST-MODIFIED:20260420T181508Z
UID:7014-1774605600-1774627200@nativepeoplesaction.org
SUMMARY:Cooper Landing AC Meeting
DESCRIPTION:Cooper Landing Fish and Game Advisory Committee Meeting & Elections [A close up of a sign Description automatically generated] The Cooper Landing Fish and Game Advisory Committee will meet Friday\, March 27th\, 2026 at 10am Cooper Landing Community Center\, 18511 Bean Creek Road Also Over Zoom: Join Zoom Meeting https://us06web.zoom.us/j/81428731710?pwd=ERyZJYB1oHKEotB8S0Ni7NtlaRV07f.1 Meeting ID: 814 2873 1710 Passcode: Cooper Agenda Items Include: Elections for 5 expiring seats and 2 alternates Advisory Committee Generated Proposals for the Cook Inlet Fishing Cycle Other Fish and Game Business as Needed The Cooper Landing Fish and Game Advisory Committee is a collection of community members from all user groups that come together\, discuss Fish and Game issues and recommend changes to current regulations. They also represent their community before the Board of Fisheries and Board of Game at board meetings. This meeting is open to the public. For more information contact: Alaska Department of Fish and Game Leila Williams- Regional Coordinator (907) 267-2354 Or Josh Hayes- Chair at joshhayes@hotmail.com
URL:https://nativepeoplesaction.org/event/cooper-landing-ac-meeting-2/
CATEGORIES:ADF&G Advisory Committees
END:VEVENT
END:VCALENDAR