BEGIN:VCALENDAR
VERSION:2.0
PRODID:-// - ECPv6.14.2//NONSGML v1.0//EN
CALSCALE:GREGORIAN
METHOD:PUBLISH
X-ORIGINAL-URL:https://nativepeoplesaction.org
X-WR-CALDESC:Events for 
REFRESH-INTERVAL;VALUE=DURATION:PT1H
X-Robots-Tag:noindex
X-PUBLISHED-TTL:PT1H
BEGIN:VTIMEZONE
TZID:America/Anchorage
BEGIN:DAYLIGHT
TZOFFSETFROM:-0900
TZOFFSETTO:-0800
TZNAME:AKDT
DTSTART:20260308T110000
END:DAYLIGHT
BEGIN:STANDARD
TZOFFSETFROM:-0800
TZOFFSETTO:-0900
TZNAME:AKST
DTSTART:20261101T100000
END:STANDARD
END:VTIMEZONE
BEGIN:VEVENT
DTSTART;TZID=America/Anchorage:20260326T180000
DTEND;TZID=America/Anchorage:20260326T210000
DTSTAMP:20260421T232946
CREATED:20260420T181742Z
LAST-MODIFIED:20260420T181742Z
UID:7016-1774548000-1774558800@nativepeoplesaction.org
SUMMARY:Upper Lynn Canal AC Meeting
DESCRIPTION:The Upper Lynn Canal Fish and Game Advisory Committee will meet on Thursday\, March 26th\, 2026 at 6:00 PM on Zoom. Agenda items include: * Continued Discussion on the Haines State Forest Management Plan​ * Other business as needed Zoom Meeting Information Web Link: https://us06web.zoom.us/j/89259069894?pwd=nDptgpDyTfugODBRc6A5l1LUnKvS83.1 Phone Number: +1 (253) 205-0468 Meeting ID: 892 5906 9894 Passcode: ULC Meetings are open to the public and all are welcomed to participate. For further information\, contact Annie Bartholomew at the Department of Fish & Game. To be added to the electronic email notices for Upper Lynn Canal AC Meetings\, please send an email to Annie at the address below. Advisory committees are local groups that meet to discuss fishing and wildlife issues and to provide recommendations to Alaska Board of Fisheries and Alaska Board of Game. All meetings are open to the public. Advisory Committees are intended to provide a local forum on fish and wildlife issues. Their purpose includes: 1) developing regulatory proposals\, 2) evaluating regulatory proposals and making recommendations to the appropriate board\, 3) providing a local forum for fish and wildlife conservation and use\, including matters relating to habitat\, 4) advising the appropriate regional council on resources\, and 5) consulting with individuals\, organizations\, and agencies. If you are a person who needs a special accommodation in order to participate in any of these public meetings\, please contact Boards Support at 907-465-4110 no later than 48 hours prior to the meeting\, to make any necessary arrangements. Contact: Annie Bartholomew Boards Support Section PO Box 115526 Juneau AK 99811-5526 907.465.4046 Fax: 907.465.6094 annie.bartholomew@alaska.gov
URL:https://nativepeoplesaction.org/event/upper-lynn-canal-ac-meeting-7/
CATEGORIES:ADF&G Advisory Committees
END:VEVENT
END:VCALENDAR