BEGIN:VCALENDAR
VERSION:2.0
PRODID:-// - ECPv6.14.2//NONSGML v1.0//EN
CALSCALE:GREGORIAN
METHOD:PUBLISH
X-ORIGINAL-URL:https://nativepeoplesaction.org
X-WR-CALDESC:Events for 
REFRESH-INTERVAL;VALUE=DURATION:PT1H
X-Robots-Tag:noindex
X-PUBLISHED-TTL:PT1H
BEGIN:VTIMEZONE
TZID:America/Anchorage
BEGIN:DAYLIGHT
TZOFFSETFROM:-0900
TZOFFSETTO:-0800
TZNAME:AKDT
DTSTART:20260308T110000
END:DAYLIGHT
BEGIN:STANDARD
TZOFFSETFROM:-0800
TZOFFSETTO:-0900
TZNAME:AKST
DTSTART:20261101T100000
END:STANDARD
END:VTIMEZONE
BEGIN:VEVENT
DTSTART;TZID=America/Anchorage:20260323T183000
DTEND;TZID=America/Anchorage:20260323T213000
DTSTAMP:20260422T055004
CREATED:20260420T181902Z
LAST-MODIFIED:20260420T181902Z
UID:7020-1774290600-1774301400@nativepeoplesaction.org
SUMMARY:Kotzebue AC Meeting
DESCRIPTION:The Kotzebue Sound Fish and Game will hold a public meeting on Monday March 23rd at 6:30pm. The meeting will be held at Selawik Wildlife Refuge Conference Room located at 160 2nd Ave. and over Zoom/Teleconference. Agenda items include the following: Discussion: Discussion of the Board of Game Proposals Deadline for Call of Proposal is May 1\, 2026 Other fish and wildlife topics if needed. Join via Zoom at: https://us06web.zoom.us/j/83572673583?pwd=7phbm1nYY7yY9C2WXwWhL18Znp7nge.1 Meeting ID: 835 7267 3583 Password: KOTZ By phone: +1-253-215-8782 For more information about this meeting and the Kotzebue Sound AC\, visit the website at Fish and Game Advisory Committees page\, or contact the Chair or Boards Support Section. You can also email sam.kirby@alaska.gov Advisory Committees established to provide a local forum on fish and wildlife issues. Their purpose includes: 1) developing regulatory proposals\, 2) evaluating regulatory proposals and making recommendations to the appropriate board\, 3) providing a local forum for fish and wildlife conservation and use\, including matters relating to habitat\, 4) advising the appropriate regional council on resources\, and 5) consulting with individuals\, organizations\, and agencies. If you are a person who needs special accommodation in order to participate in any of these public meetings\, please contact Sam Kirby at the 907.269.6977 no later than 48 hours prior to the meeting\, to make any necessary arrangements. ________________________________________________________________________________ Microsoft Teams meeting Join: https://teams.microsoft.com/meet/29333770074574?p=k1ymoxcji7fIuHG86K Meeting ID: 293 337 700 745 74 Passcode: 5VH23XA2 ________________________________ Need help? | System reference Dial in by phone +1 907-202-7104\,\,900636484# United States\, Anchorage Find a local number Phone conference ID: 900 636 484# Join on a video conferencing device Tenant key: 260748889@t.plcm.vc Video ID: 111 088 691 0 More info For organizers: Meeting options | Reset dial-in PIN ________________________________________________________________________________
URL:https://nativepeoplesaction.org/event/kotzebue-ac-meeting/
CATEGORIES:ADF&G Advisory Committees
END:VEVENT
END:VCALENDAR