BEGIN:VCALENDAR
VERSION:2.0
PRODID:-// - ECPv6.14.2//NONSGML v1.0//EN
CALSCALE:GREGORIAN
METHOD:PUBLISH
X-ORIGINAL-URL:https://nativepeoplesaction.org
X-WR-CALDESC:Events for 
REFRESH-INTERVAL;VALUE=DURATION:PT1H
X-Robots-Tag:noindex
X-PUBLISHED-TTL:PT1H
BEGIN:VTIMEZONE
TZID:America/Anchorage
BEGIN:DAYLIGHT
TZOFFSETFROM:-0900
TZOFFSETTO:-0800
TZNAME:AKDT
DTSTART:20260308T110000
END:DAYLIGHT
BEGIN:STANDARD
TZOFFSETFROM:-0800
TZOFFSETTO:-0900
TZNAME:AKST
DTSTART:20261101T100000
END:STANDARD
END:VTIMEZONE
BEGIN:VEVENT
DTSTART;TZID=America/Anchorage:20260310T180000
DTEND;TZID=America/Anchorage:20260310T210000
DTSTAMP:20260421T172657
CREATED:20260420T182341Z
LAST-MODIFIED:20260420T182341Z
UID:7034-1773165600-1773176400@nativepeoplesaction.org
SUMMARY:Homer AC Meeting
DESCRIPTION:Homer Fish and Game Advisory Committee Meeting Announcement [A close up of a sign Description automatically generated] The Homer Fish and Game Advisory Committee will meet Tuesday\, March 10th at 6:00pm Location: Kachemak Bay Research Reserve at 2181 Kachemak Drive Also Over Zoom: https://us06web.zoom.us/j/89042922918?pwd=2kLTVqauBp8KNkt8PgKYyg1SoOH8ZY.1 Meeting ID: 890 4292 2918 Passcode: Homer Teleconference Number: (253) 205-0468 Callers can mute and unmute by pressing *6 Agenda Items Include: Finalize Board of Fisheries Proposals for Next Year’s Cycle Board of Fisheries/Board of Game Meeting Prep for AC Representatives Record Copy Protocol for Meetings Legislation of Interest: HB33\, HB93\, SB216 Any Other Business Properly Brought Forward in Advance The Homer Fish and Game Advisory Committee is a collection of community members from all user groups that come together\, discuss Fish and Game issues and recommend changes to current regulations. They also represent their community before the Board of Fisheries and Board of Game at board meetings. This meeting is open to the public. For more information contact: Alaska Department of Fish and Game Leila Williams – Regional Coordinator (907) 267-2354 Or Chair Doug Malone (907) 399-7689
URL:https://nativepeoplesaction.org/event/homer-ac-meeting-7/
CATEGORIES:ADF&G Advisory Committees
END:VEVENT
END:VCALENDAR