BEGIN:VCALENDAR
VERSION:2.0
PRODID:-// - ECPv6.14.2//NONSGML v1.0//EN
CALSCALE:GREGORIAN
METHOD:PUBLISH
X-ORIGINAL-URL:https://nativepeoplesaction.org
X-WR-CALDESC:Events for 
REFRESH-INTERVAL;VALUE=DURATION:PT1H
X-Robots-Tag:noindex
X-PUBLISHED-TTL:PT1H
BEGIN:VTIMEZONE
TZID:America/Anchorage
BEGIN:DAYLIGHT
TZOFFSETFROM:-0900
TZOFFSETTO:-0800
TZNAME:AKDT
DTSTART:20260308T110000
END:DAYLIGHT
BEGIN:STANDARD
TZOFFSETFROM:-0800
TZOFFSETTO:-0900
TZNAME:AKST
DTSTART:20261101T100000
END:STANDARD
END:VTIMEZONE
BEGIN:VEVENT
DTSTART;TZID=America/Anchorage:20260305T173000
DTEND;TZID=America/Anchorage:20260305T210000
DTSTAMP:20260421T172027
CREATED:20260420T182557Z
LAST-MODIFIED:20260420T182557Z
UID:7040-1772731800-1772744400@nativepeoplesaction.org
SUMMARY:Copper River/PWS AC Meeting
DESCRIPTION:Copper River/PWS Fish & Game Advisory Committee Meeting [A close up of a sign Description automatically generated] The Copper River/PWS Fish & Game Advisory Committee will meet on Thursday\, March 5th\, 2026 at 6:00pm The Cordova Center (601 1st Street\, Cordova) Zoom Information: https://us06web.zoom.us/j/86399208747?pwd=rQ9IAImJkXHPIBAaLmCoGXVJTuKWOy.1 Meeting ID: 863 9920 8747 Passcode: Cordova Teleconference#: (408) 638-0968 Callers can mute and unmute themselves by pressing *6 Agenda Items Include: Creating the Official Advisory Committee Testimony Comment for Federal Wildlife Regulation WP26-15 (Community Driven Participation) Other Fish and Game Business as Needed The Copper River/PWS Fish and Game Advisory Committee is a collection of community members from all user groups that come together\, discuss Fish and Game issues and recommend changes to current regulations. They also represent their community before the Board of Fisheries and Board of Game at board meetings. This meeting is open to the public. For more information contact: Alaska Department of Fish and Game Leila Williams – Regional Coordinator (907) 267-2354 Or Trae Lohse – Chair (907) 917-7271
URL:https://nativepeoplesaction.org/event/copper-river-pws-ac-meeting-2/
CATEGORIES:ADF&G Advisory Committees
END:VEVENT
END:VCALENDAR