BEGIN:VCALENDAR
VERSION:2.0
PRODID:-// - ECPv6.14.2//NONSGML v1.0//EN
CALSCALE:GREGORIAN
METHOD:PUBLISH
X-ORIGINAL-URL:https://nativepeoplesaction.org
X-WR-CALDESC:Events for 
REFRESH-INTERVAL;VALUE=DURATION:PT1H
X-Robots-Tag:noindex
X-PUBLISHED-TTL:PT1H
BEGIN:VTIMEZONE
TZID:America/Anchorage
BEGIN:DAYLIGHT
TZOFFSETFROM:-0900
TZOFFSETTO:-0800
TZNAME:AKDT
DTSTART:20260308T110000
END:DAYLIGHT
BEGIN:STANDARD
TZOFFSETFROM:-0800
TZOFFSETTO:-0900
TZNAME:AKST
DTSTART:20261101T100000
END:STANDARD
END:VTIMEZONE
BEGIN:VEVENT
DTSTART;TZID=America/Anchorage:20260226T173000
DTEND;TZID=America/Anchorage:20260226T193000
DTSTAMP:20260421T211537
CREATED:20260225T224001Z
LAST-MODIFIED:20260225T224001Z
UID:6647-1772127000-1772134200@nativepeoplesaction.org
SUMMARY:Pelican AC Meeting
DESCRIPTION:Pelican Fish and Game Advisory Committee Meeting Meeting Page: http://notice.alaska.gov/222730 The Pelican Fish and Game Advisory Committee will meet on Thursday\, February 26th at 5:30 PM at the Pelican Library. A call-in number will be provided for remote participation. Agenda items include: * Board of Fisheries Statewide Finfish & Supplemental Issues proposals (Comment deadline due 3/2/2026) * Other Business CALL-IN INFORMATION Phone Number: +1 253 205 0468 833 548 0282 (Toll-free) Meeting ID: 841 9554 5660 Passcode: pelican Join audio conference from web: https://us06web.zoom.us/j/84195545660?pwd=I59PN83MAYveef4LLNEDfPZoxRJubu.1 Meetings are open to the public. The Pelican Fish and Game Advisory Committee is a collection of community members from all user groups that come together\, discuss Fish and Game issues and recommend changes to current regulations. They also represent their community before the Board of Fisheries and Board of Game at board meetings. For further information\, contact Annie Bartholomew at the Department of Fish & Game. To be added to the electronic email notices for Pelican AC Meetings\, please send an email to Annie at the address below. Advisory committees are local groups that meet to discuss fishing and wildlife issues and to provide recommendations to Alaska Board of Fisheries and Alaska Board of Game. All meetings are open to the public. Advisory Committees are intended to provide a local forum on fish and wildlife issues. Their purpose includes: 1) developing regulatory proposals\, 2) evaluating regulatory proposals and making recommendations to the appropriate board\, 3) providing a local forum for fish and wildlife conservation and use\, including matters relating to habitat\, 4) advising the appropriate regional council on resources\, and 5) consulting with individuals\, organizations\, and agencies. If you are a person who needs a special accommodation in order to participate in any of these public meetings\, please contact Boards Support at 907-465-4110 no later than 48 hours prior to the meeting\, to make any necessary arrangements. Contact: Annie Bartholomew Boards Support Section PO Box 115526 Juneau AK 99811-5526 907.465.4046 Fax: 907.465.6094
URL:https://nativepeoplesaction.org/event/pelican-ac-meeting/
CATEGORIES:ADF&G Advisory Committees
END:VEVENT
BEGIN:VEVENT
DTSTART;TZID=America/Anchorage:20260226T173000
DTEND;TZID=America/Anchorage:20260226T213000
DTSTAMP:20260421T211537
CREATED:20260225T223923Z
LAST-MODIFIED:20260225T223923Z
UID:6645-1772127000-1772141400@nativepeoplesaction.org
SUMMARY:Copper Basin AC Meeting
DESCRIPTION:Copper Basin Fish and Game Advisory Committee Meeting & Election Announcement [A close up of a sign Description automatically generated] The Copper Basin Fish and Game Advisory Committee will meet and have elections on Thursday\, February 26th\, 2026 at 5:30pm Location: Glennallen High School library\, 1976 Aurora Drive in Glennallen Also: Over Zoom https://us06web.zoom.us/j/83195991378?pwd=HtC6E8ACHgLj2Z77iwWA3eeh02PUiV.1 Meeting ID: 831 9599 1378 Passcode: Copper Agenda Items Include: * Elections for 3 Expiring Seats\, One Vacant Undesignated Seat\, One Vacant Seat for Gakona/Gulkana\, One Vacant Seat for Copper Center\, Two Vacant Seats for Undesignated Alternates\, One Vacant Seat for a Kenny Lake Alternate\, One Vacant Seat for a Lake Louise Alternate\, and One Vacant Seat for a Chitina Alternate * Board of Fisheries Statewide Finfish Proposals * Other Fish and Game Business as Needed The Copper Basin Fish and Game Advisory Committee is a collection of community members from all user groups that come together\, discuss Fish and Game issues and recommend changes to current regulations. They also represent their community before the Board of Fisheries and Board of Game at board meetings. This meeting is open to the public. For more information contact: Alaska Department of Fish and Game Leila Williams– Regional Coordinator (907) 267-2354 Or Chair Chuck McMahan\, 907-822-3553
URL:https://nativepeoplesaction.org/event/copper-basin-ac-meeting/
CATEGORIES:ADF&G Advisory Committees
END:VEVENT
END:VCALENDAR