BEGIN:VCALENDAR
VERSION:2.0
PRODID:-// - ECPv6.14.2//NONSGML v1.0//EN
CALSCALE:GREGORIAN
METHOD:PUBLISH
X-ORIGINAL-URL:https://nativepeoplesaction.org
X-WR-CALDESC:Events for 
REFRESH-INTERVAL;VALUE=DURATION:PT1H
X-Robots-Tag:noindex
X-PUBLISHED-TTL:PT1H
BEGIN:VTIMEZONE
TZID:America/Anchorage
BEGIN:DAYLIGHT
TZOFFSETFROM:-0900
TZOFFSETTO:-0800
TZNAME:AKDT
DTSTART:20260308T110000
END:DAYLIGHT
BEGIN:STANDARD
TZOFFSETFROM:-0800
TZOFFSETTO:-0900
TZNAME:AKST
DTSTART:20261101T100000
END:STANDARD
END:VTIMEZONE
BEGIN:VEVENT
DTSTART;TZID=America/Anchorage:20260217T163000
DTEND;TZID=America/Anchorage:20260224T183000
DTSTAMP:20260421T191449
CREATED:20260225T224748Z
LAST-MODIFIED:20260225T225108Z
UID:6665-1771345800-1771957800@nativepeoplesaction.org
SUMMARY:False Pass AC Meeting
DESCRIPTION:Egan Center
URL:https://nativepeoplesaction.org/event/false-pass-ac-meeting-2/
CATEGORIES:ADF&G Advisory Committees
END:VEVENT
BEGIN:VEVENT
DTSTART;TZID=America/Anchorage:20260218T160000
DTEND;TZID=America/Anchorage:20260224T180000
DTSTAMP:20260421T191449
CREATED:20260225T224840Z
LAST-MODIFIED:20260225T225133Z
UID:6667-1771430400-1771956000@nativepeoplesaction.org
SUMMARY:Chignik AC Area M Finfish Meeting Subcommittee
DESCRIPTION:Egan Center
URL:https://nativepeoplesaction.org/event/chignik-ac-area-m-finfish-meeting-subcommittee/
CATEGORIES:ADF&G Advisory Committees
END:VEVENT
BEGIN:VEVENT
DTSTART;TZID=America/Anchorage:20260218T170000
DTEND;TZID=America/Anchorage:20260224T190000
DTSTAMP:20260421T191449
CREATED:20260225T224914Z
LAST-MODIFIED:20260225T225155Z
UID:6669-1771434000-1771959600@nativepeoplesaction.org
SUMMARY:Sand Point AC Meeting
DESCRIPTION:Egan Center
URL:https://nativepeoplesaction.org/event/sand-point-ac-meeting-2/
CATEGORIES:ADF&G Advisory Committees
END:VEVENT
BEGIN:VEVENT
DTSTART;TZID=America/Anchorage:20260219T090000
DTEND;TZID=America/Anchorage:20260224T100000
DTSTAMP:20260421T191449
CREATED:20260225T225007Z
LAST-MODIFIED:20260225T225007Z
UID:6671-1771491600-1771927200@nativepeoplesaction.org
SUMMARY:Nelson Lagoon AC Meeting
DESCRIPTION:Egan Center
URL:https://nativepeoplesaction.org/event/nelson-lagoon-ac-meeting-2/
CATEGORIES:ADF&G Advisory Committees
END:VEVENT
BEGIN:VEVENT
DTSTART;TZID=America/Anchorage:20260224T173000
DTEND;TZID=America/Anchorage:20260224T193000
DTSTAMP:20260421T191449
CREATED:20260225T225039Z
LAST-MODIFIED:20260225T225039Z
UID:6673-1771954200-1771961400@nativepeoplesaction.org
SUMMARY:Elfin Cove AC Meeting
DESCRIPTION:Elfin Cove Fish and Game Advisory Committee Meeting Meeting website: http://notice.alaska.gov/222732 The Elfin Cove Fish and Game Advisory Committee will be holding a public meeting on Tuesday\, February 24th\, 2026 at 5:30 p.m. on Zoom. The agenda will include the following items: * Continued discussion of BOF proposals * Proposal Workshop * Introduce Proposals for Potential ACR * Other business as needed CALL-IN INFORMATION Zoom Link: https://us06web.zoom.us/j/88616814494?pwd=lPHwJREj3h0KVtBXQk8XtgTpqeDCwz.1 Phone Number: +1 253 205 0468 833 548 0282 (Toll-free) Meeting ID: 886 1681 4494 Meetings are open to the public and all are encouraged to participate For further information\, contact Annie Bartholomew at the Department of Fish & Game. To be added to the electronic email notices for Elfin Cove AC Meetings\, please send an email to Annie at the address below. Advisory committees are local groups that meet to discuss fishing and wildlife issues and to provide recommendations to Alaska Board of Fisheries and Alaska Board of Game. All meetings are open to the public. Advisory Committees are intended to provide a local forum on fish and wildlife issues. Their purpose includes: 1) developing regulatory proposals\, 2) evaluating regulatory proposals and making recommendations to the appropriate board\, 3) providing a local forum for fish and wildlife conservation and use\, including matters relating to habitat\, 4) advising the appropriate regional council on resources\, and 5) consulting with individuals\, organizations\, and agencies. If you are a person who needs a special accommodation in order to participate in any of these public meetings\, please contact Boards Support at 907-465-4110 no later than 48 hours prior to the meeting\, to make any necessary arrangements. Contact: Annie Bartholomew Boards Support Section PO Box 115526 Juneau AK 99811-5526 907.465.4046 Fax: 907.465.6094 annie.bartholomew@alaska.gov
URL:https://nativepeoplesaction.org/event/elfin-cove-ac-meeting/
CATEGORIES:ADF&G Advisory Committees
END:VEVENT
END:VCALENDAR