BEGIN:VCALENDAR
VERSION:2.0
PRODID:-// - ECPv6.14.2//NONSGML v1.0//EN
CALSCALE:GREGORIAN
METHOD:PUBLISH
X-ORIGINAL-URL:https://nativepeoplesaction.org
X-WR-CALDESC:Events for 
REFRESH-INTERVAL;VALUE=DURATION:PT1H
X-Robots-Tag:noindex
X-PUBLISHED-TTL:PT1H
BEGIN:VTIMEZONE
TZID:America/Anchorage
BEGIN:DAYLIGHT
TZOFFSETFROM:-0900
TZOFFSETTO:-0800
TZNAME:AKDT
DTSTART:20260308T110000
END:DAYLIGHT
BEGIN:STANDARD
TZOFFSETFROM:-0800
TZOFFSETTO:-0900
TZNAME:AKST
DTSTART:20261101T100000
END:STANDARD
END:VTIMEZONE
BEGIN:VEVENT
DTSTART;TZID=America/Anchorage:20260211T180000
DTEND;TZID=America/Anchorage:20260211T200000
DTSTAMP:20260421T191449
CREATED:20260127T023106Z
LAST-MODIFIED:20260127T024646Z
UID:6518-1770832800-1770840000@nativepeoplesaction.org
SUMMARY:Petersburg AC Meeting
DESCRIPTION:The Petersburg Fish and Game Advisory Committee will be holding a public meeting on Wednesday February 11th\, 2026 at 6pm Location: Petersburg Borough Assembly Chambers Address: 12 South Nordic Drive\, Petersburg\, AK 99833 Join the meeting online: https://us06web.zoom.us/j/87996599993?pwd=rDQ9bAHhAAFxebw1jU1BT5WwoLswsd.1 Meeting ID: 879 9659 9993 Passcode: PETERSBURG Dial in: +1-253-215-8782 Callers can mute and unmute by pressing *6 Agenda items will include the following: * Continue discussion of Board of Fisheries Statewide Finfish Proposal * Overview of the RAC * Other fishery and wildlife business as needed For updates to this agenda or to view the minutes following a meeting please see the Petersburg AC meeting page link above or contact Sam Kirby from ADF&G Boards Support Section at (907) 269-6977. Advisory Committees are established to provide a local forum on fish and wildlife issues. Their purpose includes: 1) developing regulatory proposals\, 2) evaluating regulatory proposals and making recommendations to the appropriate board\, 3) providing a local forum for fish and wildlife conservation and use\, including matters relating to habitat\, and 4) cooperating and consulting with interested persons and organizations\, including government agencies\, and encourage youth and elder involvement in committee activities. If you are a person who needs a special accommodation in order to participate in any of these public meetings\, please contact the Boards Support Section at 907-269-6977 no later than 48 hours prior to the meeting\, to make any necessary arrangements.
URL:https://nativepeoplesaction.org/event/petersburg-ac-meeting-4/
CATEGORIES:ADF&G Advisory Committees
END:VEVENT
BEGIN:VEVENT
DTSTART;TZID=America/Anchorage:20260211T180000
DTEND;TZID=America/Anchorage:20260211T210000
DTSTAMP:20260421T191449
CREATED:20260211T205445Z
LAST-MODIFIED:20260211T205445Z
UID:6598-1770832800-1770843600@nativepeoplesaction.org
SUMMARY:Fairbanks AC Meeting
DESCRIPTION:The Fairbanks Fish and Game Advisory Committee will meet on Wednesday\, February 11th\, 2026 at 6:00 pm at the JP Jones Community Development Center (located at 2400 Rickert St) and by web/teleconference. This meeting is open to the public. Agenda items will include the following: * ADFG Staff Reports * Game/Trap Subcommittee Report & recommendations on Board of Game Southcentral Region proposals – comments due March 6th\, 2026 * Fisheries Subcommittee Report & recommendations on Board of Fisheries Statewide Proposals – comments due March 2nd\, 2026 * Other fisheries\, wildlife\, and committee business as needed A copy of the full agenda\, minutes from the previous meeting\, and other materials will be posted to this Online Public Notice (http://notice.alaska.gov/222580) prior to the start of the meeting. Minutes and audio recordings will be posted to archived meeting notices\, which can be found on the Fairbanks Advisory Committee’s website: https://bit.ly/FairbanksAC. To join the meeting from a computer or your mobile phone\, use the meeting link below or dial in by calling (669) 444-9171 and enter the meeting ID. Alternatively\, by providing your phone number to the regional coordinator you may request to be connected to the meeting directly. When joining a meeting by phone\, please remember to press *6 to mute/unmute yourself. If your background noise is interrupting the meeting the meeting host will mute you. Join the meeting online: https://bit.ly/fairbanksACfeb11 (full link for SOA employees: https://us06web.zoom.us/j/87914750246?pwd=nQKbZFOxgs5OGElQW54j5CdSan3LBH.1 ) Dial in: (669) 444-9171 Meeting ID: 879 1475 0246 Passcode: FAIRBANKS Advisory committees are local groups that meet to discuss fishing and wildlife issues and to provide recommendations to Alaska Board of Fisheries and Alaska Board of Game. All meetings are open to the public. Advisory Committees are intended to provide a local forum on fish and wildlife issues. Their purpose includes: 1) developing regulatory proposals\, 2) evaluating regulatory proposals and making recommendations to the appropriate board\, 3) providing a local forum for fish and wildlife conservation and use\, including matters relating to habitat\, and 4) cooperating and consulting with interested persons and organizations\, including government agencies\, and encourage youth and elder involvement in committee activities. The Department of Fish and Game is committed to building a working environment based on mutual trust and respect between the department and the public\, and among department staff. Fish and Game Advisory Committee members and staff are expected to conduct themselves in a respectful\, appropriate\, courteous\, and professional manner at all times. If you are a person experiencing a disability who needs a special accommodation to participate in these public meetings\, please contact the regional coordinator no later than 48 hours prior to the meeting to make any necessary arrangements. For further information on this meeting or to be added to the electronic email notices for this committee\, please contact the Interior Region Coordinator who’s contact information can be found at the bottom of this notice. Kyle Campbell Interior Region Coordinator Boards Support Section Department of Fish and Game 1300 College Road Fairbanks AK 99701 (907) 459-7263 – phone (907) 251-0204 – text (888) 920-3307 – fax kyle.campbell@alaska.gov
URL:https://nativepeoplesaction.org/event/fairbanks-ac-meeting-3/
CATEGORIES:ADF&G Advisory Committees
END:VEVENT
BEGIN:VEVENT
DTSTART;TZID=America/Anchorage:20260211T180000
DTEND;TZID=America/Anchorage:20260211T220000
DTSTAMP:20260421T191449
CREATED:20260211T205416Z
LAST-MODIFIED:20260211T205416Z
UID:6596-1770832800-1770847200@nativepeoplesaction.org
SUMMARY:Mat Valley AC Meeting
DESCRIPTION:Matanuska Valley Fish & Game Advisory Committee Meeting Notice The Matanuska Valley Fish & Game Advisory Committee will be holding a meeting on Wednesday\, February 11th at 6pm Location: Mat-Su College Campus in Palmer\, Room FSM 202 Also Over Zoom: https://us06web.zoom.us/j/83840075521?pwd=8967aFMeuBJXMoSogJuKx0rVIse29d.1 Meeting ID: 838 4007 5521 Passcode: Palmer Agenda Items: Board of Game Southcentral Proposals for GMU 6 Board of Fisheries Statewide Finfish Proposals Other Fish and Game Business as Needed The Matanuska Valley Fish and Game Advisory Committee is a collection of community members from all user groups that come together\, discuss Fish and Game issues and recommend changes to current regulations. They also represent their community before the Board of Fisheries and Board of Game at board meetings. This meeting is open to the public. For more information contact: Alaska Department of Fish and Game Leila Williams – Regional Coordinator (907) 267-2354 Or Herb Mansavage- Chair (907) 841-8928
URL:https://nativepeoplesaction.org/event/mat-valley-ac-meeting-4/
CATEGORIES:ADF&G Advisory Committees
END:VEVENT
END:VCALENDAR