BEGIN:VCALENDAR
VERSION:2.0
PRODID:-// - ECPv6.14.2//NONSGML v1.0//EN
CALSCALE:GREGORIAN
METHOD:PUBLISH
X-ORIGINAL-URL:https://nativepeoplesaction.org
X-WR-CALDESC:Events for 
REFRESH-INTERVAL;VALUE=DURATION:PT1H
X-Robots-Tag:noindex
X-PUBLISHED-TTL:PT1H
BEGIN:VTIMEZONE
TZID:America/Anchorage
BEGIN:DAYLIGHT
TZOFFSETFROM:-0900
TZOFFSETTO:-0800
TZNAME:AKDT
DTSTART:20260308T110000
END:DAYLIGHT
BEGIN:STANDARD
TZOFFSETFROM:-0800
TZOFFSETTO:-0900
TZNAME:AKST
DTSTART:20261101T100000
END:STANDARD
END:VTIMEZONE
BEGIN:VEVENT
DTSTART;TZID=America/Anchorage:20260209T130000
DTEND;TZID=America/Anchorage:20260209T153000
DTSTAMP:20260421T191541
CREATED:20260127T022940Z
LAST-MODIFIED:20260127T024657Z
UID:6514-1770642000-1770651000@nativepeoplesaction.org
SUMMARY:Lake Iliamna AC Meeting & Elections
DESCRIPTION:The Lake Iliamna Fish and Game Advisory Committee will be holding a public meeting online and via Teleconference on Monday\, February 9th\, at 1:00pm. This meeting is open to the public. Agenda items will include the following: * Member Elections (x2 Undesignated Seats) * officer Elections * Miscellaneous business Join the meeting online: https://us06web.zoom.us/j/84054694357?pwd=dhm7uHS7CeyCFI3MkLal2V4bI2b7Xa.1  By Phone: 253.215.8782 or Toll Free: 888.475.4499 Meeting ID: 840 5469 4357 Password: SWR For updates to this agenda or to view the minutes following a meeting please see the Lake Iliamna AC meeting notice page here: Lake Iliamna Advisory Committee For further information or to be added to the electronic email notices for Southwest Region AC meetings contact Natalie Romo at 907.842.5142 or natalie.romo@alaska.gov Advisory committees are local groups that meet to discuss fishing and wildlife issues and to provide recommendations to the Alaska Board of Fisheries and Alaska Board of Game. All meetings are open to the public. Advisory Committees are intended to provide a local forum on fish and wildlife issues. Their purpose includes: 1) developing regulatory proposals\, 2) evaluating regulatory proposals and making recommendations to the appropriate board\, 3) providing a local forum for fish and wildlife conservation and use\, including matters relating to habitat\, 4) advising the appropriate regional council on resources\, and 5) consulting with individuals\, organizations\, and agencies. If you are a person who needs a special accommodation in order to participate in any of these public meetings\, please contact Natalie at (907) 842-5142 or (907) 843-9491 no later than 48 hours prior to the meeting\, to make any necessary arrangements.
URL:https://nativepeoplesaction.org/event/lake-iliamna-ac-meeting-elections/
CATEGORIES:ADF&G Advisory Committees
END:VEVENT
BEGIN:VEVENT
DTSTART;TZID=America/Anchorage:20260209T180000
DTEND;TZID=America/Anchorage:20260209T200000
DTSTAMP:20260421T191541
CREATED:20260211T210830Z
LAST-MODIFIED:20260211T210830Z
UID:6620-1770660000-1770667200@nativepeoplesaction.org
SUMMARY:Fairbanks AC Meeting
DESCRIPTION:The Fisheries Subcommittee of the Fairbanks Fish and Game Advisory Committee will meet on Monday\, February 9th\, 2026 at 6:00 pm by web/teleconference only. This meeting is open to the public. Agenda items will include the following: * Viewing of the short film “Trouble at Sea” * Review of Statewide Board of Fisheries Proposals – comments due March 2nd\, 2026 * Other fisheries subcommittee business as needed A copy of the full agenda\, minutes from the previous meeting\, and other materials will be posted to this Online Public Notice (http://notice.alaska.gov/222548) prior to the start of the meeting. Minutes and audio recordings will be posted to archived meeting notices\, which can be found on the Fairbanks Advisory Committee’s website: https://bit.ly/FairbanksAC To join the meeting from a computer or your mobile phone\, use the meeting link below or dial in by calling (669) 444-9171 and enter the meeting ID. Alternatively\, by providing your phone number to the regional coordinator you may request to be connected to the meeting directly. When joining a meeting by phone\, please remember to press *6 to mute/unmute yourself. If your background noise is interrupting the meeting the meeting host will mute you. Join the meeting online: https://bit.ly/fairbanksACfeb9 (full link for SOA employees: https://us06web.zoom.us/j/86998917557?pwd=0rze75evilzKZd2GzD8G7fTvepUE9x.1 ) Dial in: (669) 444-9171 Meeting ID: 869 9891 7557 Passcode: FISH Advisory committees are local groups that meet to discuss fishing and wildlife issues and to provide recommendations to Alaska Board of Fisheries and Alaska Board of Game. All meetings are open to the public. Advisory Committees are intended to provide a local forum on fish and wildlife issues. Their purpose includes: 1) developing regulatory proposals\, 2) evaluating regulatory proposals and making recommendations to the appropriate board\, 3) providing a local forum for fish and wildlife conservation and use\, including matters relating to habitat\, and 4) cooperating and consulting with interested persons and organizations\, including government agencies\, and encourage youth and elder involvement in committee activities. The Department of Fish and Game is committed to building a working environment based on mutual trust and respect between the department and the public\, and among department staff. Fish and Game Advisory Committee members and staff are expected to conduct themselves in a respectful\, appropriate\, courteous\, and professional manner at all times. If you are a person experiencing a disability who needs a special accommodation to participate in these public meetings\, please contact the regional coordinator no later than 48 hours prior to the meeting to make any necessary arrangements. For further information on this meeting or to be added to the electronic email notices for this committee\, please contact the Interior Region Coordinator who’s contact information can be found at the bottom of this notice. Kyle Campbell Interior Region Coordinator Boards Support Section Department of Fish and Game 1300 College Road Fairbanks AK 99701 (907) 459-7263 – phone (907) 251-0204 – text (888) 920-3307 – fax kyle.campbell@alaska.gov
URL:https://nativepeoplesaction.org/event/fairbanks-ac-meeting-4/
CATEGORIES:ADF&G Advisory Committees
END:VEVENT
BEGIN:VEVENT
DTSTART;TZID=America/Anchorage:20260209T180000
DTEND;TZID=America/Anchorage:20260209T200000
DTSTAMP:20260421T191541
CREATED:20260211T210902Z
LAST-MODIFIED:20260211T210902Z
UID:6622-1770660000-1770667200@nativepeoplesaction.org
SUMMARY:Upper Lynn Canal AC Meeting
DESCRIPTION:notes\n\nThe Upper Lynn Canal Fish and Game Advisory Committee will meet on Monday\, February 9th\, 2026 at 6:00 PM on Zoom. ​ Agenda items include: * Haines State Forest Management Plan continued * Senate Bill 75 * Other Business Zoom Meeting Information Web Link: https://us06web.zoom.us/j/81864923897?pwd=8hRY7PdyGaRgUa34V35zZ807yvb1l9.1 Phone Number: +1 253 205 0468 US Meeting ID: 818 6492 3897 Passcode: ulc ​ Meetings are open to the public and all are welcomed to participate. For further information\, contact Annie Bartholomew at the Department of Fish & Game. To be added to the electronic email notices for Upper Lynn Canal AC Meetings\, please send an email to Annie at the address below. ​ Advisory committees are local groups that meet to discuss fishing and wildlife issues and to provide recommendations to Alaska Board of Fisheries and Alaska Board of Game. All meetings are open to the public. Advisory Committees are intended to provide a local forum on fish and wildlife issues. Their purpose includes: 1) developing regulatory proposals\, 2) evaluating regulatory proposals and making recommendations to the appropriate board\, 3) providing a local forum for fish and wildlife conservation and use\, including matters relating to habitat\, 4) advising the appropriate regional council on resources\, and 5) consulting with individuals\, organizations\, and agencies. If you are a person who needs a special accommodation in order to participate in any of these public meetings\, please contact Boards Support at 907-465-4110 no later than 48 hours prior to the meeting\, to make any necessary arrangements. ​ Contact: Annie Bartholomew Boards Support Section PO Box 115526 Juneau AK 99811-5526 907.465.4046 Fax: 907.465.6094 annie.bartholomew@alaska.gov
URL:https://nativepeoplesaction.org/event/upper-lynn-canal-ac-meeting-6/
CATEGORIES:ADF&G Advisory Committees
END:VEVENT
END:VCALENDAR