BEGIN:VCALENDAR
VERSION:2.0
PRODID:-// - ECPv6.14.2//NONSGML v1.0//EN
CALSCALE:GREGORIAN
METHOD:PUBLISH
X-ORIGINAL-URL:https://nativepeoplesaction.org
X-WR-CALDESC:Events for 
REFRESH-INTERVAL;VALUE=DURATION:PT1H
X-Robots-Tag:noindex
X-PUBLISHED-TTL:PT1H
BEGIN:VTIMEZONE
TZID:America/Anchorage
BEGIN:DAYLIGHT
TZOFFSETFROM:-0900
TZOFFSETTO:-0800
TZNAME:AKDT
DTSTART:20260308T110000
END:DAYLIGHT
BEGIN:STANDARD
TZOFFSETFROM:-0800
TZOFFSETTO:-0900
TZNAME:AKST
DTSTART:20261101T100000
END:STANDARD
END:VTIMEZONE
BEGIN:VEVENT
DTSTART;TZID=America/Anchorage:20260204T180000
DTEND;TZID=America/Anchorage:20260204T210000
DTSTAMP:20260421T211516
CREATED:20260127T022852Z
LAST-MODIFIED:20260127T024703Z
UID:6512-1770228000-1770238800@nativepeoplesaction.org
SUMMARY:Kenai/Soldotna AC Meeting
DESCRIPTION:Kenai/Soldotna Fish and Game Advisory Committee Meeting Announcement [A close up of a sign Description automatically generated] The Kenai/Soldotna Fish and Game Advisory Committee will meet Tuesday\, February 4th\, 2026 at 6pm Location: Kenai National Wildlife Refuge Visitor Center 33398 Ski Hill Road in Soldotna\, AK Agenda Items Include: Board of Fisheries Statewide Finfish Proposals 170\, 171\, and 186 Other Fish and Game Business as Needed The Kenai/Soldotna Fish and Game Advisory Committee is a collection of community members from all user groups that come together\, discuss Fish and Game issues and recommend changes to current regulations. They also represent their community before the Board of Fisheries and Board of Game at board meetings. This meeting is open to the public. For more information contact: Alaska Department of Fish and Game Leila Williams – Regional Coordinator (907) 267-2354 Or Chair Monte Roberts\, (907) 398-7461
URL:https://nativepeoplesaction.org/event/kenai-soldotna-ac-meeting-3/
CATEGORIES:ADF&G Advisory Committees
END:VEVENT
END:VCALENDAR