BEGIN:VCALENDAR
VERSION:2.0
PRODID:-// - ECPv6.14.2//NONSGML v1.0//EN
CALSCALE:GREGORIAN
METHOD:PUBLISH
X-ORIGINAL-URL:https://nativepeoplesaction.org
X-WR-CALDESC:Events for 
REFRESH-INTERVAL;VALUE=DURATION:PT1H
X-Robots-Tag:noindex
X-PUBLISHED-TTL:PT1H
BEGIN:VTIMEZONE
TZID:America/Anchorage
BEGIN:DAYLIGHT
TZOFFSETFROM:-0900
TZOFFSETTO:-0800
TZNAME:AKDT
DTSTART:20260308T110000
END:DAYLIGHT
BEGIN:STANDARD
TZOFFSETFROM:-0800
TZOFFSETTO:-0900
TZNAME:AKST
DTSTART:20261101T100000
END:STANDARD
END:VTIMEZONE
BEGIN:VEVENT
DTSTART;TZID=America/Anchorage:20260203T170000
DTEND;TZID=America/Anchorage:20260203T190000
DTSTAMP:20260421T190931
CREATED:20260127T022745Z
LAST-MODIFIED:20260127T024719Z
UID:6508-1770138000-1770145200@nativepeoplesaction.org
SUMMARY:Sustina Valley AC Meeting
DESCRIPTION:Susitna Valley Fish & Game Advisory Committee Meeting Announcement [A close up of a sign Description automatically generated] The Susitna Valley Fish and Game Advisory Committee will meet on Tuesday\, February 3rd at 5:00pm Location: Talkeetna Library Agenda Items Include: Board of Fisheries Statewide Finfish Proposals 162\, 170-173\, 175-183 Board of Game Southcentral Proposals 73\, 74\, 175\, 176\, 195-197 Other Fish & Game Business as Necessary The Susitna Valley Fish and Game Advisory Committee is a collection of community members from all user groups that come together\, discuss Fish and Game issues and recommend changes to current regulations. They also represent their community before the Board of Fisheries and Board of Game at board meetings. This meeting is open to the public. For more information contact: Alaska Department of Fish and Game Leila Williams – Regional Coordinator\, (907) 267-2354 Or Chair Bryan Kirby\, (907) 232-8111
URL:https://nativepeoplesaction.org/event/sustina-valley-ac-meeting/
CATEGORIES:ADF&G Advisory Committees
END:VEVENT
BEGIN:VEVENT
DTSTART;TZID=America/Anchorage:20260203T180000
DTEND;TZID=America/Anchorage:20260203T203000
DTSTAMP:20260421T190931
CREATED:20260127T022815Z
LAST-MODIFIED:20260127T024714Z
UID:6510-1770141600-1770150600@nativepeoplesaction.org
SUMMARY:Anchorage AC Meeting
DESCRIPTION:Anchorage Advisory Committee Meeting Announcement [A close up of a sign Description automatically generated] The Anchorage Fish & Game Advisory Committee will meet Tuesday\, February 3rd\, 2026 at 6:00pm Location: William Jack Hernandez Hatchery\, 941 N. Reeve Blvd Agenda Items Include: Board of Fisheries Statewide Finfish Proposals Other Game and Fish Business as Necessary The Anchorage Fish and Game Advisory Committee is a collection of community members from all user groups that come together\, discuss Fish and Game issues and recommend changes to current regulations. They also represent their community before the Board of Fisheries and Board of Game at board meetings. This meeting is open to the public. For more information contact: Alaska Department of Fish and Game Leila Williams – ADF&G Boards Support Section (907) 267-2354 Or Chair Kevin Taylor (907) 244-7437
URL:https://nativepeoplesaction.org/event/anchorage-ac-meeting-4/
CATEGORIES:ADF&G Advisory Committees
END:VEVENT
BEGIN:VEVENT
DTSTART;TZID=America/Anchorage:20260203T183000
DTEND;TZID=America/Anchorage:20260203T213000
DTSTAMP:20260421T190931
CREATED:20260127T022701Z
LAST-MODIFIED:20260127T024709Z
UID:6506-1770143400-1770154200@nativepeoplesaction.org
SUMMARY:Bethel AC Meeting & Elections
DESCRIPTION:Bethel Fish & Game Advisory Committee will meet and hold elections in the Conference Room at the Bethel Alaska Department of Fish and Game office and via zoom or teleconference. When: Tuesday\, February 3rd\, 2026 beginning at 6:30 PM Agenda Items include: * Elections for 1 Undesignated Seat * Board of Game proposal discussion for 2026-2027 * Other Business as necessary For updates to this agenda or to view the minutes following a meeting please see the Bethel AC page here: Bethel Advisory Committee\, Alaska Department of Fish and Game To Join by Zoom Meeting: https://us06web.zoom.us/j/82308448766?pwd=hk2ImMRhHjOt52rax2kCxa2hCNdVjz.1 Meeting ID: 823 0844 8766 Passcode: BETH To join by teleconference dial one of the following numbers: 1-253-215-8782 Meeting ID: 823 0844 8766 Participant ID:# For further information on this meeting or to be added to the electronic email notices for this committee\, please contact the Western Region Coordinator who’s contact information can be found at the bottom of this notice. Advisory committees are local groups that meet to discuss fishing and wildlife issues and to provide recommendations to Alaska Board of Fisheries and Alaska Board of Game. All meetings are open to the public. Advisory Committees are intended to provide a local forum on fish and wildlife issues. Their purpose includes: 1) developing regulatory proposals\, 2) evaluating regulatory proposals and making recommendations to the appropriate board\, 3) providing a local forum for fish and wildlife conservation and use\, including matters relating to habitat\, and 4) cooperating and consulting with interested persons and organizations\, including government agencies\, and encourage youth and elder involvement in committee activities. If you are a person experiencing a disability who needs a special accommodation to participate in these public meetings\, please contact the regional coordinator no later than 48 hours prior to the meeting to make any necessary arrangements. If a toll-free number is required\, please contact: Savannah Hollingworth Board Support Section PO Box 1467 Bethel\, AK 99559 Cell: 907.545.8166 Phone: 907.543.2931 Fax: 907.543.2021 savannah.hollingworth@alaska.gov
URL:https://nativepeoplesaction.org/event/bethel-ac-meeting-elections/
CATEGORIES:ADF&G Advisory Committees
END:VEVENT
END:VCALENDAR