BEGIN:VCALENDAR
VERSION:2.0
PRODID:-// - ECPv6.14.2//NONSGML v1.0//EN
CALSCALE:GREGORIAN
METHOD:PUBLISH
X-ORIGINAL-URL:https://nativepeoplesaction.org
X-WR-CALDESC:Events for 
REFRESH-INTERVAL;VALUE=DURATION:PT1H
X-Robots-Tag:noindex
X-PUBLISHED-TTL:PT1H
BEGIN:VTIMEZONE
TZID:America/Anchorage
BEGIN:DAYLIGHT
TZOFFSETFROM:-0900
TZOFFSETTO:-0800
TZNAME:AKDT
DTSTART:20260308T110000
END:DAYLIGHT
BEGIN:STANDARD
TZOFFSETFROM:-0800
TZOFFSETTO:-0900
TZNAME:AKST
DTSTART:20261101T100000
END:STANDARD
END:VTIMEZONE
BEGIN:VEVENT
DTSTART;VALUE=DATE:20260127
DTEND;VALUE=DATE:20260130
DTSTAMP:20260421T211405
CREATED:20260127T021853Z
LAST-MODIFIED:20260127T024843Z
UID:6483-1769472000-1769731199@nativepeoplesaction.org
SUMMARY:Chignik AC Meeting
DESCRIPTION:The Chignik Fish and Game Advisory Committee will be holding a public meeting by Zoom/teleconference on Tuesday\, Wednesday\, and Thursday\, January 27th\, 28th\, and29th\, 2026\, from 10am to 2pm. This meeting is open to the public. PLEASE NOTE THAT EACH DAY WILL HAVE A SEPERATE ZOOM LINK!!! Tuesday January 27th zoom information Join the meeting online (zoom): https://us06web.zoom.us/j/85892820223?pwd=sqWg31lM8sV54zphiZODf9PfxtL38I.1  Join by phone: 1 253 215 8782 or 888 475 4499 Meeting ID: 858 9282 0223 Password: SWR Wednesday\, January 28th zoom information Join the meeting online (zoom):https://us06web.zoom.us/j/84145115391?pwd=DEvM9uotaIEC45Rbl1ko5btuSfQqvt.1  Join by phone: 1 253 215 8782 or 888 475 4499 Meeting ID: 841 4511 5391 Password: SWR Thursday\, January 29th zoom information Join the meeting online (zoom): https://us06web.zoom.us/j/81426058228?pwd=KqlZE99KVW8vb1XDOuNaTRAlL3qVQa.1  Join by phone: 1 253 215 8782 or 888 475 4499 Meeting ID: 814 2605 8228 Password: SWR Agenda items will include the following: * Area M and Chignik Finfish Proposals: Proposal Review * Miscellaneous business For a list of committee membership\, updates to this agenda\, additional meeting materials\, or to view the minutes following a meeting please see the Chignik AC meeting notice page here: https://www.adfg.alaska.gov/index.cfm?adfg=process.acinfo&ac=chignik For further information or to be added to the electronic email notices for Southwest Region AC meetings contact Natalie Romo at 907.842.5142 or natalie.romo@alaska.gov. Advisory committees are local groups that meet to discuss fishing and wildlife issues and to provide recommendations to Alaska Board of Fisheries and Alaska Board of Game. All meetings are open to the public. Advisory Committees are intended to provide a local forum on fish and wildlife issues. Their purpose includes: 1) developing regulatory proposals\, 2) evaluating regulatory proposals and making recommendations to the appropriate board\, 3) providing a local forum for fish and wildlife conservation and use\, including matters relating to habitat\, and 4) cooperating and consulting with interested persons and organizations\, including government agencies\, and encouraging youth and elder involvement in committee activities. If you are a person who needs a special accommodation to participate in any of these public meetings\, please contact Natalie Romo at 907.842.5142 or 907.843.9491 no later than 48 hours prior to the meeting\, to make any necessary arrangements.
URL:https://nativepeoplesaction.org/event/chignik-ac-meeting/
CATEGORIES:ADF&G Advisory Committees
END:VEVENT
BEGIN:VEVENT
DTSTART;TZID=America/Anchorage:20260128T140000
DTEND;TZID=America/Anchorage:20260128T170000
DTSTAMP:20260421T211405
CREATED:20260127T022026Z
LAST-MODIFIED:20260127T024833Z
UID:6488-1769608800-1769619600@nativepeoplesaction.org
SUMMARY:Minto/Nenana AC Meeting & Elections
DESCRIPTION:The Minto Nenana Fish and Game Advisory Committee will meet and hold elections on Wednesday\, January 28th\, 2026 at 2:00 pm at the Nenana Native Village Council office located at 806 G St\, Nenana\, AK and by web/teleconference. This meeting is open to the public. Voting will be held in person and by web/teleconference. If you plan to participate in this election remotely/cannot attend the meeting in person\, please contact the regional coordinator prior to the election meeting. To be eligible to make nominations or vote in an election of a Fish & Game Advisory Committee\, you must be a voting-age resident of the area served by the committee as defined in 5 AAC 96.910(10) and attending the election meeting. The areas served by the Minto Nenana Fish and Game Advisory Committee as defined in 5 AAC 97.005 are Game Management Units 20 and 25 and the Upper Yukon and Tanana Rivers. For more information\, please contact the regional coordinator. Agenda items will include the following: * Elections: [5] expired seats designated for the community of Nenana to serve up to a three-year term [1] expired undesignated seat to serve up to a three-year term Appointment of [1] alternate for the community of Nenana to serve up to a one-year term Appointment of [2]​undesignated/at-large alternates to serve up to a one-year term * Officer Elections: Chair(s) Vice-chair Secretary/Recorder * Beginning at 3:00 pm- Joint virtual discussion of Board of Fisheries AK Peninsula (Area M) Proposals with Tanana/Rampart/Manley Fish & Game Advisory Committee – comments due February 3rd\, 2026 * Other fisheries\, wildlife\, and committee business as needed A copy of the full agenda\, minutes from the previous meeting\, and other materials will be posted to this Online Public Notice (http://notice.alaska.gov/222321) prior to the start of the meeting. Minutes and audio recordings will be posted to archived meeting notices\, which can be found on the Minto Advisory Committee’s website: https://bit.ly/mintonenanaAC. To join the meeting from a computer or your mobile phone\, use the meeting link below or dial in by calling (669) 444-9171 and enter the meeting ID. Alternatively\, by providing your phone number to the regional coordinator you may request to be connected to the meeting directly. When joining a meeting by phone\, please remember to press *6 to mute/unmute yourself. If your background noise is interrupting the meeting the meeting host will mute you. Join the meeting online: https://bit.ly/MNAC-TRMAC-jan28 (full link for SOA employees: https://us06web.zoom.us/j/84397575088?pwd=yr5ruup1vRNAPybDzWtXws1bqJ81YL.1 ) Dial in: (669) 444-9171 OR (888) 475-4499 (Toll Free) Meeting ID: 843 9757 5088 Passcode: AREAM Advisory committees are local groups that meet to discuss fishing and wildlife issues and to provide recommendations to Alaska Board of Fisheries and Alaska Board of Game. All meetings are open to the public. Advisory Committees are intended to provide a local forum on fish and wildlife issues. Their purpose includes: 1) developing regulatory proposals\, 2) evaluating regulatory proposals and making recommendations to the appropriate board\, 3) providing a local forum for fish and wildlife conservation and use\, including matters relating to habitat\, and 4) cooperating and consulting with interested persons and organizations\, including government agencies\, and encourage youth and elder involvement in committee activities. The Department of Fish and Game is committed to building a working environment based on mutual trust and respect between the department and the public\, and among department staff. Fish and Game Advisory Committee members and staff are expected to conduct themselves in a respectful\, appropriate\, courteous\, and professional manner at all times. If you are a person experiencing a disability who needs a special accommodation to participate in these public meetings\, please contact the regional coordinator no later than 48 hours prior to the meeting to make any necessary arrangements. For further information on this meeting or to be added to the electronic email notices for this committee\, please contact the Interior Region Coordinator who’s contact information can be found at the bottom of this notice. Kyle Campbell Interior Region Coordinator Boards Support Section Department of Fish and Game 1300 College Road Fairbanks AK 99701 (907) 459-7263 – phone (907) 251-0204 – text (888) 920-3307 – fax kyle.campbell@alaska.gov
URL:https://nativepeoplesaction.org/event/minto-nenana-ac-meeting-elections/
CATEGORIES:ADF&G Advisory Committees
END:VEVENT
BEGIN:VEVENT
DTSTART;TZID=America/Anchorage:20260128T150000
DTEND;TZID=America/Anchorage:20260128T170000
DTSTAMP:20260421T211405
CREATED:20260127T022102Z
LAST-MODIFIED:20260127T024823Z
UID:6490-1769612400-1769619600@nativepeoplesaction.org
SUMMARY:Tanana/Rampart/Manley AC Meeting
DESCRIPTION:The Tanana Rampart Manley Fish and Game Advisory Committee will meet on Wednesday\, January 28th\, 2026 at 3:00 pm by web/teleconference only. This meeting is open to the public. Agenda items will include the following: * Joint virtual discussion of Board of Fisheries AK Peninsula (Area M) Proposals with Minto/Nenana Fish & Game Advisory Committee – comments due February 3rd\, 2026 * Other fisheries\, wildlife\, and committee business as needed A copy of the full agenda\, minutes from the previous meeting\, and other materials will be posted to this Online Public Notice (http://notice.alaska.gov/222390) prior to the start of the meeting. Minutes and audio recordings will be posted to archived meeting notices\, which can be found on the Tanana Rampart Manley Advisory Committee’s website: https://bit.ly/TananaRampartManleyAC. To join the meeting from a computer or your mobile phone\, use the meeting link below or dial in by calling (669) 444-9171 and enter the meeting ID. Alternatively\, by providing your phone number to the regional coordinator you may request to be connected to the meeting directly. When joining a meeting by phone\, please remember to press *6 to mute/unmute yourself. If your background noise is interrupting the meeting the meeting host will mute you. Join the meeting online: https://bit.ly/MNAC-TRMAC-jan28 (full link for SOA employees: https://us06web.zoom.us/j/84397575088?pwd=yr5ruup1vRNAPybDzWtXws1bqJ81YL.1 ) Dial in: (669) 444-9171 OR (888) 475-4499 (Toll Free) Meeting ID: 843 9757 5088 Passcode: AREAM Advisory committees are local groups that meet to discuss fishing and wildlife issues and to provide recommendations to Alaska Board of Fisheries and Alaska Board of Game. All meetings are open to the public. Advisory Committees are intended to provide a local forum on fish and wildlife issues. Their purpose includes: 1) developing regulatory proposals\, 2) evaluating regulatory proposals and making recommendations to the appropriate board\, 3) providing a local forum for fish and wildlife conservation and use\, including matters relating to habitat\, and 4) cooperating and consulting with interested persons and organizations\, including government agencies\, and encourage youth and elder involvement in committee activities. The Department of Fish and Game is committed to building a working environment based on mutual trust and respect between the department and the public\, and among department staff. Fish and Game Advisory Committee members and staff are expected to conduct themselves in a respectful\, appropriate\, courteous\, and professional manner at all times. If you are a person experiencing a disability who needs a special accommodation to participate in these public meetings\, please contact the regional coordinator no later than 48 hours prior to the meeting to make any necessary arrangements. For further information on this meeting or to be added to the electronic email notices for this committee\, please contact the Interior Region Coordinator who’s contact information can be found at the bottom of this notice. Kyle Campbell Interior Region Coordinator Boards Support Section Department of Fish and Game 1300 College Road Fairbanks AK 99701 (907) 459-7263 – phone (907) 251-0204 – text (888) 920-3307 – fax kyle.campbell@alaska.gov
URL:https://nativepeoplesaction.org/event/tanana-rampart-manley-ac-meeting-3/
CATEGORIES:ADF&G Advisory Committees
END:VEVENT
BEGIN:VEVENT
DTSTART;TZID=America/Anchorage:20260128T180000
DTEND;TZID=America/Anchorage:20260128T213000
DTSTAMP:20260421T211405
CREATED:20260127T022135Z
LAST-MODIFIED:20260127T024816Z
UID:6492-1769623200-1769635800@nativepeoplesaction.org
SUMMARY:Mat Valley AC Meeting
DESCRIPTION:Matanuska Valley Fish & Game Advisory Committee Meeting Notice The Matanuska Valley Fish & Game Advisory Committee will be holding a meeting on Wednesday\, January 28th at 6pm Location: Over Zoom Only https://us06web.zoom.us/j/87536079564?pwd=huwTzs1A4pTAqbfyq5ktJe5LH2aonb.1 Meeting ID: 875 3607 9564 Passcode: Palmer Agenda Items: Board of Game Southcentral Proposals (Kenai general hunting and Kenai trapping/non-resident proposals\, 86-154 on request basis only) Other Fish and Game Business as Needed The Matanuska Valley Fish and Game Advisory Committee is a collection of community members from all user groups that come together\, discuss Fish and Game issues and recommend changes to current regulations. They also represent their community before the Board of Fisheries and Board of Game at board meetings. This meeting is open to the public. For more information contact: Alaska Department of Fish and Game Leila Williams – Regional Coordinator (907) 267-2354 Or Herb Mansavage- Chair (907) 841-8928
URL:https://nativepeoplesaction.org/event/mat-valley-ac-meeting-3/
CATEGORIES:ADF&G Advisory Committees
END:VEVENT
END:VCALENDAR