BEGIN:VCALENDAR
VERSION:2.0
PRODID:-// - ECPv6.14.2//NONSGML v1.0//EN
CALSCALE:GREGORIAN
METHOD:PUBLISH
X-ORIGINAL-URL:https://nativepeoplesaction.org
X-WR-CALDESC:Events for 
REFRESH-INTERVAL;VALUE=DURATION:PT1H
X-Robots-Tag:noindex
X-PUBLISHED-TTL:PT1H
BEGIN:VTIMEZONE
TZID:America/Anchorage
BEGIN:DAYLIGHT
TZOFFSETFROM:-0900
TZOFFSETTO:-0800
TZNAME:AKDT
DTSTART:20260308T110000
END:DAYLIGHT
BEGIN:STANDARD
TZOFFSETFROM:-0800
TZOFFSETTO:-0900
TZNAME:AKST
DTSTART:20261101T100000
END:STANDARD
END:VTIMEZONE
BEGIN:VEVENT
DTSTART;VALUE=DATE:20260127
DTEND;VALUE=DATE:20260130
DTSTAMP:20260421T212012
CREATED:20260127T021853Z
LAST-MODIFIED:20260127T024843Z
UID:6483-1769472000-1769731199@nativepeoplesaction.org
SUMMARY:Chignik AC Meeting
DESCRIPTION:The Chignik Fish and Game Advisory Committee will be holding a public meeting by Zoom/teleconference on Tuesday\, Wednesday\, and Thursday\, January 27th\, 28th\, and29th\, 2026\, from 10am to 2pm. This meeting is open to the public. PLEASE NOTE THAT EACH DAY WILL HAVE A SEPERATE ZOOM LINK!!! Tuesday January 27th zoom information Join the meeting online (zoom): https://us06web.zoom.us/j/85892820223?pwd=sqWg31lM8sV54zphiZODf9PfxtL38I.1  Join by phone: 1 253 215 8782 or 888 475 4499 Meeting ID: 858 9282 0223 Password: SWR Wednesday\, January 28th zoom information Join the meeting online (zoom):https://us06web.zoom.us/j/84145115391?pwd=DEvM9uotaIEC45Rbl1ko5btuSfQqvt.1  Join by phone: 1 253 215 8782 or 888 475 4499 Meeting ID: 841 4511 5391 Password: SWR Thursday\, January 29th zoom information Join the meeting online (zoom): https://us06web.zoom.us/j/81426058228?pwd=KqlZE99KVW8vb1XDOuNaTRAlL3qVQa.1  Join by phone: 1 253 215 8782 or 888 475 4499 Meeting ID: 814 2605 8228 Password: SWR Agenda items will include the following: * Area M and Chignik Finfish Proposals: Proposal Review * Miscellaneous business For a list of committee membership\, updates to this agenda\, additional meeting materials\, or to view the minutes following a meeting please see the Chignik AC meeting notice page here: https://www.adfg.alaska.gov/index.cfm?adfg=process.acinfo&ac=chignik For further information or to be added to the electronic email notices for Southwest Region AC meetings contact Natalie Romo at 907.842.5142 or natalie.romo@alaska.gov. Advisory committees are local groups that meet to discuss fishing and wildlife issues and to provide recommendations to Alaska Board of Fisheries and Alaska Board of Game. All meetings are open to the public. Advisory Committees are intended to provide a local forum on fish and wildlife issues. Their purpose includes: 1) developing regulatory proposals\, 2) evaluating regulatory proposals and making recommendations to the appropriate board\, 3) providing a local forum for fish and wildlife conservation and use\, including matters relating to habitat\, and 4) cooperating and consulting with interested persons and organizations\, including government agencies\, and encouraging youth and elder involvement in committee activities. If you are a person who needs a special accommodation to participate in any of these public meetings\, please contact Natalie Romo at 907.842.5142 or 907.843.9491 no later than 48 hours prior to the meeting\, to make any necessary arrangements.
URL:https://nativepeoplesaction.org/event/chignik-ac-meeting/
CATEGORIES:ADF&G Advisory Committees
END:VEVENT
BEGIN:VEVENT
DTSTART;TZID=America/Anchorage:20260127T153000
DTEND;TZID=America/Anchorage:20260127T173000
DTSTAMP:20260421T212012
CREATED:20260127T021936Z
LAST-MODIFIED:20260127T024837Z
UID:6486-1769527800-1769535000@nativepeoplesaction.org
SUMMARY:Anchorage AC Fish Subcommittee Meeting
DESCRIPTION:Anchorage Fish and Game Advisory Committee Fish Subcommittee Meeting Announcement [A close up of a sign Description automatically generated] The Anchorage Fish and Game Advisory Committee Fish Subcommittee will meet Tuesday\, January 27th\, 2026 at 3:30pm Location: RE/MAX Dynamic Properties at 3350 Midtown Place in Anchorage\, AK Agenda Items Include: Board of Fisheries Statewide Finfish Proposals Other Fish Business as Necessary The Anchorage Fish and Game Advisory Committee is a collection of community members from all user groups that come together\, discuss Fish and Game issues and recommend changes to current regulations. They also represent their community before the Board of Fisheries and Board of Game at board meetings. This meeting is open to the public. For more information contact: Alaska Department of Fish and Game Leila Williams– Regional Coordinator (907) 267-2354 Kevin Taylor – (907) 244-7437
URL:https://nativepeoplesaction.org/event/anchorage-ac-fish-subcommittee-meeting-2/
CATEGORIES:ADF&G Advisory Committees
END:VEVENT
END:VCALENDAR