BEGIN:VCALENDAR
VERSION:2.0
PRODID:-// - ECPv6.14.2//NONSGML v1.0//EN
CALSCALE:GREGORIAN
METHOD:PUBLISH
X-ORIGINAL-URL:https://nativepeoplesaction.org
X-WR-CALDESC:Events for 
REFRESH-INTERVAL;VALUE=DURATION:PT1H
X-Robots-Tag:noindex
X-PUBLISHED-TTL:PT1H
BEGIN:VTIMEZONE
TZID:America/Anchorage
BEGIN:DAYLIGHT
TZOFFSETFROM:-0900
TZOFFSETTO:-0800
TZNAME:AKDT
DTSTART:20260308T110000
END:DAYLIGHT
BEGIN:STANDARD
TZOFFSETFROM:-0800
TZOFFSETTO:-0900
TZNAME:AKST
DTSTART:20261101T100000
END:STANDARD
END:VTIMEZONE
BEGIN:VEVENT
DTSTART;TZID=America/Anchorage:20260126T130000
DTEND;TZID=America/Anchorage:20260126T170000
DTSTAMP:20260421T211516
CREATED:20260127T021706Z
LAST-MODIFIED:20260127T024859Z
UID:6477-1769432400-1769446800@nativepeoplesaction.org
SUMMARY:Nelson Lagoon AC Meeting
DESCRIPTION:The Nelson Lagoon Fish and Game Advisory Committee will be holding a public meeting online via Zoom/teleconference on Monday\, January 26th\, at 1:00pm. THIS MEETING IS OPEN TO THE PUBLIC. Agenda items will include the following: * Discussion of Finfish Proposals at the ACs discretion * Miscellaneous business Join by Phone: 253 215 8782 or 888 475 4499 Join online:https://us06web.zoom.us/j/83676862409?pwd=iBI6fvjmuomiEs16E0A8RZhjxrc3W5.1  Meeting ID: 836 7686 2409 Password: SWR For updates to this agenda or to view the minutes following a meeting please see the Nelson Lagoon AC meeting notice page here: Nelson Lagoon ADF&G Advisory Committee For further information or to be added to the electronic email notices for Southwest Region AC meetings contact Natalie Romo at 907.842.5142 or natalie.romo@alaska.gov. Advisory committees are local groups that meet to discuss fishing and wildlife issues and to provide recommendations to Alaska Board of Fisheries and Alaska Board of Game. All meetings are open to the public. Advisory Committees are intended to provide a local forum on fish and wildlife issues. Their purpose includes: 1) developing regulatory proposals\, 2) evaluating regulatory proposals and making recommendations to the appropriate board\, 3) providing a local forum for fish and wildlife conservation and use\, including matters relating to habitat\, 4) advising the appropriate regional council on resources\, and 5) consulting with individuals\, organizations\, and agencies. If you are a person who needs a special accommodation in order to participate in any of these public meetings\, please contact Natalie at (907) 842-5142 or (907) 843-9491 no later than 48 hours prior to the meeting\, to make any necessary arrangements.
URL:https://nativepeoplesaction.org/event/nelson-lagoon-ac-meeting/
CATEGORIES:ADF&G Advisory Committees
END:VEVENT
BEGIN:VEVENT
DTSTART;TZID=America/Anchorage:20260126T180000
DTEND;TZID=America/Anchorage:20260126T210000
DTSTAMP:20260421T211516
CREATED:20260127T021739Z
LAST-MODIFIED:20260127T024853Z
UID:6479-1769450400-1769461200@nativepeoplesaction.org
SUMMARY:Prince William Sound/Valdez AC Meeting & Elections
DESCRIPTION:Valdez/PWS Fish and Game Advisory Committee Meeting & Elections Announcement [A close up of a sign Description automatically generated] The Valdez/PWS Fish and Game Advisory Committee will meet Monday\, January 26th\, 2025 @ 6:00p.m. Location: Zoom Join Zoom Meeting https://us06web.zoom.us/j/83225777038?pwd=9HFcPFG4kbajEoONNAcYg4mSvHv5Id.1 Meeting ID: 832 2577 7038 Passcode: Valdez Teleconference Number: (346) 248-7799 Agenda Items Include: Member Elections for 2 expiring seats\, 9 vacant seats\, and 2 alternates Officer Elections Board of Fisheries Statewide Finfish Proposals 162-182 Other Game and Fisheries Business as Needed The Valdez/PWS Fish and Game Advisory Committee is a collection of community members from all user groups that come together\, discuss Fish and Game issues and recommend changes to current regulations. They also represent their community before the Board of Fisheries and Board of Game at board meetings. This meeting is open to the public. For more information contact: Alaska Department of Fish and Game Leila Williams – Regional Coordinator (907) 267-2354 Or Chair Nick Crump at nicholaswcrump@gmail.com
URL:https://nativepeoplesaction.org/event/prince-william-sound-valdez-ac-meeting-elections/
CATEGORIES:ADF&G Advisory Committees
END:VEVENT
BEGIN:VEVENT
DTSTART;TZID=America/Anchorage:20260126T190000
DTEND;TZID=America/Anchorage:20260126T210000
DTSTAMP:20260421T211516
CREATED:20260127T021814Z
LAST-MODIFIED:20260127T024848Z
UID:6481-1769454000-1769461200@nativepeoplesaction.org
SUMMARY:Upper Lynn Canal AC Meeting
DESCRIPTION:Meeting website: http://notice.alaska.gov/222388 The Upper Lynn Canal Fish and Game Advisory Committee will meet on Monday\, January 26th\, 2026 at 7:00 PM on Zoom. Agenda items include: * *ADDITIONAL ITEM: Advisory Committee User Group Seat Designation Discussion * *ADDITIONAL ITEM: Federal Subsistence Board: SCI Opposition Comment Letter continued * Log Transfer Facility Period – LAS 35438 NSEA TIMBER\, INC continued * Haines State Forest Management Plan continued * Other Business Zoom Meeting Information Web Link: https://us06web.zoom.us/j/84151313383?pwd=WhqPchyXRrGgwIefx7Z1HFVFassrsZ.1 Phone Number: +1 253 205 0468 US Meeting ID: 841 5131 3383 Passcode: ulc Meetings are open to the public and all are welcomed to participate. For further information\, contact Annie Bartholomew at the Department of Fish & Game. To be added to the electronic email notices for Upper Lynn Canal AC Meetings\, please send an email to Annie at the address below. Advisory committees are local groups that meet to discuss fishing and wildlife issues and to provide recommendations to Alaska Board of Fisheries and Alaska Board of Game. All meetings are open to the public. Advisory Committees are intended to provide a local forum on fish and wildlife issues. Their purpose includes: 1) developing regulatory proposals\, 2) evaluating regulatory proposals and making recommendations to the appropriate board\, 3) providing a local forum for fish and wildlife conservation and use\, including matters relating to habitat\, 4) advising the appropriate regional council on resources\, and 5) consulting with individuals\, organizations\, and agencies. If you are a person who needs a special accommodation in order to participate in any of these public meetings\, please contact Boards Support at 907-465-4110 no later than 48 hours prior to the meeting\, to make any necessary arrangements. Contact: Annie Bartholomew Boards Support Section PO Box 115526 Juneau AK 99811-5526 907.465.4046 Fax: 907.465.6094 annie.bartholomew@alaska.gov
URL:https://nativepeoplesaction.org/event/upper-lynn-canal-ac-meeting-4/
CATEGORIES:ADF&G Advisory Committees
END:VEVENT
END:VCALENDAR