BEGIN:VCALENDAR
VERSION:2.0
PRODID:-// - ECPv6.14.2//NONSGML v1.0//EN
CALSCALE:GREGORIAN
METHOD:PUBLISH
X-ORIGINAL-URL:https://nativepeoplesaction.org
X-WR-CALDESC:Events for 
REFRESH-INTERVAL;VALUE=DURATION:PT1H
X-Robots-Tag:noindex
X-PUBLISHED-TTL:PT1H
BEGIN:VTIMEZONE
TZID:America/Anchorage
BEGIN:DAYLIGHT
TZOFFSETFROM:-0900
TZOFFSETTO:-0800
TZNAME:AKDT
DTSTART:20260308T110000
END:DAYLIGHT
BEGIN:STANDARD
TZOFFSETFROM:-0800
TZOFFSETTO:-0900
TZNAME:AKST
DTSTART:20261101T100000
END:STANDARD
END:VTIMEZONE
BEGIN:VEVENT
DTSTART;TZID=America/Anchorage:20260121T130000
DTEND;TZID=America/Anchorage:20260121T170000
DTSTAMP:20260421T211621
CREATED:20260127T023528Z
LAST-MODIFIED:20260127T024911Z
UID:6527-1769000400-1769014800@nativepeoplesaction.org
SUMMARY:False Pass AC Meeting
DESCRIPTION:The False Pass Fish and Game Advisory Committee will be holding a public meeting and election in the False Pass City Council Chambers on Wednesday\, January 21\,2026\, at 1:00pm. Agenda items will include the following: * Member and Officer Elections * Undesignated Seat (x2) * Officer elections * Discussion of Alaska Penn/Aleutian Islands/Bering Sea/Chignik Pacific Finfish Proposals * Other miscellaneous business Join the meeting online: https://us06web.zoom.us/j/84862908357?pwd=kXmahx7mAOl3CPRFMlK59UsGpZmpqL.1  By Phone: 253.215.8782 or Toll Free: 888.475.4499 Meeting ID: 848 6290 8357 Password: SWR For updates to this agenda or to view the minutes following a meeting please see the False Pass AC meeting notice page here: False Pass Advisory Committee\, Alaska Department of Fish and Game For further information or to be added to the electronic email notices for Southwest Region AC meetings contact Natalie Romo at 907.842.5142 or natalie.romo@alaska.gov Advisory committees are local groups that meet to discuss fishing and wildlife issues and to provide recommendations to the Alaska Board of Fisheries and Alaska Board of Game. All meetings are open to the public. Advisory Committees are intended to provide a local forum on fish and wildlife issues. Their purpose includes: 1) developing regulatory proposals\, 2) evaluating regulatory proposals and making recommendations to the appropriate board\, 3) providing a local forum for fish and wildlife conservation and use\, including matters relating to habitat\, 4) advising the appropriate regional council on resources\, and 5) consulting with individuals\, organizations\, and agencies. If you are a person who needs a special accommodation in order to participate in any of these public meetings\, please contact Natalie at (907) 842-5142 or (907) 843-9491 no later than 48 hours prior to the meeting\, to make any necessary arrangements.
URL:https://nativepeoplesaction.org/event/false-pass-ac-meeting/
CATEGORIES:ADF&G Advisory Committees
END:VEVENT
END:VCALENDAR