BEGIN:VCALENDAR
VERSION:2.0
PRODID:-// - ECPv6.14.2//NONSGML v1.0//EN
CALSCALE:GREGORIAN
METHOD:PUBLISH
X-ORIGINAL-URL:https://nativepeoplesaction.org
X-WR-CALDESC:Events for 
REFRESH-INTERVAL;VALUE=DURATION:PT1H
X-Robots-Tag:noindex
X-PUBLISHED-TTL:PT1H
BEGIN:VTIMEZONE
TZID:America/Anchorage
BEGIN:DAYLIGHT
TZOFFSETFROM:-0900
TZOFFSETTO:-0800
TZNAME:AKDT
DTSTART:20260308T110000
END:DAYLIGHT
BEGIN:STANDARD
TZOFFSETFROM:-0800
TZOFFSETTO:-0900
TZNAME:AKST
DTSTART:20261101T100000
END:STANDARD
END:VTIMEZONE
BEGIN:VEVENT
DTSTART;TZID=America/Anchorage:20260107T170000
DTEND;TZID=America/Anchorage:20260107T200000
DTSTAMP:20260421T210826
CREATED:20260107T191244Z
LAST-MODIFIED:20260127T025133Z
UID:6376-1767805200-1767816000@nativepeoplesaction.org
SUMMARY:Pelican AC Meeting & Election
DESCRIPTION:Pelican Fish and Game Advisory Committee Meeting & Election Meeting website: http://notice.alaska.gov/218034 The Pelican Fish and Game Advisory Committee will meet Wednesday\, January 7th at 5:00 PM – location to be announced. A call-in number and zoom is provided for remote participation. Agenda items include: * AC Member Elections * Board of Game Southeast Proposals * Other Business ​ CALL-IN INFORMATION Phone Number: +1 253 205 0468 Meeting ID: 861 5814 3878 Passcode: pelican ​ Join audio conference from web: https://us06web.zoom.us/j/86158143878?pwd=KSE622ajE5EGddpO8fmMFmboKwjhMX.1 Meetings are open to the public. All residents of the area who attend the meeting and are of legal voting age may make nominations and vote on committee membership. The Pelican Fish and Game Advisory Committee is a collection of community members from all user groups that come together\, discuss Fish and Game issues and recommend changes to current regulations. They also represent their community before the Board of Fisheries and Board of Game at board meetings. For further information\, contact Annie Bartholomew at the Department of Fish & Game. To be added to the electronic email notices for Pelican AC Meetings\, please send an email to Annie at the address below. Advisory committees are local groups that meet to discuss fishing and wildlife issues and to provide recommendations to Alaska Board of Fisheries and Alaska Board of Game. All meetings are open to the public. Advisory Committees are intended to provide a local forum on fish and wildlife issues. Their purpose includes: 1) developing regulatory proposals\, 2) evaluating regulatory proposals and making recommendations to the appropriate board\, 3) providing a local forum for fish and wildlife conservation and use\, including matters relating to habitat\, 4) advising the appropriate regional council on resources\, and 5) consulting with individuals\, organizations\, and agencies. If you are a person who needs a special accommodation in order to participate in any of these public meetings\, please contact Boards Support at 907-465-4110 no later than 48 hours prior to the meeting\, to make any necessary arrangements. Contact: Annie Bartholomew Boards Support Section PO Box 115526 Juneau AK 99811-5526 907.465.4046 Fax: 907.465.6094 ________________________________________________________________________________ Microsoft Teams Need help? Join the meeting now Meeting ID: 296 123 830 712 58 Passcode: Qm33hX3e ________________________________ Join on a video conferencing device Tenant key: 260748889@t.plcm.vc Video ID: 119 045 175 0 More info For organizers: Meeting options ________________________________________________________________________________
URL:https://nativepeoplesaction.org/event/pelican-ac-meeting-election/
CATEGORIES:ADF&G Advisory Committees
END:VEVENT
BEGIN:VEVENT
DTSTART;TZID=America/Anchorage:20260107T170000
DTEND;TZID=America/Anchorage:20260107T200000
DTSTAMP:20260421T210826
CREATED:20260107T191320Z
LAST-MODIFIED:20260127T025126Z
UID:6378-1767805200-1767816000@nativepeoplesaction.org
SUMMARY:Petersburg AC Meeting
DESCRIPTION:The Petersburg Fish and Game Advisory Committee will be holding a public meeting on Wednesday January 7th\, 2026 at 5pm Location: Petersburg Borough Assembly Chambers Address: 12 South Nordic Drive\, Petersburg\, AK 99833 Join the meeting online: Zoom: https://us06web.zoom.us/j/83470926692?pwd=0hxBFQJRhbhbdjiyKwFSPnAapFfUVz.1 Meeting ID: 834 7092 6692 Passcode: PETERSBURG Dial in: +1-253-205-0468 Agenda items will include the following: * Elections for the vacant alternate seat * Officer Election for secretary * Finish discussing Board of Game Southeast Region Proposals. * Other fishery and wildlife business as needed. Election Information: To be eligible to make nominations or vote in an election of a Fish & Game Advisory Committee\, you must be a voting-age resident of the area served by the committee as defined in 5 AAC 96.910(10) and attending the election meeting. The areas served by the Petersburg Fish and Game Advisory Committee as defined in 5 AAC 97.005 are Game Management Units 1B\, 1C\, 2\, 3\, and 4. For updates to this agenda or to view the minutes following a meeting please see the Petersburg AC meeting page link above or contact Sam Kirby from ADF&G Boards Support Section at (907) 269-6977. Advisory Committees are established to provide a local forum on fish and wildlife issues. Their purpose includes: 1) developing regulatory proposals\, 2) evaluating regulatory proposals and making recommendations to the appropriate board\, 3) providing a local forum for fish and wildlife conservation and use\, including matters relating to habitat\, and 4) cooperating and consulting with interested persons and organizations\, including government agencies\, and encourage youth and elder involvement in committee activities. If you are a person who needs a special accommodation in order to participate in any of these public meetings\, please contact the Boards Support Section at 907-269-6977 no later than 48 hours prior to the meeting\, to make any necessary arrangements. ________________________________________________________________________________ Microsoft Teams Need help? Join the meeting now Meeting ID: 218 055 951 396 05 Passcode: Bp2GS9b9 ________________________________ Dial in by phone +1 907-202-7104\,\,143628927# United States\, Anchorage Find a local number Phone conference ID: 143 628 927# Join on a video conferencing device Tenant key: 260748889@t.plcm.vc Video ID: 114 875 571 9 More info For organizers: Meeting options | Reset dial-in PIN ________________________________________________________________________________
URL:https://nativepeoplesaction.org/event/petersburg-ac-meeting-3/
CATEGORIES:ADF&G Advisory Committees
END:VEVENT
BEGIN:VEVENT
DTSTART;TZID=America/Anchorage:20260107T180000
DTEND;TZID=America/Anchorage:20260107T200000
DTSTAMP:20260421T210826
CREATED:20260107T191523Z
LAST-MODIFIED:20260127T025121Z
UID:6382-1767808800-1767816000@nativepeoplesaction.org
SUMMARY:Anchorage AC Game Subcommittee
DESCRIPTION:Anchorage Fish and Game Advisory Committee Game Subcommittee Meeting Announcement [A close up of a sign Description automatically generated] The Anchorage Fish and Game Advisory Committee Game Subcommittee will meet Wednesday\, January 7th from 6:00pm-8:00pm LOCATION: Bass Pro Shop 3046 Mountain View Dr\, Anchorage\, AK 99501 Also: Over Zoom https://us06web.zoom.us/j/81060063982?pwd=5pts8DJ4ig6CtOtcb09fpRUr6dG3DI.1 Meeting ID: 810 6006 3982 Passcode: Game Agenda Items: Remaining Board of Game GMU 14C Proposals Board of Game GMU 8 Proposals Other Game Business as Needed The Anchorage Fish and Game Advisory Committee is a collection of community members from all user groups that come together\, discuss Fish and Game issues and recommend changes to current regulations. They also represent their community before the Board of Fisheries and Board of Game at board meetings. This meeting is open to the public. For more information contact: Alaska Department of Fish and Game Leila Williams – Regional Coordinator (907) 267-2354 Or Matt Moore – matt.moore@akrehab.com
URL:https://nativepeoplesaction.org/event/anchorage-ac-game-subcommittee-2/
CATEGORIES:ADF&G Advisory Committees
END:VEVENT
BEGIN:VEVENT
DTSTART;TZID=America/Anchorage:20260107T180000
DTEND;TZID=America/Anchorage:20260107T210000
DTSTAMP:20260421T210826
CREATED:20251210T202058Z
LAST-MODIFIED:20260127T025116Z
UID:6369-1767808800-1767819600@nativepeoplesaction.org
SUMMARY:Kenai/Soldotna AC Meeting
DESCRIPTION:Kenai/Soldotna Fish and Game Advisory Committee Meeting Announcement [A close up of a sign Description automatically generated] The Kenai/Soldotna Fish and Game Advisory Committee will meet Wednesday\, January 7th\, 2026 at 6pm Location: Kenai National Wildlife Refuge Visitor Center\, 33398 Ski Hill Road in Soldotna Agenda Items Include: Finish Board of Game Southcentral Proposals Start Board of Fisheries Statewide Finfish Proposals Other Fish and Game Business as Needed The Kenai/Soldotna Fish and Game Advisory Committee is a collection of community members from all user groups that come together\, discuss Fish and Game issues and recommend changes to current regulations. They also represent their community before the Board of Fisheries and Board of Game at board meetings. This meeting is open to the public. For more information contact: Alaska Department of Fish and Game Leila Williams – Regional Coordinator (907) 267-2354 Or Chair Monte Roberts\, (907) 398-7461
URL:https://nativepeoplesaction.org/event/kenai-soldotna-ac-meeting-2/
CATEGORIES:ADF&G Advisory Committees,Meetings
END:VEVENT
BEGIN:VEVENT
DTSTART;TZID=America/Anchorage:20260107T180000
DTEND;TZID=America/Anchorage:20260107T210000
DTSTAMP:20260421T210826
CREATED:20260107T191359Z
LAST-MODIFIED:20260127T025112Z
UID:6380-1767808800-1767819600@nativepeoplesaction.org
SUMMARY:Craig AC Meeting
DESCRIPTION:The Craig Fish and Game will hold a public meeting on Wednesday\, January 7th\, at 6:00 pm. The meeting will be held at the Craig Tribal Office\, located at 505 Front Street\, Craig\, Alaska. The meeting is open to the public\, and accessible for listening via web/teleconference. Agenda items include the following: * Discussion of ADFG Staff comments for Board of Game Hunting and Trapping Proposals for the Southeast Region * Board of Fisheries Statewide Proposals * Discussion of other fish and wildlife topics if needed Join via Zoom at: https://us06web.zoom.us/j/87932112599?pwd=pf2jfU6FVL6HJe17q2mgabWN5SLDod.1 Meeting ID: 879 3211 2599 Passcode: CRAIG By phone: +1-253-215-8782 For more information about this meeting and the Craig AC\, visit the website at Fish and Game Advisory Committees\, contact chair Ellen Hannan at ehannan32@gmail.com or (907) 826-3489\, or contact ADF&G Boards Support Section at sam.kirby@alaska.gov or 907-269-6977 Advisory Committees are established to provide a local forum on fish and wildlife issues. Their purpose includes: 1) developing regulatory proposals\, 2) evaluating regulatory proposals and making recommendations to the appropriate board\, 3) providing a local forum for fish and wildlife conservation and use\, including matters relating to habitat\, 4) advising the appropriate regional council on resources\, and 5) consulting with individuals\, organizations\, and agencies. If you are a person who needs special accommodation in order to participate in any of these public meetings\, please contact Sam Kirbyat 907-269-6977 no later than 48 hours prior to the meeting\, to make any necessary arrangements. ________________________________________________________________________________ Microsoft Teams Need help? Join the meeting now Meeting ID: 239 165 121 350 1 Passcode: Ev2L2FE9 ________________________________ Dial in by phone +1 907-202-7104\,\,651107697# United States\, Anchorage Find a local number Phone conference ID: 651 107 697# Join on a video conferencing device Tenant key: 260748889@t.plcm.vc Video ID: 119 008 526 0 More info For organizers: Meeting options | Reset dial-in PIN ________________________________________________________________________________
URL:https://nativepeoplesaction.org/event/craig-ac-meeting-2/
CATEGORIES:ADF&G Advisory Committees
END:VEVENT
BEGIN:VEVENT
DTSTART;TZID=America/Anchorage:20260107T183000
DTEND;TZID=America/Anchorage:20260107T210000
DTSTAMP:20260421T210826
CREATED:20260107T191559Z
LAST-MODIFIED:20260127T025107Z
UID:6384-1767810600-1767819600@nativepeoplesaction.org
SUMMARY:Delta AC Meeting
DESCRIPTION:The Delta Fish and Game Advisory Committee will meet on Wednesday\, January 7th\, 2026 at 6:30 pm at the Delta Career Advancement Center located at 1696 N Clearwater Ave\, Delta Junction\, AK and by web/teleconference. This meeting is open to the public. Agenda items will include the following: * ADFG Staff Updates * Board of Fisheries Proposals * Board of Game Proposals * Other fisheries\, wildlife\, and committee business as needed A copy of the full agenda\, minutes from the previous meeting\, and other materials will be posted to this Online Public Notice (http://notice.alaska.gov/222181) prior to the start of the meeting. Minutes and audio recordings will be posted to archived meeting notices\, which can be found on the Delta Advisory Committee’s website: https://bit.ly/DeltaAC. To join the meeting from a computer or your mobile phone\, use the meeting link below or dial in by calling (669) 444-9171 and enter the meeting ID. Alternatively\, by providing your phone number to the regional coordinator you may request to be connected to the meeting directly. When joining a meeting by phone\, please remember to press *6 to mute/unmute yourself. If your background noise is interrupting the meeting the meeting host will mute you. Join the meeting online: https://bit.ly/deltaACjan7 (full link for SOA employees: https://us06web.zoom.us/j/84058774429?pwd=WKUoTLLkX930e00KdRGK7c28TLHNSI.1 ) Dial in: (669) 444-9171 Meeting ID: 840 5877 4429 Passcode: 142819 ​ Advisory committees are local groups that meet to discuss fishing and wildlife issues and to provide recommendations to Alaska Board of Fisheries and Alaska Board of Game. All meetings are open to the public. Advisory Committees are intended to provide a local forum on fish and wildlife issues. Their purpose includes: 1) developing regulatory proposals\, 2) evaluating regulatory proposals and making recommendations to the appropriate board\, 3) providing a local forum for fish and wildlife conservation and use\, including matters relating to habitat\, and 4) cooperating and consulting with interested persons and organizations\, including government agencies\, and encourage youth and elder involvement in committee activities. The Department of Fish and Game is committed to building a working environment based on mutual trust and respect between the department and the public\, and among department staff. Fish and Game Advisory Committee members and staff are expected to conduct themselves in a respectful\, appropriate\, courteous\, and professional manner at all times. If you are a person experiencing a disability who needs a special accommodation to participate in these public meetings\, please contact the regional coordinator no later than 48 hours prior to the meeting to make any necessary arrangements. For further information on this meeting or to be added to the electronic email notices for this committee\, please contact the Interior Region Coordinator who’s contact information can be found at the bottom of this notice. Kyle Campbell Interior Region Coordinator Boards Support Section Department of Fish and Game 1300 College Road Fairbanks AK 99701 (907) 459-7263 – phone (907) 251-0204 – text (888) 920-3307 – fax kyle.campbell@alaska.gov
URL:https://nativepeoplesaction.org/event/delta-ac-meeting/
CATEGORIES:ADF&G Advisory Committees
END:VEVENT
END:VCALENDAR