BEGIN:VCALENDAR
VERSION:2.0
PRODID:-// - ECPv6.14.2//NONSGML v1.0//EN
CALSCALE:GREGORIAN
METHOD:PUBLISH
X-ORIGINAL-URL:https://nativepeoplesaction.org
X-WR-CALDESC:Events for 
REFRESH-INTERVAL;VALUE=DURATION:PT1H
X-Robots-Tag:noindex
X-PUBLISHED-TTL:PT1H
BEGIN:VTIMEZONE
TZID:America/Anchorage
BEGIN:DAYLIGHT
TZOFFSETFROM:-0900
TZOFFSETTO:-0800
TZNAME:AKDT
DTSTART:20260308T110000
END:DAYLIGHT
BEGIN:STANDARD
TZOFFSETFROM:-0800
TZOFFSETTO:-0900
TZNAME:AKST
DTSTART:20261101T100000
END:STANDARD
END:VTIMEZONE
BEGIN:VEVENT
DTSTART;TZID=America/Anchorage:20260106T180000
DTEND;TZID=America/Anchorage:20260106T200000
DTSTAMP:20260421T230840
CREATED:20260107T191201Z
LAST-MODIFIED:20260127T025145Z
UID:6374-1767722400-1767729600@nativepeoplesaction.org
SUMMARY:Upper Lynn Canal AC Meeting
DESCRIPTION:Upper Lynn Canal Fish and Game Advisory Committee Meeting (Zoom) The Upper Lynn Canal Fish and Game Advisory Committee will meet on Tuesday\, January 6th\, 2025 at 6:00 PM on Zoom. Agenda items include: * Haines State Forest Management Plan * Chilkoot Corridor * Chilkat State Park * Round table * Other Business Zoom Meeting Information Web Link: https://us06web.zoom.us/j/87080920002?pwd=m2IN8oaHLlb0xMbqWct4BNhqiXlSsy.1 Phone Number: +1 253 205 0468 US Meeting ID: 870 8092 0002 Passcode: ulc Meetings are open to the public and all are welcomed to participate. For further information\, contact Annie Bartholomew at the Department of Fish & Game. To be added to the electronic email notices for Upper Lynn Canal AC Meetings\, please send an email to Annie at the address below. Advisory committees are local groups that meet to discuss fishing and wildlife issues and to provide recommendations to Alaska Board of Fisheries and Alaska Board of Game. All meetings are open to the public. Advisory Committees are intended to provide a local forum on fish and wildlife issues. Their purpose includes: 1) developing regulatory proposals\, 2) evaluating regulatory proposals and making recommendations to the appropriate board\, 3) providing a local forum for fish and wildlife conservation and use\, including matters relating to habitat\, 4) advising the appropriate regional council on resources\, and 5) consulting with individuals\, organizations\, and agencies. If you are a person who needs a special accommodation in order to participate in any of these public meetings\, please contact Boards Support at 907-465-4110 no later than 48 hours prior to the meeting\, to make any necessary arrangements. Contact: Annie Bartholomew Boards Support Section PO Box 115526 Juneau AK 99811-5526 907.465.4046 Fax: 907.465.6094 annie.bartholomew@alaska.gov
URL:https://nativepeoplesaction.org/event/upper-lynn-canal-ac-meeting-2/
CATEGORIES:ADF&G Advisory Committees
END:VEVENT
BEGIN:VEVENT
DTSTART;TZID=America/Anchorage:20260106T180000
DTEND;TZID=America/Anchorage:20260106T203000
DTSTAMP:20260421T230840
CREATED:20260107T191100Z
LAST-MODIFIED:20260127T025140Z
UID:6372-1767722400-1767731400@nativepeoplesaction.org
SUMMARY:Anchorage AC Meeting
DESCRIPTION:Anchorage Advisory Committee Meeting Announcement [A close up of a sign Description automatically generated] The Anchorage Fish & Game Advisory Committee will meet Tuesday\, January 6th\, 2026 at 6:00pm Location: William Jack Hernandez Hatchery\, 941 N. Reeve Blvd Agenda Items Include: Presentation from Tom Lohuis for Region II Sheep Presentation from Kyle Smith for Region II Goats Presentation from Cory Stantorf for GMU 14C Moose Review Board of Game Southeast Proposals Review Board of Game Southcentral Proposals\, Part I Other Game and Fish Business as Necessary The Anchorage Fish and Game Advisory Committee is a collection of community members from all user groups that come together\, discuss Fish and Game issues and recommend changes to current regulations. They also represent their community before the Board of Fisheries and Board of Game at board meetings. This meeting is open to the public. For more information contact: Alaska Department of Fish and Game Leila Williams – ADF&G Boards Support Section (907) 267-2354 Or Chair Kevin Taylor (907) 244-7437
URL:https://nativepeoplesaction.org/event/anchorage-ac-meeting-3/
CATEGORIES:ADF&G Advisory Committees
END:VEVENT
END:VCALENDAR